MooseX-ConfigFromFile v0.14 Perl 5 v5.27.2 darwin-thread-multi-2level

Status
Pass
From
Nigel Horne
Dist
MooseX-ConfigFromFile v0.14
Platform
Perl 5 v5.27.2 darwin-thread-multi-2level
Date
2017-09-12 15:10:06
ID
75c0937a-97cc-11e7-884a-c7be8077e65f
This distribution has been tested as part of the CPAN Testers
project, supporting the Perl programming language.  See
http://wiki.cpantesters.org/ for more information or email
questions to cpan-testers-discuss@perl.org


--
Dear Karen Etheridge,

This is a computer-generated report for MooseX-ConfigFromFile-0.14
on perl 5.27.2, created by CPAN-Reporter-1.2018.

Thank you for uploading your work to CPAN.  Congratulations!
All tests were successful.

Sections of this report:

    * Tester comments
    * Program output
    * Prerequisites
    * Environment and other context

------------------------------
TESTER COMMENTS
------------------------------

Additional comments from tester:

this report is from an automated smoke testing program
and was not reviewed by a human for accuracy

------------------------------
PROGRAM OUTPUT
------------------------------

Output from './Build test':

# 
# Versions for all modules listed in MYMETA.json (including optional ones):
# 
# === Configure Requires ===
# 
#     Module               Want  Have
#     ------------------- ----- -----
#     Module::Build::Tiny 0.007 0.039
# 
# === Test Requires ===
# 
#     Module                Want     Have
#     --------------------- ---- --------
#     ExtUtils::MakeMaker    any     7.30
#     File::Spec             any     3.68
#     Moose                  any   2.2006
#     Scalar::Util           any     1.48
#     Test::Deep             any    1.127
#     Test::Fatal            any    0.014
#     Test::More            0.88 1.302086
#     Test::Requires         any     0.10
#     Test::Without::Module  any     0.20
#     if                     any   0.0607
#     strict                 any     1.11
# 
# === Test Recommends ===
# 
#     Module             Want     Have
#     -------------- -------- --------
#     CPAN::Meta     2.120900 2.150010
#     MooseX::Getopt      any     0.71
# 
# === Runtime Requires ===
# 
#     Module                     Want   Have
#     ------------------------- ----- ------
#     Carp                        any   1.43
#     Moose::Role                 any 2.2006
#     MooseX::Types::Moose        any   0.50
#     MooseX::Types::Path::Tiny 0.005  0.012
#     namespace::autoclean        any   0.28
#     warnings                    any   1.37
# 
# === Other Modules ===
# 
#     Module        Have
#     ------------- ----
#     Pod::Coverage 0.23
# 
t/00-report-prereqs.t .... ok
t/01use.t ................ ok
t/02subclass.t ........... ok
t/03configfile_method.t .. ok
t/04a_getopt.t ........... ok
t/04b_getopt.t ........... ok
t/05_default_sub.t ....... ok
t/zzz-check-breaks.t ..... ok
All tests successful.
Files=8, Tests=63,  2 wallclock secs ( 0.04 usr  0.03 sys +  2.01 cusr  0.67 csys =  2.75 CPU)
Result: PASS

------------------------------
PREREQUISITES
------------------------------

Prerequisite modules loaded:

requires:

    Module                    Need  Have    
    ------------------------- ----- --------
    Carp                      0     1.43    
    Moose::Role               0     2.2006  
    MooseX::Types::Moose      0     0.50    
    MooseX::Types::Path::Tiny 0.005 0.012   
    namespace::autoclean      0     0.28    
    perl                      5.006 5.027002
    warnings                  0     1.37    

build_requires:

    Module                    Need  Have    
    ------------------------- ----- --------
    ExtUtils::MakeMaker       0     7.30    
    File::Spec                0     3.68    
    if                        0     0.0607  
    Moose                     0     2.2006  
    perl                      5.006 5.027002
    Scalar::Util              0     1.48    
    strict                    0     1.11    
    Test::Deep                0     1.127   
    Test::Fatal               0     0.014   
    Test::More                0.88  1.302086
    Test::Requires            0     0.10    
    Test::Without::Module     0     0.20    

configure_requires:

    Module                    Need  Have    
    ------------------------- ----- --------
    Module::Build::Tiny       0.007 0.039   
    perl                      5.006 5.027002


------------------------------
ENVIRONMENT AND OTHER CONTEXT
------------------------------

Environment variables:

    AUTOMATED_TESTING = 1
    LANG = en_US.UTF-8
    LC_ALL = POSIX
    LDFLAGS = 
    PATH = /Users/hornenj/perl5/perlbrew/bin:/Users/hornenj/perl5/perlbrew/perls/perl-5.27.2/bin:/Users/hornenj/perl5/perlbrew/bin:/Users/hornenj/bin:/usr/bin:/bin:/usr/X11R6/bin
    PERL5LIB = /Users/hornenj/.cpan/build/Test-Without-Module-0.20-0/blib/arch:/Users/hornenj/.cpan/build/Test-Without-Module-0.20-0/blib/lib:/Users/hornenj/.cpan/build/MooseX-Types-Path-Tiny-0.012-0/blib/arch:/Users/hornenj/.cpan/build/MooseX-Types-Path-Tiny-0.012-0/blib/lib:/Users/hornenj/.cpan/build/MooseX-Types-Stringlike-0.003-0/blib/arch:/Users/hornenj/.cpan/build/MooseX-Types-Stringlike-0.003-0/blib/lib:/Users/hornenj/.cpan/build/MooseX-Types-0.50-0/blib/arch:/Users/hornenj/.cpan/build/MooseX-Types-0.50-0/blib/lib:/Users/hornenj/.cpan/build/Sub-Exporter-ForMethods-0.100052-0/blib/arch:/Users/hornenj/.cpan/build/Sub-Exporter-ForMethods-0.100052-0/blib/lib:/Users/hornenj/.cpan/build/Carp-Clan-6.06-0/blib/arch:/Users/hornenj/.cpan/build/Carp-Clan-6.06-0/blib/lib:/Users/hornenj/.cpan/build/Log-Message-Simple-0.10-0/blib/arch:/Users/hornenj/.cpan/build/Log-Message-Simple-0.10-0/blib/lib:/Users/hornenj/.cpan/build/Log-Message-0.08-0/blib/arch:/Users/hornenj/.cpan/build/Log-Message-0.08-0/blib/lib:/Users/hornenj/.cpan/build/Devel-PatchPerl-1.48-0/blib/arch:/Users/hornenj/.cpan/build/Devel-PatchPerl-1.48-0/blib/lib:/Users/hornenj/.cpan/build/Config-INI-0.025-0/blib/arch:/Users/hornenj/.cpan/build/Config-INI-0.025-0/blib/lib:/Users/hornenj/.cpan/build/Mixin-Linewise-0.108-0/blib/arch:/Users/hornenj/.cpan/build/Mixin-Linewise-0.108-0/blib/lib:/Users/hornenj/.cpan/build/PerlIO-utf8_strict-0.007-0/blib/arch:/Users/hornenj/.cpan/build/PerlIO-utf8_strict-0.007-0/blib/lib:/Users/hornenj/.cpan/build/CPAN-Perl-Releases-3.34-0/blib/arch:/Users/hornenj/.cpan/build/CPAN-Perl-Releases-3.34-0/blib/lib:/Users/hornenj/.cpan/build/Archive-Extract-0.80-1/blib/arch:/Users/hornenj/.cpan/build/Archive-Extract-0.80-1/blib/lib
    PERL5OPT = 
    PERL5_CPANPLUS_IS_RUNNING = 42311
    PERL5_CPAN_IS_RUNNING = 42311
    PERL5_MINISMOKEBOX = 0.68
    PERLBREW_BASHRC_VERSION = 0.80
    PERLBREW_HOME = /Users/hornenj/.perlbrew
    PERLBREW_LIB = 
    PERLBREW_MANPATH = /Users/hornenj/perl5/perlbrew/perls/perl-5.27.2/man
    PERLBREW_PATH = /Users/hornenj/perl5/perlbrew/bin:/Users/hornenj/perl5/perlbrew/perls/perl-5.27.2/bin
    PERLBREW_PERL = perl-5.27.2
    PERLBREW_ROOT = /Users/hornenj/perl5/perlbrew
    PERLBREW_VERSION = 0.80
    PERL_EXTUTILS_AUTOINSTALL = --defaultdeps
    PERL_LOCAL_LIB_ROOT = 
    PERL_MM_USE_DEFAULT = 1
    PERL_USE_UNSAFE_INC = 1
    SHELL = /bin/bash
    TERM = xterm-256color
    TMPDIR = /var/folders/pz/pd7y1qjs6s3cbk170cw50fjc000c61/T/

Perl special variables (and OS-specific diagnostics, for MSWin32):

    $^X = /Users/hornenj/perl5/perlbrew/perls/perl-5.27.2/bin/perl5.27.2
    $UID/$EUID = 12481 / 12481
    $GID = 14 14 5344 37191 527 12 62 204 399 206 37223 241 223
    $EGID = 14 14 5344 37191 527 12 62 204 399 206 37223 241 223

Perl module toolchain versions installed:

    Module              Have    
    ------------------- --------
    CPAN                2.18    
    CPAN::Meta          2.150010
    Cwd                 3.68    
    ExtUtils::CBuilder  0.280228
    ExtUtils::Command   7.30    
    ExtUtils::Install   2.14    
    ExtUtils::MakeMaker 7.30    
    ExtUtils::Manifest  1.70    
    ExtUtils::ParseXS   3.35    
    File::Spec          3.68    
    JSON                2.94    
    JSON::PP            2.94    
    Module::Build       0.4224  
    Module::Signature   n/a     
    Parse::CPAN::Meta   2.150010
    Test::Harness       3.39    
    Test::More          1.302086
    YAML                1.23    
    YAML::Syck          1.30    
    version             0.9918  


--

Summary of my perl5 (revision 5 version 27 subversion 2) configuration:
   
  Platform:
    osname=darwin
    osvers=15.6.0
    archname=darwin-thread-multi-2level
    uname='darwin ncbimac2027 15.6.0 darwin kernel version 15.6.0: sun jun 4 21:43:07 pdt 2017; root:xnu-3248.70.3~1release_x86_64 x86_64 '
    config_args='-de -Dprefix=/Users/hornenj/perl5/perlbrew/perls/perl-5.27.2 -Duseithreads -Dusemultiplicity -Dusedevel -Dusedevel -Accflags=-O2 -W -Wformat=2 -Wswitch -Wshadow -Wwrite-strings -Wuninitialized -Wall -pipe -fomit-frame-pointer -pedantic -D_FORTIFY_SOURCE=2 -Wpointer-arith -Wstrict-prototypes -fstack-protector -Wstack-protector -Wextra -Wbad-function-cast -Wcast-align -Wcast-qual -Wdisabled-optimization -Wendif-labels -Wfloat-equal -Wformat-nonliteral -Winline -Wmissing-declarations -Wmissing-prototypes -Wnested-externs -Wpointer-arith -Wundef -Wformat-security -ftree-vectorize -mmmx -msse -mfpmath=sse -msse2 -msse3 -msse4.1 -msse4.2 -fdiagnostics-color=auto -mtune=native -march=native -I/Users/hornenj/openssl/include -Acc=cc -Aeval:scriptdir=/Users/hornenj/perl5/perlbrew/perls/perl-5.27.2/bin'
    hint=recommended
    useposix=true
    d_sigaction=define
    useithreads=define
    usemultiplicity=define
    use64bitint=define
    use64bitall=define
    uselongdouble=undef
    usemymalloc=n
    default_inc_excludes_dot=define
    bincompat5005=undef
  Compiler:
    cc=' cc'
    ccflags ='-fno-common -DPERL_DARWIN -O2 -W -Wformat=2 -Wswitch -Wshadow -Wwrite-strings -Wuninitialized -Wall -pipe -fomit-frame-pointer -pedantic -D_FORTIFY_SOURCE=2 -Wpointer-arith -Wstrict-prototypes -fstack-protector -Wstack-protector -Wextra -Wbad-function-cast -Wcast-align -Wcast-qual -Wdisabled-optimization -Wendif-labels -Wfloat-equal -Wformat-nonliteral -Winline -Wmissing-declarations -Wmissing-prototypes -Wnested-externs -Wpointer-arith -Wundef -Wformat-security -ftree-vectorize -mmmx -msse -mfpmath=sse -msse2 -msse3 -msse4.1 -msse4.2 -fdiagnostics-color=auto -mtune=native -march=native -I/Users/hornenj/openssl/include -fno-strict-aliasing -fstack-protector-strong -I/usr/local/include'
    optimize='-O3'
    cppflags='-fno-common -DPERL_DARWIN -O2 -W -Wformat=2 -Wswitch -Wshadow -Wwrite-strings -Wuninitialized -Wall -pipe -fomit-frame-pointer -pedantic -D_FORTIFY_SOURCE=2 -Wpointer-arith -Wstrict-prototypes -fstack-protector -Wstack-protector -Wextra -Wbad-function-cast -Wcast-align -Wcast-qual -Wdisabled-optimization -Wendif-labels -Wfloat-equal -Wformat-nonliteral -Winline -Wmissing-declarations -Wmissing-prototypes -Wnested-externs -Wpointer-arith -Wundef -Wformat-security -ftree-vectorize -mmmx -msse -mfpmath=sse -msse2 -msse3 -msse4.1 -msse4.2 -fdiagnostics-color=auto -mtune=native -march=native -I/Users/hornenj/openssl/include -fno-strict-aliasing -fstack-protector-strong -I/usr/local/include'
    ccversion=''
    gccversion='4.2.1 Compatible Apple LLVM 8.0.0 (clang-800.0.42.1)'
    gccosandvers=''
    intsize=4
    longsize=8
    ptrsize=8
    doublesize=8
    byteorder=12345678
    doublekind=3
    d_longlong=define
    longlongsize=8
    d_longdbl=define
    longdblsize=16
    longdblkind=3
    ivtype='long'
    ivsize=8
    nvtype='double'
    nvsize=8
    Off_t='off_t'
    lseeksize=8
    alignbytes=8
    prototype=define
  Linker and Libraries:
    ld='env MACOSX_DEPLOYMENT_TARGET=10.3 cc'
    ldflags =' -fstack-protector-strong -L/usr/local/lib'
    libpth=/usr/local/lib /Applications/Xcode.app/Contents/Developer/Toolchains/XcodeDefault.xctoolchain/usr/bin/../lib/clang/8.0.0/lib /Applications/Xcode.app/Contents/Developer/Toolchains/XcodeDefault.xctoolchain/usr/lib /usr/lib
    libs=-lpthread -ldbm -ldl -lm -lutil -lc
    perllibs=-lpthread -ldl -lm -lutil -lc
    libc=
    so=dylib
    useshrplib=false
    libperl=libperl.a
    gnulibc_version=''
  Dynamic Linking:
    dlsrc=dl_dlopen.xs
    dlext=bundle
    d_dlsymun=undef
    ccdlflags=' '
    cccdlflags=' '
    lddlflags=' -bundle -undefined dynamic_lookup -L/usr/local/lib -fstack-protector-strong'


Characteristics of this binary (from libperl): 
  Compile-time options:
    HAS_TIMES
    MULTIPLICITY
    PERLIO_LAYERS
    PERL_COPY_ON_WRITE
    PERL_DONT_CREATE_GVSV
    PERL_IMPLICIT_CONTEXT
    PERL_MALLOC_WRAP
    PERL_OP_PARENT
    PERL_PRESERVE_IVUV
    PERL_USE_DEVEL
    USE_64_BIT_ALL
    USE_64_BIT_INT
    USE_ITHREADS
    USE_LARGE_FILES
    USE_LOCALE
    USE_LOCALE_COLLATE
    USE_LOCALE_CTYPE
    USE_LOCALE_NUMERIC
    USE_LOCALE_TIME
    USE_PERLIO
    USE_PERL_ATOF
    USE_REENTRANT_API
  Locally applied patches:
    Devel::PatchPerl 1.30
  Built under darwin
  Compiled at Aug 23 2017 16:49:33
  %ENV:
    PERL5LIB="/Users/hornenj/.cpan/build/Test-Without-Module-0.20-0/blib/arch:/Users/hornenj/.cpan/build/Test-Without-Module-0.20-0/blib/lib:/Users/hornenj/.cpan/build/MooseX-Types-Path-Tiny-0.012-0/blib/arch:/Users/hornenj/.cpan/build/MooseX-Types-Path-Tiny-0.012-0/blib/lib:/Users/hornenj/.cpan/build/MooseX-Types-Stringlike-0.003-0/blib/arch:/Users/hornenj/.cpan/build/MooseX-Types-Stringlike-0.003-0/blib/lib:/Users/hornenj/.cpan/build/MooseX-Types-0.50-0/blib/arch:/Users/hornenj/.cpan/build/MooseX-Types-0.50-0/blib/lib:/Users/hornenj/.cpan/build/Sub-Exporter-ForMethods-0.100052-0/blib/arch:/Users/hornenj/.cpan/build/Sub-Exporter-ForMethods-0.100052-0/blib/lib:/Users/hornenj/.cpan/build/Carp-Clan-6.06-0/blib/arch:/Users/hornenj/.cpan/build/Carp-Clan-6.06-0/blib/lib:/Users/hornenj/.cpan/build/Log-Message-Simple-0.10-0/blib/arch:/Users/hornenj/.cpan/build/Log-Message-Simple-0.10-0/blib/lib:/Users/hornenj/.cpan/build/Log-Message-0.08-0/blib/arch:/Users/hornenj/.cpan/build/Log-Message-0.08-0/blib/lib:/Users/hornenj/.cpan/build/Devel-PatchPerl-1.48-0/blib/arch:/Users/hornenj/.cpan/build/Devel-PatchPerl-1.48-0/blib/lib:/Users/hornenj/.cpan/build/Config-INI-0.025-0/blib/arch:/Users/hornenj/.cpan/build/Config-INI-0.025-0/blib/lib:/Users/hornenj/.cpan/build/Mixin-Linewise-0.108-0/blib/arch:/Users/hornenj/.cpan/build/Mixin-Linewise-0.108-0/blib/lib:/Users/hornenj/.cpan/build/PerlIO-utf8_strict-0.007-0/blib/arch:/Users/hornenj/.cpan/build/PerlIO-utf8_strict-0.007-0/blib/lib:/Users/hornenj/.cpan/build/CPAN-Perl-Releases-3.34-0/blib/arch:/Users/hornenj/.cpan/build/CPAN-Perl-Releases-3.34-0/blib/lib:/Users/hornenj/.cpan/build/Archive-Extract-0.80-1/blib/arch:/Users/hornenj/.cpan/build/Archive-Extract-0.80-1/blib/lib"
    PERL5OPT=""
    PERL5_CPANPLUS_IS_RUNNING="42311"
    PERL5_CPAN_IS_RUNNING="42311"
    PERL5_MINISMOKEBOX="0.68"
    PERLBREW_BASHRC_VERSION="0.80"
    PERLBREW_HOME="/Users/hornenj/.perlbrew"
    PERLBREW_LIB=""
    PERLBREW_MANPATH="/Users/hornenj/perl5/perlbrew/perls/perl-5.27.2/man"
    PERLBREW_PATH="/Users/hornenj/perl5/perlbrew/bin:/Users/hornenj/perl5/perlbrew/perls/perl-5.27.2/bin"
    PERLBREW_PERL="perl-5.27.2"
    PERLBREW_ROOT="/Users/hornenj/perl5/perlbrew"
    PERLBREW_VERSION="0.80"
    PERL_EXTUTILS_AUTOINSTALL="--defaultdeps"
    PERL_LOCAL_LIB_ROOT=""
    PERL_MM_USE_DEFAULT="1"
    PERL_USE_UNSAFE_INC="1"
  @INC:
    /Users/hornenj/.cpan/build/Test-Without-Module-0.20-0/blib/arch
    /Users/hornenj/.cpan/build/Test-Without-Module-0.20-0/blib/lib
    /Users/hornenj/.cpan/build/MooseX-Types-Path-Tiny-0.012-0/blib/arch
    /Users/hornenj/.cpan/build/MooseX-Types-Path-Tiny-0.012-0/blib/lib
    /Users/hornenj/.cpan/build/MooseX-Types-Stringlike-0.003-0/blib/arch
    /Users/hornenj/.cpan/build/MooseX-Types-Stringlike-0.003-0/blib/lib
    /Users/hornenj/.cpan/build/MooseX-Types-0.50-0/blib/arch
    /Users/hornenj/.cpan/build/MooseX-Types-0.50-0/blib/lib
    /Users/hornenj/.cpan/build/Sub-Exporter-ForMethods-0.100052-0/blib/arch
    /Users/hornenj/.cpan/build/Sub-Exporter-ForMethods-0.100052-0/blib/lib
    /Users/hornenj/.cpan/build/Carp-Clan-6.06-0/blib/arch
    /Users/hornenj/.cpan/build/Carp-Clan-6.06-0/blib/lib
    /Users/hornenj/.cpan/build/Log-Message-Simple-0.10-0/blib/arch
    /Users/hornenj/.cpan/build/Log-Message-Simple-0.10-0/blib/lib
    /Users/hornenj/.cpan/build/Log-Message-0.08-0/blib/arch
    /Users/hornenj/.cpan/build/Log-Message-0.08-0/blib/lib
    /Users/hornenj/.cpan/build/Devel-PatchPerl-1.48-0/blib/arch
    /Users/hornenj/.cpan/build/Devel-PatchPerl-1.48-0/blib/lib
    /Users/hornenj/.cpan/build/Config-INI-0.025-0/blib/arch
    /Users/hornenj/.cpan/build/Config-INI-0.025-0/blib/lib
    /Users/hornenj/.cpan/build/Mixin-Linewise-0.108-0/blib/arch
    /Users/hornenj/.cpan/build/Mixin-Linewise-0.108-0/blib/lib
    /Users/hornenj/.cpan/build/PerlIO-utf8_strict-0.007-0/blib/arch
    /Users/hornenj/.cpan/build/PerlIO-utf8_strict-0.007-0/blib/lib
    /Users/hornenj/.cpan/build/CPAN-Perl-Releases-3.34-0/blib/arch
    /Users/hornenj/.cpan/build/CPAN-Perl-Releases-3.34-0/blib/lib
    /Users/hornenj/.cpan/build/Archive-Extract-0.80-1/blib/arch
    /Users/hornenj/.cpan/build/Archive-Extract-0.80-1/blib/lib
    /Users/hornenj/perl5/perlbrew/perls/perl-5.27.2/lib/site_perl/5.27.2/darwin-thread-multi-2level
    /Users/hornenj/perl5/perlbrew/perls/perl-5.27.2/lib/site_perl/5.27.2
    /Users/hornenj/perl5/perlbrew/perls/perl-5.27.2/lib/5.27.2/darwin-thread-multi-2level
    /Users/hornenj/perl5/perlbrew/perls/perl-5.27.2/lib/5.27.2
    .