Wiki-Toolkit v0.87 Perl 5 v5.42.0 RC2 aarch64-freebsd

Status
Pass
From
Slaven Rezić
Dist
Wiki-Toolkit v0.87
Platform
Perl 5 v5.42.0 RC2 aarch64-freebsd
Date
2025-07-03 06:39:24
ID
75586e1a-57d8-11f0-a6db-4e406e8775ea
This distribution has been tested as part of the CPAN Testers
project, supporting the Perl programming language.  See
http://wiki.cpantesters.org/ for more information or email
questions to cpan-testers-discuss@perl.org


--
Dear bob walker,

This is a computer-generated report for Wiki-Toolkit-0.87
on perl 5.42.0, created by CPAN-Reporter-1.2020.

Thank you for uploading your work to CPAN.  Congratulations!
All tests were successful.

Sections of this report:

    * Tester comments
    * Program output
    * Prerequisites
    * Environment and other context

------------------------------
TESTER COMMENTS
------------------------------

Additional comments from tester:

none provided

------------------------------
PROGRAM OUTPUT
------------------------------

Output from '/usr/bin/make test':

PERL_DL_NONLAZY=1 "/usr/perl5.42.0-RC2/bin/perl" "-MExtUtils::Command::MM" "-MTest::Harness" "-e" "undef *Test::Harness::Switches; test_harness(0, 'blib/lib', 'blib/arch')" t/*.t
t/001_load.t ........................... ok
t/002_datastore_setup.t ................ ok
Warning: unable to close filehandle properly: Bad file descriptor during global destruction.
t/003_instantiate.t .................... ok
Warning: unable to close filehandle properly: Bad file descriptor during global destruction.
t/004_write_and_retrieve.t ............. ok
Warning: unable to close filehandle properly: Bad file descriptor during global destruction.
t/005_delete.t ......................... ok
Warning: unable to close filehandle properly: Bad file descriptor during global destruction.
t/006_list_all.t ....................... ok
Warning: unable to close filehandle properly: Bad file descriptor during global destruction.
t/007_search.t ......................... ok
Warning: unable to close filehandle properly: Bad file descriptor during global destruction.
t/008_write_and_rewrite.t .............. ok
Warning: unable to close filehandle properly: Bad file descriptor during global destruction.
t/009_backlinks.t ...................... ok
Warning: unable to close filehandle properly: Bad file descriptor during global destruction.
t/010_metadata.t ....................... ok
Warning: unable to close filehandle properly: Bad file descriptor during global destruction.
t/011_recent_changes.t ................. ok
Warning: unable to close filehandle properly: Bad file descriptor during global destruction.
t/012_blank_data.t ..................... ok
Warning: unable to close filehandle properly: Bad file descriptor during global destruction.
t/013_fuzzy_title_match.t .............. ok
Warning: unable to close filehandle properly: Bad file descriptor during global destruction.
t/014_advanced_metadata.t .............. ok
Warning: unable to close filehandle properly: Bad file descriptor during global destruction.
t/015_dangling_links.t ................. ok
Warning: unable to close filehandle properly: Bad file descriptor during global destruction.
t/016_recent_changes_between.t ......... ok
Warning: unable to close filehandle properly: Bad file descriptor during global destruction.
t/017_delete_version.t ................. ok
Warning: unable to close filehandle properly: Bad file descriptor during global destruction.
t/018_rc_multiple_metadata_criteria.t .. ok
Warning: unable to close filehandle properly: Bad file descriptor during global destruction.
t/019_recent_changes_case.t ............ ok
Warning: unable to close filehandle properly: Bad file descriptor during global destruction.
t/020_node_exists_case_insensitive.t ... ok
Warning: unable to close filehandle properly: Bad file descriptor during global destruction.
t/021_moderation.t ..................... ok
Warning: unable to close filehandle properly: Bad file descriptor during global destruction.
t/022_list_unmoderated.t ............... ok
Warning: unable to close filehandle properly: Bad file descriptor during global destruction.
t/025_list_node_all_versions.t ......... ok
Warning: unable to close filehandle properly: Bad file descriptor during global destruction.
t/026_schema_current.t ................. ok
Warning: unable to close filehandle properly: Bad file descriptor during global destruction.
t/027_list_last_version_before.t ....... ok
Warning: unable to close filehandle properly: Bad file descriptor during global destruction.
t/040_rename.t ......................... ok
Warning: unable to close filehandle properly: Bad file descriptor during global destruction.
t/041_long_node_names.t ................ ok
t/050_mysql_store.t .................... ok
t/051_pg_store.t ....................... ok
t/052_sqlite_store.t ................... ok
Warning: unable to close filehandle properly: Bad file descriptor during global destruction.
t/060_recent_changes_new_only.t ........ ok
Warning: unable to close filehandle properly: Bad file descriptor during global destruction.
t/061_list_metadata_by_type.t .......... ok
Warning: unable to close filehandle properly: Bad file descriptor during global destruction.
t/062_recent_changes_metadata_was.t .... ok
Name "Search::InvertedIndex::DB::DB_File_SplitHash::FH_COUNTER_1" used only once: possible typo at /usr/perl5.42.0-RC2/lib/site_perl/5.42.0/Search/InvertedIndex/DB/DB_File_SplitHash.pm line 673.
Warning: unable to close filehandle properly: Bad file descriptor during global destruction.
t/100_formatting.t ..................... ok
t/101_default_formatter.t .............. ok
t/102_multiple_formatter.t ............. ok
Warning: unable to close filehandle properly: Bad file descriptor during global destruction.
t/150_plugins.t ........................ ok
Warning: unable to close filehandle properly: Bad file descriptor during global destruction.
t/151_plugin_methods.t ................. ok
Warning: unable to close filehandle properly: Bad file descriptor during global destruction.
t/152_pre_plugin_approval.t ............ ok
Warning: unable to close filehandle properly: Bad file descriptor during global destruction.
t/297_feed_rss_recentchanges.t ......... ok
Name "Search::InvertedIndex::DB::DB_File_SplitHash::FH_COUNTER_1" used only once: possible typo at /usr/perl5.42.0-RC2/lib/site_perl/5.42.0/Search/InvertedIndex/DB/DB_File_SplitHash.pm line 673.
Warning: unable to close filehandle properly: Bad file descriptor during global destruction.
t/298_feed_rss_node_all_versions.t ..... ok
Name "Search::InvertedIndex::DB::DB_File_SplitHash::FH_COUNTER_1" used only once: possible typo at /usr/perl5.42.0-RC2/lib/site_perl/5.42.0/Search/InvertedIndex/DB/DB_File_SplitHash.pm line 673.
Warning: unable to close filehandle properly: Bad file descriptor during global destruction.
t/299_feed_rss_gen_node_dist_feed.t .... ok
Name "Search::InvertedIndex::DB::DB_File_SplitHash::FH_COUNTER_1" used only once: possible typo at /usr/perl5.42.0-RC2/lib/site_perl/5.42.0/Search/InvertedIndex/DB/DB_File_SplitHash.pm line 673.
Warning: unable to close filehandle properly: Bad file descriptor during global destruction.
t/300_feed_atom_setup.t ................ ok
Name "Search::InvertedIndex::DB::DB_File_SplitHash::FH_COUNTER_1" used only once: possible typo at /usr/perl5.42.0-RC2/lib/site_perl/5.42.0/Search/InvertedIndex/DB/DB_File_SplitHash.pm line 673.
Warning: unable to close filehandle properly: Bad file descriptor during global destruction.
t/301_feed_atom_add_test_data.t ........ ok
Name "Search::InvertedIndex::DB::DB_File_SplitHash::FH_COUNTER_1" used only once: possible typo at /usr/perl5.42.0-RC2/lib/site_perl/5.42.0/Search/InvertedIndex/DB/DB_File_SplitHash.pm line 673.
	(in cleanup) Can't call method "sync" on an undefined value at /usr/perl5.42.0-RC2/lib/site_perl/5.42.0/Tie/DB_File/SplitHash.pm line 269 during global destruction.
Warning: unable to close filehandle properly: Bad file descriptor during global destruction.
t/302_feed_atom_recentchanges.t ........ ok
Name "Search::InvertedIndex::DB::DB_File_SplitHash::FH_COUNTER_1" used only once: possible typo at /usr/perl5.42.0-RC2/lib/site_perl/5.42.0/Search/InvertedIndex/DB/DB_File_SplitHash.pm line 673.
Warning: unable to close filehandle properly: Bad file descriptor during global destruction.
t/303_feed_atom_node_all_versions.t .... ok
Name "Search::InvertedIndex::DB::DB_File_SplitHash::FH_COUNTER_1" used only once: possible typo at /usr/perl5.42.0-RC2/lib/site_perl/5.42.0/Search/InvertedIndex/DB/DB_File_SplitHash.pm line 673.
Warning: unable to close filehandle properly: Bad file descriptor during global destruction.
t/304_feed_atom_gen_node_dist_feed.t ... ok
t/400_upgrade.t ........................ ok
Warning: unable to close filehandle properly: Bad file descriptor during global destruction.
t/401_null_change.t .................... ok
t/500_pod.t ............................ ok
Warning: unable to close filehandle properly: Bad file descriptor during global destruction.
t/700_lucy_bug.t ....................... ok
t/701_lucy_setup.t ..................... ok
Warning: unable to close filehandle properly: Bad file descriptor during global destruction.
t/702_metadata_search.t ................ ok
Warning: unable to close filehandle properly: Bad file descriptor during global destruction.
t/703_search_weightings.t .............. ok
Warning: unable to close filehandle properly: Bad file descriptor during global destruction.
t/704_search_content_munging.t ......... ok
Warning: unable to close filehandle properly: Bad file descriptor during global destruction.
t/705_search_exclusion.t ............... ok
All tests successful.
Files=56, Tests=1523, 98 wallclock secs ( 0.51 usr  0.16 sys +  8.84 cusr  2.44 csys = 11.95 CPU)
Result: PASS

------------------------------
PREREQUISITES
------------------------------

Prerequisite modules loaded:

requires:

    Module              Need Have    
    ------------------- ---- --------
    CGI                 0    4.69    
    DBD::SQLite         0.25 1.76    
    DBI                 0    1.647   
    Digest::MD5         0    2.59    
    Digest::SHA         0    6.04    
    HTML::PullParser    0    3.83    
    Test::More          0    1.302214
    Text::WikiFormat    0.78 0.81    
    Time::Piece         0    1.36    

build_requires:

    Module              Need Have    
    ------------------- ---- --------
    ExtUtils::MakeMaker 0    7.76    

configure_requires:

    Module              Need Have    
    ------------------- ---- --------
    ExtUtils::MakeMaker 0    7.76    


------------------------------
ENVIRONMENT AND OTHER CONTEXT
------------------------------

Environment variables:

    LANG = C.UTF-8
    LC_ALL = de_DE.UTF-8
    PATH = /usr/local/bin:/usr/bin:/bin:/usr/local/sbin:/usr/sbin:/sbin:/home/cpansand/bin/freebsd14.1:/home/cpansand/bin/sh:/home/cpansand/bin:/usr/games:/home/cpansand/devel:/home/eserte/src/srezic-misc/scripts
    PERL5LIB = 
    PERL5OPT = 
    PERL5_CPANPLUS_IS_RUNNING = 96953
    PERL5_CPAN_IS_RUNNING = 96953
    PERL5_CPAN_IS_RUNNING_IN_RECURSION = 92810,96953
    PERLDOC = -MPod::Perldoc::ToTextOverstrike
    PERL_BATCH = yes
    PERL_CANARY_STABILITY_NOPROMPT = 1
    PERL_CPAN_REPORTER_CONFIG = /var/tmp/cpansmoker-1023/2025070214/cpanreporter_001_config.ini
    PERL_EXTUTILS_AUTOINSTALL = --defaultdeps
    PERL_PARALLEL_SMOKER = yes
    PERL_USE_UNSAFE_INC = 1
    SHELL = /usr/local/bin/zsh
    TERM = screen
    TMPDIR = /var/tmp/cpansmoker-1023/2025070214

Perl special variables (and OS-specific diagnostics, for MSWin32):

    $^X = /usr/perl5.42.0-RC2/bin/perl
    $UID/$EUID = 1023 / 1023
    $GID = 1023 1023
    $EGID = 1023 1023

Perl module toolchain versions installed:

    Module              Have    
    ------------------- --------
    CPAN                2.38    
    CPAN::Meta          2.150010
    Cwd                 3.94    
    ExtUtils::CBuilder  0.280242
    ExtUtils::Command   7.76    
    ExtUtils::Install   2.22    
    ExtUtils::MakeMaker 7.76    
    ExtUtils::Manifest  1.75    
    ExtUtils::ParseXS   3.57    
    File::Spec          3.94    
    JSON                4.10    
    JSON::PP            4.16    
    Module::Build       0.4234  
    Module::Signature   n/a     
    Parse::CPAN::Meta   2.150010
    Test2               1.302214
    Test::Harness       3.52    
    Test::More          1.302214
    YAML                1.31    
    YAML::Syck          1.34    
    version             0.9933  


--

Summary of my perl5 (revision 5 version 42 subversion 0) configuration:
   
  Platform:
    osname=freebsd
    osvers=14.3-stable
    archname=aarch64-freebsd
    uname='freebsd cloud9.bbbike.org 14.3-stable freebsd 14.3-stable stable14-n271785-fad4064226b2 generic arm64 '
    config_args='-ds -e -Dprefix=/usr/perl5.42.0-RC2 -Uinstallusrbinperl -Dcf_email=srezic@cpan.org -Doptimize=-O2 -pipe'
    hint=recommended
    useposix=true
    d_sigaction=define
    useithreads=undef
    usemultiplicity=undef
    use64bitint=define
    use64bitall=define
    uselongdouble=undef
    usemymalloc=n
    default_inc_excludes_dot=define
  Compiler:
    cc='cc'
    ccflags ='-DHAS_FPSETMASK -DHAS_FLOATINGPOINT_H -DNO_POSIX_2008_LOCALE -fno-strict-aliasing -pipe -fstack-protector-strong -I/usr/local/include'
    optimize='-O2 -pipe'
    cppflags='-DHAS_FPSETMASK -DHAS_FLOATINGPOINT_H -DNO_POSIX_2008_LOCALE -fno-strict-aliasing -pipe -fstack-protector-strong -I/usr/local/include'
    ccversion=''
    gccversion='FreeBSD Clang 19.1.7 (https://github.com/llvm/llvm-project.git llvmorg-19.1.7-0-gcd708029e0b2)'
    gccosandvers=''
    intsize=4
    longsize=8
    ptrsize=8
    doublesize=8
    byteorder=12345678
    doublekind=3
    d_longlong=define
    longlongsize=8
    d_longdbl=define
    longdblsize=16
    longdblkind=1
    ivtype='long'
    ivsize=8
    nvtype='double'
    nvsize=8
    Off_t='off_t'
    lseeksize=8
    alignbytes=8
    prototype=define
  Linker and Libraries:
    ld='cc'
    ldflags ='-Wl,-E  -fstack-protector-strong -L/usr/local/lib'
    libpth=/usr/lib /usr/local/lib /usr/lib/clang/19/lib
    libs=-lpthread -lgdbm -ldl -lm -lcrypt -lutil -lc
    perllibs=-lpthread -ldl -lm -lcrypt -lutil -lc
    libc=
    so=so
    useshrplib=false
    libperl=libperl.a
    gnulibc_version=''
  Dynamic Linking:
    dlsrc=dl_dlopen.xs
    dlext=so
    d_dlsymun=undef
    ccdlflags=' '
    cccdlflags='-DPIC -fPIC'
    lddlflags='-shared  -L/usr/local/lib -fstack-protector-strong'


Characteristics of this binary (from libperl): 
  Compile-time options:
    HAS_LONG_DOUBLE
    HAS_STRTOLD
    HAS_TIMES
    PERLIO_LAYERS
    PERL_COPY_ON_WRITE
    PERL_DONT_CREATE_GVSV
    PERL_HASH_FUNC_SIPHASH13
    PERL_HASH_USE_SBOX32
    PERL_MALLOC_WRAP
    PERL_OP_PARENT
    PERL_PRESERVE_IVUV
    PERL_USE_SAFE_PUTENV
    USE_64_BIT_ALL
    USE_64_BIT_INT
    USE_LARGE_FILES
    USE_LOCALE
    USE_LOCALE_COLLATE
    USE_LOCALE_CTYPE
    USE_LOCALE_NUMERIC
    USE_LOCALE_TIME
    USE_PERLIO
    USE_PERL_ATOF
  Locally applied patches:
    RC2
  Built under freebsd
  Compiled at Jun 28 2025 11:27:41
  %ENV:
    PERL5LIB=""
    PERL5OPT=""
    PERL5_CPANPLUS_IS_RUNNING="96953"
    PERL5_CPAN_IS_RUNNING="96953"
    PERL5_CPAN_IS_RUNNING_IN_RECURSION="92810,96953"
    PERLDOC="-MPod::Perldoc::ToTextOverstrike"
    PERL_BATCH="yes"
    PERL_CANARY_STABILITY_NOPROMPT="1"
    PERL_CPAN_REPORTER_CONFIG="/var/tmp/cpansmoker-1023/2025070214/cpanreporter_001_config.ini"
    PERL_EXTUTILS_AUTOINSTALL="--defaultdeps"
    PERL_PARALLEL_SMOKER="yes"
    PERL_USE_UNSAFE_INC="1"
  @INC:
    /usr/perl5.42.0-RC2/lib/site_perl/5.42.0/aarch64-freebsd
    /usr/perl5.42.0-RC2/lib/site_perl/5.42.0
    /usr/perl5.42.0-RC2/lib/5.42.0/aarch64-freebsd
    /usr/perl5.42.0-RC2/lib/5.42.0
    .