Mail-Mbox-MessageParser v1.5111 Perl 5 v5.41.5 x86_64-linux-thread-multi-ld

Status
Pass
From
Andreas J. König (ANDK)
Dist
Mail-Mbox-MessageParser v1.5111
Platform
Perl 5 v5.41.5 x86_64-linux-thread-multi-ld
Date
2024-11-26 00:29:09
ID
742d3450-ab8d-11ef-a3e9-1b56762193cd
This distribution has been tested as part of the CPAN Testers
project, supporting the Perl programming language.  See
http://wiki.cpantesters.org/ for more information or email
questions to cpan-testers-discuss@perl.org


--
Dear David Coppit,

This is a computer-generated report for Mail-Mbox-MessageParser-1.5111
on perl 5.41.5, created by CPAN-Reporter-1.2020.

Thank you for uploading your work to CPAN.  Congratulations!
All tests were successful.

Sections of this report:

    * Tester comments
    * Program output
    * Prerequisites
    * Environment and other context

------------------------------
TESTER COMMENTS
------------------------------

Additional comments from tester:

this report is from an automated smoke testing program
and was not reviewed by a human for accuracy

------------------------------
PROGRAM OUTPUT
------------------------------

Output from '/usr/bin/make test':

PERL_DL_NONLAZY=1 "/tmp/basesmoker-reloperl-C2pt/bin/perl" "-MExtUtils::Command::MM" "-MTest::Harness" "-e" "undef *Test::Harness::Switches; test_harness(1, 'blib/lib', 'blib/arch')" t/*.t
t/000_standard__compile.t ....... 
1..6
ok 1 - blib/lib/Mail/Mbox/MessageParser.pm compiles
ok 2 - blib/lib/Mail/Mbox/MessageParser/Cache.pm compiles
ok 3 - blib/lib/Mail/Mbox/MessageParser/Config.pm compiles
ok 4 - blib/lib/Mail/Mbox/MessageParser/Grep.pm compiles
ok 5 - blib/lib/Mail/Mbox/MessageParser/MetaInfo.pm compiles
ok 6 - blib/lib/Mail/Mbox/MessageParser/Perl.pm compiles
ok
t/000_standard__perl_critic.t ... skipped: Author test. Set $ENV{TEST_AUTHOR} to a true value to run.
t/000_standard__pod.t ........... 
1..6
ok 1 - POD test for blib/lib/Mail/Mbox/MessageParser.pm
ok 2 - POD test for blib/lib/Mail/Mbox/MessageParser/Grep.pm
ok 3 - POD test for blib/lib/Mail/Mbox/MessageParser/MetaInfo.pm
ok 4 - POD test for blib/lib/Mail/Mbox/MessageParser/Cache.pm
ok 5 - POD test for blib/lib/Mail/Mbox/MessageParser/Config.pm
ok 6 - POD test for blib/lib/Mail/Mbox/MessageParser/Perl.pm
ok
t/000_standard__pod_coverage.t .. 
1..6
ok 1 - Pod coverage on Mail::Mbox::MessageParser
ok 2 - Pod coverage on Mail::Mbox::MessageParser::Grep
ok 3 - Pod coverage on Mail::Mbox::MessageParser::MetaInfo
ok 4 - Pod coverage on Mail::Mbox::MessageParser::Cache
ok 5 - Pod coverage on Mail::Mbox::MessageParser::Config
ok 6 - Pod coverage on Mail::Mbox::MessageParser::Perl
ok
t/appended_mailbox.t ............ 
1..6
Testing modified mailbox with Perl implementation
Comparing /tmp/FohdPX9NlZ to t/mailboxes/mailarc-1.txt
Output /tmp/FohdPX9NlZ looks good.
ok 1 - Computing differences
Testing modified mailbox with Cache implementation
Comparing /tmp/A16wKrSwdL to t/mailboxes/mailarc-1.txt
Output /tmp/A16wKrSwdL looks good.
ok 2 - Computing differences
Testing modified mailbox with Grep implementation
ok 3 # skip GNU grep not available
Testing modified mailbox with Perl implementation
Comparing /tmp/Lu64Aemqep to t/mailboxes/mailarc-1.txt
Output /tmp/Lu64Aemqep looks good.
ok 4 - Computing differences
Testing modified mailbox with Cache implementation
Comparing /tmp/NKPhJ_Gy15 to t/mailboxes/mailarc-1.txt
Output /tmp/NKPhJ_Gy15 looks good.
ok 5 - Computing differences
Testing modified mailbox with Grep implementation
ok 6 # skip GNU grep not available
ok
t/bzip2.t ....................... 
1..1
Running test:
  "/usr/bin/cat" "t/mailboxes/mailarc-2.txt.bz2" | "/usr/bin/bzip2" -cd
Comparing /tmp/QFWvbOj7DJ to t/results/mailarc-2.txt
Output /tmp/QFWvbOj7DJ looks good.
Comparing /tmp/ygkF3cZTvr to t/results/none
Output /tmp/ygkF3cZTvr looks good.
ok 1 - Computing differences
ok
t/endline.t ..................... 
1..8
Testing filename: t/mailboxes/mailarc-1-dos.txt
ok 1 - Dos endline expected
ok 2 - Dos endline expected
ok 3 - Dos endline expected
ok 4 # skip GNU grep not available
Testing filename: t/mailboxes/mailarc-1.txt
ok 5 - Unix endline expected
ok 6 - Unix endline expected
ok 7 - Unix endline expected
ok 8 # skip GNU grep not available
ok
t/filehandle_compressed.t ....... 
1..16
Testing filename: t/mailboxes/mailarc-2.txt.bz2
Comparing /tmp/aBK1j92jxk to t/mailboxes/mailarc-2.txt
Output /tmp/aBK1j92jxk looks good.
ok 1 - Computing differences
Comparing /tmp/Ey2SHRyIa5 to t/mailboxes/mailarc-2.txt
Output /tmp/Ey2SHRyIa5 looks good.
ok 2 - Computing differences
Comparing /tmp/zb5Nu5GUG8 to t/mailboxes/mailarc-2.txt
Output /tmp/zb5Nu5GUG8 looks good.
ok 3 - Computing differences
ok 4 # skip GNU grep not available
Testing filename: t/mailboxes/mailarc-2.txt.gz
Comparing /tmp/6dfe2F3gCY to t/mailboxes/mailarc-2.txt
Output /tmp/6dfe2F3gCY looks good.
ok 5 - Computing differences
Comparing /tmp/UxKeMe6bed to t/mailboxes/mailarc-2.txt
Output /tmp/UxKeMe6bed looks good.
ok 6 - Computing differences
Comparing /tmp/QD6noX0emE to t/mailboxes/mailarc-2.txt
Output /tmp/QD6noX0emE looks good.
ok 7 - Computing differences
ok 8 # skip GNU grep not available
Testing filename: t/mailboxes/mailarc-2.txt.lz
ok 9 # skip lzip not available
ok 10 # skip lzip not available
ok 11 # skip lzip not available
ok 12 # skip lzip not available
Testing filename: t/mailboxes/mailarc-2.txt.xz
Comparing /tmp/RDo7A5OAZX to t/mailboxes/mailarc-2.txt
Output /tmp/RDo7A5OAZX looks good.
ok 13 - Computing differences
Comparing /tmp/WIdbOEqrkp to t/mailboxes/mailarc-2.txt
Output /tmp/WIdbOEqrkp looks good.
ok 14 - Computing differences
Comparing /tmp/rZQGfJbn80 to t/mailboxes/mailarc-2.txt
Output /tmp/rZQGfJbn80 looks good.
ok 15 - Computing differences
ok 16 # skip GNU grep not available
ok
t/filehandle_noncompressed.t .... 
1..44
Testing filename: t/mailboxes/binary_body.txt
Comparing /tmp/SIEZkBZur0 to t/mailboxes/binary_body.txt
Output /tmp/SIEZkBZur0 looks good.
ok 1 - Computing differences
Comparing /tmp/9t_rJRokcd to t/mailboxes/binary_body.txt
Output /tmp/9t_rJRokcd looks good.
ok 2 - Computing differences
Comparing /tmp/VJSeyZX8X8 to t/mailboxes/binary_body.txt
Output /tmp/VJSeyZX8X8 looks good.
ok 3 - Computing differences
ok 4 # skip GNU grep not available
Testing filename: t/mailboxes/hessbug.txt
Comparing /tmp/eTi6EAa49g to t/mailboxes/hessbug.txt
Output /tmp/eTi6EAa49g looks good.
ok 5 - Computing differences
Comparing /tmp/lHDhWcTkFa to t/mailboxes/hessbug.txt
Output /tmp/lHDhWcTkFa looks good.
ok 6 - Computing differences
Comparing /tmp/2FPJGI7RaB to t/mailboxes/hessbug.txt
Output /tmp/2FPJGI7RaB looks good.
ok 7 - Computing differences
ok 8 # skip GNU grep not available
Testing filename: t/mailboxes/invalid-boundaries.txt
Comparing /tmp/OVimmqVSCt to t/mailboxes/invalid-boundaries.txt
Output /tmp/OVimmqVSCt looks good.
ok 9 - Computing differences
Comparing /tmp/sigsOL_3rl to t/mailboxes/invalid-boundaries.txt
Output /tmp/sigsOL_3rl looks good.
ok 10 - Computing differences
Comparing /tmp/ry4N7iMptu to t/mailboxes/invalid-boundaries.txt
Output /tmp/ry4N7iMptu looks good.
ok 11 - Computing differences
ok 12 # skip GNU grep not available
Testing filename: t/mailboxes/mailarc-1-dos.txt
Comparing /tmp/sAfVuNpfry to t/mailboxes/mailarc-1-dos.txt
Output /tmp/sAfVuNpfry looks good.
ok 13 - Computing differences
Comparing /tmp/TwaDeLYnrM to t/mailboxes/mailarc-1-dos.txt
Output /tmp/TwaDeLYnrM looks good.
ok 14 - Computing differences
Comparing /tmp/MTP0EruP6I to t/mailboxes/mailarc-1-dos.txt
Output /tmp/MTP0EruP6I looks good.
ok 15 - Computing differences
ok 16 # skip GNU grep not available
Testing filename: t/mailboxes/mailarc-1.txt
Comparing /tmp/Kh567CdsJi to t/mailboxes/mailarc-1.txt
Output /tmp/Kh567CdsJi looks good.
ok 17 - Computing differences
Comparing /tmp/HI2XijD5Y0 to t/mailboxes/mailarc-1.txt
Output /tmp/HI2XijD5Y0 looks good.
ok 18 - Computing differences
Comparing /tmp/j1CSWBvjvG to t/mailboxes/mailarc-1.txt
Output /tmp/j1CSWBvjvG looks good.
ok 19 - Computing differences
ok 20 # skip GNU grep not available
Testing filename: t/mailboxes/mailarc-2.txt
Comparing /tmp/axhXIKC_s7 to t/mailboxes/mailarc-2.txt
Output /tmp/axhXIKC_s7 looks good.
ok 21 - Computing differences
Comparing /tmp/oHSYlXxCxA to t/mailboxes/mailarc-2.txt
Output /tmp/oHSYlXxCxA looks good.
ok 22 - Computing differences
Comparing /tmp/WzDOyIwlq0 to t/mailboxes/mailarc-2.txt
Output /tmp/WzDOyIwlq0 looks good.
ok 23 - Computing differences
ok 24 # skip GNU grep not available
Testing filename: t/mailboxes/mailarc-3.txt
Comparing /tmp/l2qi91Dv17 to t/mailboxes/mailarc-3.txt
Output /tmp/l2qi91Dv17 looks good.
ok 25 - Computing differences
Comparing /tmp/8I1ynVDu88 to t/mailboxes/mailarc-3.txt
Output /tmp/8I1ynVDu88 looks good.
ok 26 - Computing differences
Comparing /tmp/jtzL8u_yDo to t/mailboxes/mailarc-3.txt
Output /tmp/jtzL8u_yDo looks good.
ok 27 - Computing differences
ok 28 # skip GNU grep not available
Testing filename: t/mailboxes/mailseparators.txt
Comparing /tmp/wsUD3Ulm73 to t/mailboxes/mailseparators.txt
Output /tmp/wsUD3Ulm73 looks good.
ok 29 - Computing differences
Comparing /tmp/B7HhhsIHMt to t/mailboxes/mailseparators.txt
Output /tmp/B7HhhsIHMt looks good.
ok 30 - Computing differences
Comparing /tmp/ecfKTzuhS2 to t/mailboxes/mailseparators.txt
Output /tmp/ecfKTzuhS2 looks good.
ok 31 - Computing differences
ok 32 # skip GNU grep not available
Testing filename: t/mailboxes/malformed.txt
Comparing /tmp/TvIJHl7rbX to t/mailboxes/malformed.txt
Output /tmp/TvIJHl7rbX looks good.
ok 33 - Computing differences
Comparing /tmp/BBCTsBjP1J to t/mailboxes/malformed.txt
Output /tmp/BBCTsBjP1J looks good.
ok 34 - Computing differences
Comparing /tmp/vh6bhtDRGM to t/mailboxes/malformed.txt
Output /tmp/vh6bhtDRGM looks good.
ok 35 - Computing differences
ok 36 # skip GNU grep not available
Testing filename: t/mailboxes/newlines_at_beginning.txt
Comparing /tmp/s43gBtxMuD to t/mailboxes/newlines_at_beginning.txt
Output /tmp/s43gBtxMuD looks good.
ok 37 - Computing differences
Comparing /tmp/kUo53j2qsG to t/mailboxes/newlines_at_beginning.txt
Output /tmp/kUo53j2qsG looks good.
ok 38 - Computing differences
Comparing /tmp/QN4AJGI94g to t/mailboxes/newlines_at_beginning.txt
Output /tmp/QN4AJGI94g looks good.
ok 39 - Computing differences
ok 40 # skip GNU grep not available
Testing filename: t/mailboxes/vm-emacs.txt
Comparing /tmp/2PMZICUPgH to t/mailboxes/vm-emacs.txt
Output /tmp/2PMZICUPgH looks good.
ok 41 - Computing differences
Comparing /tmp/cWOWCx2EYM to t/mailboxes/vm-emacs.txt
Output /tmp/cWOWCx2EYM looks good.
ok 42 - Computing differences
Comparing /tmp/juNuUSPL4h to t/mailboxes/vm-emacs.txt
Output /tmp/juNuUSPL4h looks good.
ok 43 - Computing differences
ok 44 # skip GNU grep not available
ok
t/filename_compressed.t ......... 
1..4
Testing filename: t/mailboxes/mailarc-2.txt.bz2
Comparing /tmp/xbshE6aBGb to t/mailboxes/mailarc-2.txt
Output /tmp/xbshE6aBGb looks good.
ok 1 - Computing differences
Testing filename: t/mailboxes/mailarc-2.txt.gz
Comparing /tmp/WQ1HJiAFlR to t/mailboxes/mailarc-2.txt
Output /tmp/WQ1HJiAFlR looks good.
ok 2 - Computing differences
Testing filename: t/mailboxes/mailarc-2.txt.lz
ok 3 # skip lzip not available
Testing filename: t/mailboxes/mailarc-2.txt.xz
Comparing /tmp/HDXblPOUdp to t/mailboxes/mailarc-2.txt
Output /tmp/HDXblPOUdp looks good.
ok 4 - Computing differences
ok
t/filename_noncompressed.t ...... 
1..11
Testing filename: t/mailboxes/binary_body.txt
Comparing /tmp/rbilr11q_P to t/mailboxes/binary_body.txt
Output /tmp/rbilr11q_P looks good.
ok 1 - Computing differences
Testing filename: t/mailboxes/hessbug.txt
Comparing /tmp/wr4ab7jXd5 to t/mailboxes/hessbug.txt
Output /tmp/wr4ab7jXd5 looks good.
ok 2 - Computing differences
Testing filename: t/mailboxes/invalid-boundaries.txt
Comparing /tmp/tUOCGnPmZj to t/mailboxes/invalid-boundaries.txt
Output /tmp/tUOCGnPmZj looks good.
ok 3 - Computing differences
Testing filename: t/mailboxes/mailarc-1-dos.txt
Comparing /tmp/Xresy9zG8u to t/mailboxes/mailarc-1-dos.txt
Output /tmp/Xresy9zG8u looks good.
ok 4 - Computing differences
Testing filename: t/mailboxes/mailarc-1.txt
Comparing /tmp/4IwrIipkbg to t/mailboxes/mailarc-1.txt
Output /tmp/4IwrIipkbg looks good.
ok 5 - Computing differences
Testing filename: t/mailboxes/mailarc-2.txt
Comparing /tmp/oxEqixTOzq to t/mailboxes/mailarc-2.txt
Output /tmp/oxEqixTOzq looks good.
ok 6 - Computing differences
Testing filename: t/mailboxes/mailarc-3.txt
Comparing /tmp/pCc5eBvSH9 to t/mailboxes/mailarc-3.txt
Output /tmp/pCc5eBvSH9 looks good.
ok 7 - Computing differences
Testing filename: t/mailboxes/mailseparators.txt
Comparing /tmp/7bqqO7oVh1 to t/mailboxes/mailseparators.txt
Output /tmp/7bqqO7oVh1 looks good.
ok 8 - Computing differences
Testing filename: t/mailboxes/malformed.txt
Comparing /tmp/7UDQuiGPrH to t/mailboxes/malformed.txt
Output /tmp/7UDQuiGPrH looks good.
ok 9 - Computing differences
Testing filename: t/mailboxes/newlines_at_beginning.txt
Comparing /tmp/C_JA_f709h to t/mailboxes/newlines_at_beginning.txt
Output /tmp/C_JA_f709h looks good.
ok 10 - Computing differences
Testing filename: t/mailboxes/vm-emacs.txt
Comparing /tmp/HoZGBbSunl to t/mailboxes/vm-emacs.txt
Output /tmp/HoZGBbSunl looks good.
ok 11 - Computing differences
ok
t/grep.t ........................ 
1..4
Running test:
  unset LC_ALL LC_COLLATE LANG LC_CTYPE LC_MESSAGES; grep --extended-regexp --line-number --byte-offset --binary-files=text "^From [^:]+(:[0-9][0-9]){1,2}(  *([A-Z]{2,6}|[+-]?[0-9]{4})){1,3}( remote from .*)?
?$" t/mailboxes/mailarc-1.txt
ok 1 # skip 1
Running test:
  unset LC_ALL LC_COLLATE LANG LC_CTYPE LC_MESSAGES; grep --extended-regexp --line-number --byte-offset --binary-files=text "^From [^:]+(:[0-9][0-9]){1,2}(  *([A-Z]{2,6}|[+-]?[0-9]{4})){1,3}( remote from .*)?
?$" t/mailboxes/mailarc-2.txt
ok 2 # skip 1
Running test:
  unset LC_ALL LC_COLLATE LANG LC_CTYPE LC_MESSAGES; grep --extended-regexp --line-number --byte-offset --binary-files=text "^From [^:]+(:[0-9][0-9]){1,2}(  *([A-Z]{2,6}|[+-]?[0-9]{4})){1,3}( remote from .*)?
?$" t/mailboxes/mailarc-3.txt
ok 3 # skip 1
Running test:
  unset LC_ALL LC_COLLATE LANG LC_CTYPE LC_MESSAGES; grep --extended-regexp --line-number --byte-offset --binary-files=text "^From [^:]+(:[0-9][0-9]){1,2}(  *([A-Z]{2,6}|[+-]?[0-9]{4})){1,3}( remote from .*)?
?$" t/mailboxes/mailseparators.txt
ok 4 # skip 1
ok
t/gzip.t ........................ 
1..1
Running test:
  "/usr/bin/cat" "t/mailboxes/mailarc-2.txt.gz" | "/usr/bin/gzip" -cd
Comparing /tmp/Fd9brSyfSa to t/results/mailarc-2.txt
Output /tmp/Fd9brSyfSa looks good.
Comparing /tmp/FfLw2YiFY0 to t/results/none
Output /tmp/FfLw2YiFY0 looks good.
ok 1 - Computing differences
ok
t/length.t ...................... 
1..30
Testing filename: t/mailboxes/binary_body.txt
Comparing /tmp/c03RBXu1v8 to t/results/length_binary_body.stdout
Output /tmp/c03RBXu1v8 looks good.
ok 1 - Computing differences
Comparing /tmp/Ntd9zY3Xr0 to t/results/length_binary_body.stdout
Output /tmp/Ntd9zY3Xr0 looks good.
ok 2 - Computing differences
ok 3 # skip GNU grep not available
Testing filename: t/mailboxes/hessbug.txt
Comparing /tmp/vhOvtQKKad to t/results/length_hessbug.stdout
Output /tmp/vhOvtQKKad looks good.
ok 4 - Computing differences
Comparing /tmp/yEOvyrd1Dy to t/results/length_hessbug.stdout
Output /tmp/yEOvyrd1Dy looks good.
ok 5 - Computing differences
ok 6 # skip GNU grep not available
Testing filename: t/mailboxes/invalid-boundaries.txt
Comparing /tmp/puoNo93kfU to t/results/length_invalid-boundaries.stdout
Output /tmp/puoNo93kfU looks good.
ok 7 - Computing differences
Comparing /tmp/n0w0VfjZaK to t/results/length_invalid-boundaries.stdout
Output /tmp/n0w0VfjZaK looks good.
ok 8 - Computing differences
ok 9 # skip GNU grep not available
Testing filename: t/mailboxes/mailarc-1-dos.txt
Comparing /tmp/_QpHYDh7Rw to t/results/length_mailarc-1-dos.stdout
Output /tmp/_QpHYDh7Rw looks good.
ok 10 - Computing differences
Comparing /tmp/Uki92F9sxR to t/results/length_mailarc-1-dos.stdout
Output /tmp/Uki92F9sxR looks good.
ok 11 - Computing differences
ok 12 # skip GNU grep not available
Testing filename: t/mailboxes/mailarc-1.txt
Comparing /tmp/FV_GC6kzE5 to t/results/length_mailarc-1.stdout
Output /tmp/FV_GC6kzE5 looks good.
ok 13 - Computing differences
Comparing /tmp/NPlpP3Ja2i to t/results/length_mailarc-1.stdout
Output /tmp/NPlpP3Ja2i looks good.
ok 14 - Computing differences
ok 15 # skip GNU grep not available
Testing filename: t/mailboxes/mailarc-2.txt
Comparing /tmp/3HALMWYR9u to t/results/length_mailarc-2.stdout
Output /tmp/3HALMWYR9u looks good.
ok 16 - Computing differences
Comparing /tmp/4iyuszQpcm to t/results/length_mailarc-2.stdout
Output /tmp/4iyuszQpcm looks good.
ok 17 - Computing differences
ok 18 # skip GNU grep not available
Testing filename: t/mailboxes/mailarc-3.txt
Comparing /tmp/lAvdeVMkw6 to t/results/length_mailarc-3.stdout
Output /tmp/lAvdeVMkw6 looks good.
ok 19 - Computing differences
Comparing /tmp/9hog1Y0tb5 to t/results/length_mailarc-3.stdout
Output /tmp/9hog1Y0tb5 looks good.
ok 20 - Computing differences
ok 21 # skip GNU grep not available
Testing filename: t/mailboxes/mailseparators.txt
Comparing /tmp/wIyDX_01tg to t/results/length_mailseparators.stdout
Output /tmp/wIyDX_01tg looks good.
ok 22 - Computing differences
Comparing /tmp/qFJldDO9n9 to t/results/length_mailseparators.stdout
Output /tmp/qFJldDO9n9 looks good.
ok 23 - Computing differences
ok 24 # skip GNU grep not available
Testing filename: t/mailboxes/malformed.txt
Comparing /tmp/rx3Feip0Jz to t/results/length_malformed.stdout
Output /tmp/rx3Feip0Jz looks good.
ok 25 - Computing differences
Comparing /tmp/o1CSLGyKbo to t/results/length_malformed.stdout
Output /tmp/o1CSLGyKbo looks good.
ok 26 - Computing differences
ok 27 # skip GNU grep not available
Testing filename: t/mailboxes/newlines_at_beginning.txt
Comparing /tmp/GH3WQdbfEm to t/results/length_newlines_at_beginning.stdout
Output /tmp/GH3WQdbfEm looks good.
ok 28 - Computing differences
Comparing /tmp/yA0MmH7iUG to t/results/length_newlines_at_beginning.stdout
Output /tmp/yA0MmH7iUG looks good.
ok 29 - Computing differences
ok 30 # skip GNU grep not available
ok
t/line_number.t ................. 
1..30
Testing filename: t/mailboxes/binary_body.txt
Comparing /tmp/BcFcqrjekq to t/results/line_number_binary_body.stdout
Output /tmp/BcFcqrjekq looks good.
ok 1 - Computing differences
Comparing /tmp/elgHdRfwlT to t/results/line_number_binary_body.stdout
Output /tmp/elgHdRfwlT looks good.
ok 2 - Computing differences
ok 3 # skip GNU grep not available
Testing filename: t/mailboxes/hessbug.txt
Comparing /tmp/J3TKNNctOU to t/results/line_number_hessbug.stdout
Output /tmp/J3TKNNctOU looks good.
ok 4 - Computing differences
Comparing /tmp/PRA6g1avpe to t/results/line_number_hessbug.stdout
Output /tmp/PRA6g1avpe looks good.
ok 5 - Computing differences
ok 6 # skip GNU grep not available
Testing filename: t/mailboxes/invalid-boundaries.txt
Comparing /tmp/F5yBwk95bl to t/results/line_number_invalid-boundaries.stdout
Output /tmp/F5yBwk95bl looks good.
ok 7 - Computing differences
Comparing /tmp/1asCNujcXs to t/results/line_number_invalid-boundaries.stdout
Output /tmp/1asCNujcXs looks good.
ok 8 - Computing differences
ok 9 # skip GNU grep not available
Testing filename: t/mailboxes/mailarc-1-dos.txt
Comparing /tmp/wfeNAaM8an to t/results/line_number_mailarc-1-dos.stdout
Output /tmp/wfeNAaM8an looks good.
ok 10 - Computing differences
Comparing /tmp/3YfvdzEfJF to t/results/line_number_mailarc-1-dos.stdout
Output /tmp/3YfvdzEfJF looks good.
ok 11 - Computing differences
ok 12 # skip GNU grep not available
Testing filename: t/mailboxes/mailarc-1.txt
Comparing /tmp/BvbYDWIgAq to t/results/line_number_mailarc-1.stdout
Output /tmp/BvbYDWIgAq looks good.
ok 13 - Computing differences
Comparing /tmp/4FOUbsGmcr to t/results/line_number_mailarc-1.stdout
Output /tmp/4FOUbsGmcr looks good.
ok 14 - Computing differences
ok 15 # skip GNU grep not available
Testing filename: t/mailboxes/mailarc-2.txt
Comparing /tmp/XjE7MYe73Z to t/results/line_number_mailarc-2.stdout
Output /tmp/XjE7MYe73Z looks good.
ok 16 - Computing differences
Comparing /tmp/iqj1AQnLv1 to t/results/line_number_mailarc-2.stdout
Output /tmp/iqj1AQnLv1 looks good.
ok 17 - Computing differences
ok 18 # skip GNU grep not available
Testing filename: t/mailboxes/mailarc-3.txt
Comparing /tmp/R_604HLESu to t/results/line_number_mailarc-3.stdout
Output /tmp/R_604HLESu looks good.
ok 19 - Computing differences
Comparing /tmp/AKYYgrqJQy to t/results/line_number_mailarc-3.stdout
Output /tmp/AKYYgrqJQy looks good.
ok 20 - Computing differences
ok 21 # skip GNU grep not available
Testing filename: t/mailboxes/mailseparators.txt
Comparing /tmp/v30oWkuDUm to t/results/line_number_mailseparators.stdout
Output /tmp/v30oWkuDUm looks good.
ok 22 - Computing differences
Comparing /tmp/FAZ_GMZDUL to t/results/line_number_mailseparators.stdout
Output /tmp/FAZ_GMZDUL looks good.
ok 23 - Computing differences
ok 24 # skip GNU grep not available
Testing filename: t/mailboxes/malformed.txt
Comparing /tmp/ggetZf1KNJ to t/results/line_number_malformed.stdout
Output /tmp/ggetZf1KNJ looks good.
ok 25 - Computing differences
Comparing /tmp/1N6PGz5XtT to t/results/line_number_malformed.stdout
Output /tmp/1N6PGz5XtT looks good.
ok 26 - Computing differences
ok 27 # skip GNU grep not available
Testing filename: t/mailboxes/newlines_at_beginning.txt
Comparing /tmp/RU16uc1nc1 to t/results/line_number_newlines_at_beginning.stdout
Output /tmp/RU16uc1nc1 looks good.
ok 28 - Computing differences
Comparing /tmp/3Ne4pJ72vY to t/results/line_number_newlines_at_beginning.stdout
Output /tmp/3Ne4pJ72vY looks good.
ok 29 - Computing differences
ok 30 # skip GNU grep not available
ok
t/lzip.t ........................ 
1..1
Running test:
  "/usr/bin/cat" "t/mailboxes/mailarc-2.txt.lz" | "lzip" -cd
ok 1 # skip lzip not available
ok
t/number.t ...................... 
1..30
Testing filename: t/mailboxes/binary_body.txt
Comparing /tmp/Ti7Rk7sbpW to t/results/number_binary_body.stdout
Output /tmp/Ti7Rk7sbpW looks good.
ok 1 - Computing differences
Comparing /tmp/VvgYRYMmzf to t/results/number_binary_body.stdout
Output /tmp/VvgYRYMmzf looks good.
ok 2 - Computing differences
ok 3 # skip GNU grep not available
Testing filename: t/mailboxes/hessbug.txt
Comparing /tmp/fs_2Ldwo49 to t/results/number_hessbug.stdout
Output /tmp/fs_2Ldwo49 looks good.
ok 4 - Computing differences
Comparing /tmp/kwI59_UzN8 to t/results/number_hessbug.stdout
Output /tmp/kwI59_UzN8 looks good.
ok 5 - Computing differences
ok 6 # skip GNU grep not available
Testing filename: t/mailboxes/invalid-boundaries.txt
Comparing /tmp/Vk226foGfu to t/results/number_invalid-boundaries.stdout
Output /tmp/Vk226foGfu looks good.
ok 7 - Computing differences
Comparing /tmp/4sKVs0LnDK to t/results/number_invalid-boundaries.stdout
Output /tmp/4sKVs0LnDK looks good.
ok 8 - Computing differences
ok 9 # skip GNU grep not available
Testing filename: t/mailboxes/mailarc-1-dos.txt
Comparing /tmp/tfGNy6r4d9 to t/results/number_mailarc-1-dos.stdout
Output /tmp/tfGNy6r4d9 looks good.
ok 10 - Computing differences
Comparing /tmp/vgMVnvzP9r to t/results/number_mailarc-1-dos.stdout
Output /tmp/vgMVnvzP9r looks good.
ok 11 - Computing differences
ok 12 # skip GNU grep not available
Testing filename: t/mailboxes/mailarc-1.txt
Comparing /tmp/WzinYEfZuY to t/results/number_mailarc-1.stdout
Output /tmp/WzinYEfZuY looks good.
ok 13 - Computing differences
Comparing /tmp/YrYJUCWAc1 to t/results/number_mailarc-1.stdout
Output /tmp/YrYJUCWAc1 looks good.
ok 14 - Computing differences
ok 15 # skip GNU grep not available
Testing filename: t/mailboxes/mailarc-2.txt
Comparing /tmp/oBup69cZgp to t/results/number_mailarc-2.stdout
Output /tmp/oBup69cZgp looks good.
ok 16 - Computing differences
Comparing /tmp/h1HlWbFjQ2 to t/results/number_mailarc-2.stdout
Output /tmp/h1HlWbFjQ2 looks good.
ok 17 - Computing differences
ok 18 # skip GNU grep not available
Testing filename: t/mailboxes/mailarc-3.txt
Comparing /tmp/6g7H8h_8Bu to t/results/number_mailarc-3.stdout
Output /tmp/6g7H8h_8Bu looks good.
ok 19 - Computing differences
Comparing /tmp/UQLY6k8atf to t/results/number_mailarc-3.stdout
Output /tmp/UQLY6k8atf looks good.
ok 20 - Computing differences
ok 21 # skip GNU grep not available
Testing filename: t/mailboxes/mailseparators.txt
Comparing /tmp/Llt0YNyhtD to t/results/number_mailseparators.stdout
Output /tmp/Llt0YNyhtD looks good.
ok 22 - Computing differences
Comparing /tmp/AaHSVF_nmb to t/results/number_mailseparators.stdout
Output /tmp/AaHSVF_nmb looks good.
ok 23 - Computing differences
ok 24 # skip GNU grep not available
Testing filename: t/mailboxes/malformed.txt
Comparing /tmp/KjpX5QKyuA to t/results/number_malformed.stdout
Output /tmp/KjpX5QKyuA looks good.
ok 25 - Computing differences
Comparing /tmp/C8x2X1TzDY to t/results/number_malformed.stdout
Output /tmp/C8x2X1TzDY looks good.
ok 26 - Computing differences
ok 27 # skip GNU grep not available
Testing filename: t/mailboxes/newlines_at_beginning.txt
Comparing /tmp/t0KjxwLx_o to t/results/number_newlines_at_beginning.stdout
Output /tmp/t0KjxwLx_o looks good.
ok 28 - Computing differences
Comparing /tmp/5cyJ_EHJHT to t/results/number_newlines_at_beginning.stdout
Output /tmp/5cyJ_EHJHT looks good.
ok 29 - Computing differences
ok 30 # skip GNU grep not available
ok
t/offset.t ...................... 
1..30
Testing filename: t/mailboxes/binary_body.txt
Comparing /tmp/9wYTrraTAt to t/results/offset_binary_body.stdout
Output /tmp/9wYTrraTAt looks good.
ok 1 - Computing differences
Comparing /tmp/tgsFsMs6CZ to t/results/offset_binary_body.stdout
Output /tmp/tgsFsMs6CZ looks good.
ok 2 - Computing differences
ok 3 # skip GNU grep not available
Testing filename: t/mailboxes/hessbug.txt
Comparing /tmp/zkclel7o7B to t/results/offset_hessbug.stdout
Output /tmp/zkclel7o7B looks good.
ok 4 - Computing differences
Comparing /tmp/hlo8Ahx1BJ to t/results/offset_hessbug.stdout
Output /tmp/hlo8Ahx1BJ looks good.
ok 5 - Computing differences
ok 6 # skip GNU grep not available
Testing filename: t/mailboxes/invalid-boundaries.txt
Comparing /tmp/ufoeZ19ZXa to t/results/offset_invalid-boundaries.stdout
Output /tmp/ufoeZ19ZXa looks good.
ok 7 - Computing differences
Comparing /tmp/IgB5FsRdwM to t/results/offset_invalid-boundaries.stdout
Output /tmp/IgB5FsRdwM looks good.
ok 8 - Computing differences
ok 9 # skip GNU grep not available
Testing filename: t/mailboxes/mailarc-1-dos.txt
Comparing /tmp/xHD6LXiEqk to t/results/offset_mailarc-1-dos.stdout
Output /tmp/xHD6LXiEqk looks good.
ok 10 - Computing differences
Comparing /tmp/cMxbk6VBEZ to t/results/offset_mailarc-1-dos.stdout
Output /tmp/cMxbk6VBEZ looks good.
ok 11 - Computing differences
ok 12 # skip GNU grep not available
Testing filename: t/mailboxes/mailarc-1.txt
Comparing /tmp/LFABFWIRVn to t/results/offset_mailarc-1.stdout
Output /tmp/LFABFWIRVn looks good.
ok 13 - Computing differences
Comparing /tmp/W6icSQ9UUk to t/results/offset_mailarc-1.stdout
Output /tmp/W6icSQ9UUk looks good.
ok 14 - Computing differences
ok 15 # skip GNU grep not available
Testing filename: t/mailboxes/mailarc-2.txt
Comparing /tmp/CqZdkdzZjz to t/results/offset_mailarc-2.stdout
Output /tmp/CqZdkdzZjz looks good.
ok 16 - Computing differences
Comparing /tmp/iQYZV91GQM to t/results/offset_mailarc-2.stdout
Output /tmp/iQYZV91GQM looks good.
ok 17 - Computing differences
ok 18 # skip GNU grep not available
Testing filename: t/mailboxes/mailarc-3.txt
Comparing /tmp/zm7sx1YXRz to t/results/offset_mailarc-3.stdout
Output /tmp/zm7sx1YXRz looks good.
ok 19 - Computing differences
Comparing /tmp/qFTA0nqFvt to t/results/offset_mailarc-3.stdout
Output /tmp/qFTA0nqFvt looks good.
ok 20 - Computing differences
ok 21 # skip GNU grep not available
Testing filename: t/mailboxes/mailseparators.txt
Comparing /tmp/dGPkeJqtIY to t/results/offset_mailseparators.stdout
Output /tmp/dGPkeJqtIY looks good.
ok 22 - Computing differences
Comparing /tmp/qzNybE4RhA to t/results/offset_mailseparators.stdout
Output /tmp/qzNybE4RhA looks good.
ok 23 - Computing differences
ok 24 # skip GNU grep not available
Testing filename: t/mailboxes/malformed.txt
Comparing /tmp/JWMU5RL30a to t/results/offset_malformed.stdout
Output /tmp/JWMU5RL30a looks good.
ok 25 - Computing differences
Comparing /tmp/gbYzJyOEEv to t/results/offset_malformed.stdout
Output /tmp/gbYzJyOEEv looks good.
ok 26 - Computing differences
ok 27 # skip GNU grep not available
Testing filename: t/mailboxes/newlines_at_beginning.txt
Comparing /tmp/jQ0dDHAtXm to t/results/offset_newlines_at_beginning.stdout
Output /tmp/jQ0dDHAtXm looks good.
ok 28 - Computing differences
Comparing /tmp/Pj8WvbVNdG to t/results/offset_newlines_at_beginning.stdout
Output /tmp/Pj8WvbVNdG looks good.
ok 29 - Computing differences
ok 30 # skip GNU grep not available
ok
t/prologue.t .................... 
1..33
Testing filename: t/mailboxes/binary_body.txt
Comparing /tmp/E07lX8NPqQ to t/mailboxes/binary_body.txt
Output /tmp/E07lX8NPqQ looks good.
ok 1 - Computing differences
Comparing /tmp/Rky6RiIZlM to t/mailboxes/binary_body.txt
Output /tmp/Rky6RiIZlM looks good.
ok 2 - Computing differences
ok 3 # skip GNU grep not available
Testing filename: t/mailboxes/hessbug.txt
Comparing /tmp/XFSJY0cr0f to t/mailboxes/hessbug.txt
Output /tmp/XFSJY0cr0f looks good.
ok 4 - Computing differences
Comparing /tmp/8ZCvN8j8AX to t/mailboxes/hessbug.txt
Output /tmp/8ZCvN8j8AX looks good.
ok 5 - Computing differences
ok 6 # skip GNU grep not available
Testing filename: t/mailboxes/invalid-boundaries.txt
Comparing /tmp/QHfcy7RP10 to t/mailboxes/invalid-boundaries.txt
Output /tmp/QHfcy7RP10 looks good.
ok 7 - Computing differences
Comparing /tmp/qo0CDYuJka to t/mailboxes/invalid-boundaries.txt
Output /tmp/qo0CDYuJka looks good.
ok 8 - Computing differences
ok 9 # skip GNU grep not available
Testing filename: t/mailboxes/mailarc-1-dos.txt
Comparing /tmp/fDJ4AFIrKV to t/mailboxes/mailarc-1-dos.txt
Output /tmp/fDJ4AFIrKV looks good.
ok 10 - Computing differences
Comparing /tmp/uhRQvblOCy to t/mailboxes/mailarc-1-dos.txt
Output /tmp/uhRQvblOCy looks good.
ok 11 - Computing differences
ok 12 # skip GNU grep not available
Testing filename: t/mailboxes/mailarc-1.txt
Comparing /tmp/6MLkdFeMiW to t/mailboxes/mailarc-1.txt
Output /tmp/6MLkdFeMiW looks good.
ok 13 - Computing differences
Comparing /tmp/H25s6_zTtN to t/mailboxes/mailarc-1.txt
Output /tmp/H25s6_zTtN looks good.
ok 14 - Computing differences
ok 15 # skip GNU grep not available
Testing filename: t/mailboxes/mailarc-2.txt
Comparing /tmp/_zT1jhUitP to t/mailboxes/mailarc-2.txt
Output /tmp/_zT1jhUitP looks good.
ok 16 - Computing differences
Comparing /tmp/2CYtmbghRx to t/mailboxes/mailarc-2.txt
Output /tmp/2CYtmbghRx looks good.
ok 17 - Computing differences
ok 18 # skip GNU grep not available
Testing filename: t/mailboxes/mailarc-3.txt
Comparing /tmp/jF9wRr_78V to t/mailboxes/mailarc-3.txt
Output /tmp/jF9wRr_78V looks good.
ok 19 - Computing differences
Comparing /tmp/BgE6_uEMZA to t/mailboxes/mailarc-3.txt
Output /tmp/BgE6_uEMZA looks good.
ok 20 - Computing differences
ok 21 # skip GNU grep not available
Testing filename: t/mailboxes/mailseparators.txt
Comparing /tmp/XuCbz0SUtY to t/mailboxes/mailseparators.txt
Output /tmp/XuCbz0SUtY looks good.
ok 22 - Computing differences
Comparing /tmp/_tcgFsLg8D to t/mailboxes/mailseparators.txt
Output /tmp/_tcgFsLg8D looks good.
ok 23 - Computing differences
ok 24 # skip GNU grep not available
Testing filename: t/mailboxes/malformed.txt
Comparing /tmp/fTQwKNTF7p to t/mailboxes/malformed.txt
Output /tmp/fTQwKNTF7p looks good.
ok 25 - Computing differences
Comparing /tmp/vBI294OKZb to t/mailboxes/malformed.txt
Output /tmp/vBI294OKZb looks good.
ok 26 - Computing differences
ok 27 # skip GNU grep not available
Testing filename: t/mailboxes/newlines_at_beginning.txt
Comparing /tmp/o9XijlvWdw to t/mailboxes/newlines_at_beginning.txt
Output /tmp/o9XijlvWdw looks good.
ok 28 - Computing differences
Comparing /tmp/S0So993Qh6 to t/mailboxes/newlines_at_beginning.txt
Output /tmp/S0So993Qh6 looks good.
ok 29 - Computing differences
ok 30 # skip GNU grep not available
Testing filename: t/mailboxes/vm-emacs.txt
Comparing /tmp/yno8KRNVQh to t/mailboxes/vm-emacs.txt
Output /tmp/yno8KRNVQh looks good.
ok 31 - Computing differences
Comparing /tmp/MoeDgIqTH5 to t/mailboxes/vm-emacs.txt
Output /tmp/MoeDgIqTH5 looks good.
ok 32 - Computing differences
ok 33 # skip GNU grep not available
ok
t/reset.t ....................... 
1..60
Testing filename: t/mailboxes/binary_body.txt
Testing partial mailbox reset with Perl implementation
Comparing /tmp/mvVc9FxpBy to t/results/reset_binary_body.stdout
Output /tmp/mvVc9FxpBy looks good.
ok 1 - Computing differences
Testing partial mailbox reset with Cache implementation
Comparing /tmp/7vcB9WnifI to t/results/reset_binary_body.stdout
Output /tmp/7vcB9WnifI looks good.
ok 2 - Computing differences
Testing partial mailbox reset with Grep implementation
ok 3 # skip GNU grep not available
Testing full mailbox reset with Perl implementation
Comparing /tmp/b3QxbVMvwF to t/results/reset_binary_body.stdout
Output /tmp/b3QxbVMvwF looks good.
ok 4 - Computing differences
Testing full mailbox reset with Cache implementation
Comparing /tmp/utZPpQ7_aD to t/results/reset_binary_body.stdout
Output /tmp/utZPpQ7_aD looks good.
ok 5 - Computing differences
Testing full mailbox reset with Grep implementation
ok 6 # skip GNU grep not available
Testing filename: t/mailboxes/hessbug.txt
Testing partial mailbox reset with Perl implementation
Comparing /tmp/mt4Qs_KRKB to t/results/reset_hessbug.stdout
Output /tmp/mt4Qs_KRKB looks good.
ok 7 - Computing differences
Testing partial mailbox reset with Cache implementation
Comparing /tmp/i2lYRiUVVL to t/results/reset_hessbug.stdout
Output /tmp/i2lYRiUVVL looks good.
ok 8 - Computing differences
Testing partial mailbox reset with Grep implementation
ok 9 # skip GNU grep not available
Testing full mailbox reset with Perl implementation
Comparing /tmp/S6bYR423e6 to t/results/reset_hessbug.stdout
Output /tmp/S6bYR423e6 looks good.
ok 10 - Computing differences
Testing full mailbox reset with Cache implementation
Comparing /tmp/_eIzVzJ3nF to t/results/reset_hessbug.stdout
Output /tmp/_eIzVzJ3nF looks good.
ok 11 - Computing differences
Testing full mailbox reset with Grep implementation
ok 12 # skip GNU grep not available
Testing filename: t/mailboxes/invalid-boundaries.txt
Testing partial mailbox reset with Perl implementation
Comparing /tmp/_iQpg0MfO3 to t/results/reset_invalid-boundaries.stdout
Output /tmp/_iQpg0MfO3 looks good.
ok 13 - Computing differences
Testing partial mailbox reset with Cache implementation
Comparing /tmp/jISveMwLvE to t/results/reset_invalid-boundaries.stdout
Output /tmp/jISveMwLvE looks good.
ok 14 - Computing differences
Testing partial mailbox reset with Grep implementation
ok 15 # skip GNU grep not available
Testing full mailbox reset with Perl implementation
Comparing /tmp/0avaogKhnM to t/results/reset_invalid-boundaries.stdout
Output /tmp/0avaogKhnM looks good.
ok 16 - Computing differences
Testing full mailbox reset with Cache implementation
Comparing /tmp/Ly3i2Nl4Ce to t/results/reset_invalid-boundaries.stdout
Output /tmp/Ly3i2Nl4Ce looks good.
ok 17 - Computing differences
Testing full mailbox reset with Grep implementation
ok 18 # skip GNU grep not available
Testing filename: t/mailboxes/mailarc-1-dos.txt
Testing partial mailbox reset with Perl implementation
Comparing /tmp/z2e5YzfmlJ to t/results/reset_mailarc-1-dos.stdout
Output /tmp/z2e5YzfmlJ looks good.
ok 19 - Computing differences
Testing partial mailbox reset with Cache implementation
Comparing /tmp/NowxcjOMeE to t/results/reset_mailarc-1-dos.stdout
Output /tmp/NowxcjOMeE looks good.
ok 20 - Computing differences
Testing partial mailbox reset with Grep implementation
ok 21 # skip GNU grep not available
Testing full mailbox reset with Perl implementation
Comparing /tmp/6JZD4Hp5JB to t/results/reset_mailarc-1-dos.stdout
Output /tmp/6JZD4Hp5JB looks good.
ok 22 - Computing differences
Testing full mailbox reset with Cache implementation
Comparing /tmp/5FKpTL3GFV to t/results/reset_mailarc-1-dos.stdout
Output /tmp/5FKpTL3GFV looks good.
ok 23 - Computing differences
Testing full mailbox reset with Grep implementation
ok 24 # skip GNU grep not available
Testing filename: t/mailboxes/mailarc-1.txt
Testing partial mailbox reset with Perl implementation
Comparing /tmp/NUkqQrcyGB to t/results/reset_mailarc-1.stdout
Output /tmp/NUkqQrcyGB looks good.
ok 25 - Computing differences
Testing partial mailbox reset with Cache implementation
Comparing /tmp/t8WeazEcMf to t/results/reset_mailarc-1.stdout
Output /tmp/t8WeazEcMf looks good.
ok 26 - Computing differences
Testing partial mailbox reset with Grep implementation
ok 27 # skip GNU grep not available
Testing full mailbox reset with Perl implementation
Comparing /tmp/m1i7DUPIRz to t/results/reset_mailarc-1.stdout
Output /tmp/m1i7DUPIRz looks good.
ok 28 - Computing differences
Testing full mailbox reset with Cache implementation
Comparing /tmp/z7HtcElYdo to t/results/reset_mailarc-1.stdout
Output /tmp/z7HtcElYdo looks good.
ok 29 - Computing differences
Testing full mailbox reset with Grep implementation
ok 30 # skip GNU grep not available
Testing filename: t/mailboxes/mailarc-2.txt
Testing partial mailbox reset with Perl implementation
Comparing /tmp/SWYkNoChMC to t/results/reset_mailarc-2.stdout
Output /tmp/SWYkNoChMC looks good.
ok 31 - Computing differences
Testing partial mailbox reset with Cache implementation
Comparing /tmp/xsTWQmcujO to t/results/reset_mailarc-2.stdout
Output /tmp/xsTWQmcujO looks good.
ok 32 - Computing differences
Testing partial mailbox reset with Grep implementation
ok 33 # skip GNU grep not available
Testing full mailbox reset with Perl implementation
Comparing /tmp/kGguVdBe3_ to t/results/reset_mailarc-2.stdout
Output /tmp/kGguVdBe3_ looks good.
ok 34 - Computing differences
Testing full mailbox reset with Cache implementation
Comparing /tmp/YLsrwnVJ48 to t/results/reset_mailarc-2.stdout
Output /tmp/YLsrwnVJ48 looks good.
ok 35 - Computing differences
Testing full mailbox reset with Grep implementation
ok 36 # skip GNU grep not available
Testing filename: t/mailboxes/mailarc-3.txt
Testing partial mailbox reset with Perl implementation
Comparing /tmp/HO2ps5qL6M to t/results/reset_mailarc-3.stdout
Output /tmp/HO2ps5qL6M looks good.
ok 37 - Computing differences
Testing partial mailbox reset with Cache implementation
Comparing /tmp/o0dp_Ehmai to t/results/reset_mailarc-3.stdout
Output /tmp/o0dp_Ehmai looks good.
ok 38 - Computing differences
Testing partial mailbox reset with Grep implementation
ok 39 # skip GNU grep not available
Testing full mailbox reset with Perl implementation
Comparing /tmp/VzHUNMN3AO to t/results/reset_mailarc-3.stdout
Output /tmp/VzHUNMN3AO looks good.
ok 40 - Computing differences
Testing full mailbox reset with Cache implementation
Comparing /tmp/AA3e0mnv0O to t/results/reset_mailarc-3.stdout
Output /tmp/AA3e0mnv0O looks good.
ok 41 - Computing differences
Testing full mailbox reset with Grep implementation
ok 42 # skip GNU grep not available
Testing filename: t/mailboxes/mailseparators.txt
Testing partial mailbox reset with Perl implementation
Comparing /tmp/JX34Qqn0Pc to t/results/reset_mailseparators.stdout
Output /tmp/JX34Qqn0Pc looks good.
ok 43 - Computing differences
Testing partial mailbox reset with Cache implementation
Comparing /tmp/bTdiNWljLq to t/results/reset_mailseparators.stdout
Output /tmp/bTdiNWljLq looks good.
ok 44 - Computing differences
Testing partial mailbox reset with Grep implementation
ok 45 # skip GNU grep not available
Testing full mailbox reset with Perl implementation
Comparing /tmp/LEXHfffdcv to t/results/reset_mailseparators.stdout
Output /tmp/LEXHfffdcv looks good.
ok 46 - Computing differences
Testing full mailbox reset with Cache implementation
Comparing /tmp/_gbVy4KMHg to t/results/reset_mailseparators.stdout
Output /tmp/_gbVy4KMHg looks good.
ok 47 - Computing differences
Testing full mailbox reset with Grep implementation
ok 48 # skip GNU grep not available
Testing filename: t/mailboxes/malformed.txt
Testing partial mailbox reset with Perl implementation
Comparing /tmp/d99D643W6m to t/results/reset_malformed.stdout
Output /tmp/d99D643W6m looks good.
ok 49 - Computing differences
Testing partial mailbox reset with Cache implementation
Comparing /tmp/Xg0F5exx86 to t/results/reset_malformed.stdout
Output /tmp/Xg0F5exx86 looks good.
ok 50 - Computing differences
Testing partial mailbox reset with Grep implementation
ok 51 # skip GNU grep not available
Testing full mailbox reset with Perl implementation
Comparing /tmp/x17oAJP_ov to t/results/reset_malformed.stdout
Output /tmp/x17oAJP_ov looks good.
ok 52 - Computing differences
Testing full mailbox reset with Cache implementation
Comparing /tmp/N5Mm5YZEUi to t/results/reset_malformed.stdout
Output /tmp/N5Mm5YZEUi looks good.
ok 53 - Computing differences
Testing full mailbox reset with Grep implementation
ok 54 # skip GNU grep not available
Testing filename: t/mailboxes/newlines_at_beginning.txt
Testing partial mailbox reset with Perl implementation
Comparing /tmp/YPmzeupfMX to t/results/reset_newlines_at_beginning.stdout
Output /tmp/YPmzeupfMX looks good.
ok 55 - Computing differences
Testing partial mailbox reset with Cache implementation
Comparing /tmp/84RRRxjuEb to t/results/reset_newlines_at_beginning.stdout
Output /tmp/84RRRxjuEb looks good.
ok 56 - Computing differences
Testing partial mailbox reset with Grep implementation
ok 57 # skip GNU grep not available
Testing full mailbox reset with Perl implementation
Comparing /tmp/C0HkvAXILs to t/results/reset_newlines_at_beginning.stdout
Output /tmp/C0HkvAXILs looks good.
ok 58 - Computing differences
Testing full mailbox reset with Cache implementation
Comparing /tmp/22kvH6T0YN to t/results/reset_newlines_at_beginning.stdout
Output /tmp/22kvH6T0YN looks good.
ok 59 - Computing differences
Testing full mailbox reset with Grep implementation
ok 60 # skip GNU grep not available
ok
t/separators.t .................. 
1..6
Testing filename: t/mailboxes/separators1.sep
ok 1 - Number of emails in t/mailboxes/separators1.sep
ok 2 - Number of emails in t/mailboxes/separators1.sep
ok 3 # skip GNU grep not available
Testing filename: t/mailboxes/separators2.sep
ok 4 - Number of emails in t/mailboxes/separators2.sep
ok 5 - Number of emails in t/mailboxes/separators2.sep
ok 6 # skip GNU grep not available
ok
t/stdin_compressed.t ............ 
1..4
Testing filename: t/mailboxes/mailarc-2.txt.bz2
Comparing /tmp/lzFAKX_BSA to t/mailboxes/mailarc-2.txt
Output /tmp/lzFAKX_BSA looks good.
ok 1 - Computing differences
Testing filename: t/mailboxes/mailarc-2.txt.gz
Comparing /tmp/wLxBburhf8 to t/mailboxes/mailarc-2.txt
Output /tmp/wLxBburhf8 looks good.
ok 2 - Computing differences
Testing filename: t/mailboxes/mailarc-2.txt.lz
ok 3 # skip lzip not available
Testing filename: t/mailboxes/mailarc-2.txt.xz
Comparing /tmp/9nBtHxywmM to t/mailboxes/mailarc-2.txt
Output /tmp/9nBtHxywmM looks good.
ok 4 - Computing differences
ok
t/stdin_uncompressed.t .......... 
1..11
Testing filename: t/mailboxes/binary_body.txt
Comparing /tmp/Xf8BBCzlNo to t/mailboxes/binary_body.txt
Output /tmp/Xf8BBCzlNo looks good.
ok 1 - Computing differences
Testing filename: t/mailboxes/hessbug.txt
Comparing /tmp/1oATZfSMbi to t/mailboxes/hessbug.txt
Output /tmp/1oATZfSMbi looks good.
ok 2 - Computing differences
Testing filename: t/mailboxes/invalid-boundaries.txt
Comparing /tmp/H57QLLGctK to t/mailboxes/invalid-boundaries.txt
Output /tmp/H57QLLGctK looks good.
ok 3 - Computing differences
Testing filename: t/mailboxes/mailarc-1-dos.txt
Comparing /tmp/D41YFmNrrS to t/mailboxes/mailarc-1-dos.txt
Output /tmp/D41YFmNrrS looks good.
ok 4 - Computing differences
Testing filename: t/mailboxes/mailarc-1.txt
Comparing /tmp/6cu4j8lya1 to t/mailboxes/mailarc-1.txt
Output /tmp/6cu4j8lya1 looks good.
ok 5 - Computing differences
Testing filename: t/mailboxes/mailarc-2.txt
Comparing /tmp/CiqWmFzyJ4 to t/mailboxes/mailarc-2.txt
Output /tmp/CiqWmFzyJ4 looks good.
ok 6 - Computing differences
Testing filename: t/mailboxes/mailarc-3.txt
Comparing /tmp/2BF39xCMZN to t/mailboxes/mailarc-3.txt
Output /tmp/2BF39xCMZN looks good.
ok 7 - Computing differences
Testing filename: t/mailboxes/mailseparators.txt
Comparing /tmp/KSwSRz2GF6 to t/mailboxes/mailseparators.txt
Output /tmp/KSwSRz2GF6 looks good.
ok 8 - Computing differences
Testing filename: t/mailboxes/malformed.txt
Comparing /tmp/rsDpg3_68D to t/mailboxes/malformed.txt
Output /tmp/rsDpg3_68D looks good.
ok 9 - Computing differences
Testing filename: t/mailboxes/newlines_at_beginning.txt
Comparing /tmp/iugRhRlgj1 to t/mailboxes/newlines_at_beginning.txt
Output /tmp/iugRhRlgj1 looks good.
ok 10 - Computing differences
Testing filename: t/mailboxes/vm-emacs.txt
Comparing /tmp/G_4FwzhHhZ to t/mailboxes/vm-emacs.txt
Output /tmp/G_4FwzhHhZ looks good.
ok 11 - Computing differences
ok
t/undef_return_value.t .......... 
1..33
Testing Perl 
Comparing /tmp/fe6x1Ia3u6 to t/mailboxes/binary_body.txt
Output /tmp/fe6x1Ia3u6 looks good.
ok 1 - Computing differences
Testing Cache implementation
Comparing /tmp/pBwtCSgTqB to t/mailboxes/binary_body.txt
Output /tmp/pBwtCSgTqB looks good.
ok 2 - Computing differences
ok 3 # skip GNU grep not available
Testing Perl 
Comparing /tmp/43E7fgWsG2 to t/mailboxes/hessbug.txt
Output /tmp/43E7fgWsG2 looks good.
ok 4 - Computing differences
Testing Cache implementation
Comparing /tmp/pJkrFbUXPo to t/mailboxes/hessbug.txt
Output /tmp/pJkrFbUXPo looks good.
ok 5 - Computing differences
ok 6 # skip GNU grep not available
Testing Perl 
Comparing /tmp/dlka89JOdf to t/mailboxes/invalid-boundaries.txt
Output /tmp/dlka89JOdf looks good.
ok 7 - Computing differences
Testing Cache implementation
Comparing /tmp/QK5_Pb6zcL to t/mailboxes/invalid-boundaries.txt
Output /tmp/QK5_Pb6zcL looks good.
ok 8 - Computing differences
ok 9 # skip GNU grep not available
Testing Perl 
Comparing /tmp/147LFSWcPd to t/mailboxes/mailarc-1-dos.txt
Output /tmp/147LFSWcPd looks good.
ok 10 - Computing differences
Testing Cache implementation
Comparing /tmp/P1OcI_E9XS to t/mailboxes/mailarc-1-dos.txt
Output /tmp/P1OcI_E9XS looks good.
ok 11 - Computing differences
ok 12 # skip GNU grep not available
Testing Perl 
Comparing /tmp/AJgBTJWakq to t/mailboxes/mailarc-1.txt
Output /tmp/AJgBTJWakq looks good.
ok 13 - Computing differences
Testing Cache implementation
Comparing /tmp/TX5qAr37GS to t/mailboxes/mailarc-1.txt
Output /tmp/TX5qAr37GS looks good.
ok 14 - Computing differences
ok 15 # skip GNU grep not available
Testing Perl 
Comparing /tmp/Awk1lrI55K to t/mailboxes/mailarc-2.txt
Output /tmp/Awk1lrI55K looks good.
ok 16 - Computing differences
Testing Cache implementation
Comparing /tmp/GkrH83M1mM to t/mailboxes/mailarc-2.txt
Output /tmp/GkrH83M1mM looks good.
ok 17 - Computing differences
ok 18 # skip GNU grep not available
Testing Perl 
Comparing /tmp/yfLy2DK_aE to t/mailboxes/mailarc-3.txt
Output /tmp/yfLy2DK_aE looks good.
ok 19 - Computing differences
Testing Cache implementation
Comparing /tmp/kdyo6Jy2vm to t/mailboxes/mailarc-3.txt
Output /tmp/kdyo6Jy2vm looks good.
ok 20 - Computing differences
ok 21 # skip GNU grep not available
Testing Perl 
Comparing /tmp/b5D2dxVLDh to t/mailboxes/mailseparators.txt
Output /tmp/b5D2dxVLDh looks good.
ok 22 - Computing differences
Testing Cache implementation
Comparing /tmp/X3vHTsqdLe to t/mailboxes/mailseparators.txt
Output /tmp/X3vHTsqdLe looks good.
ok 23 - Computing differences
ok 24 # skip GNU grep not available
Testing Perl 
Comparing /tmp/CRjy5AYkHV to t/mailboxes/malformed.txt
Output /tmp/CRjy5AYkHV looks good.
ok 25 - Computing differences
Testing Cache implementation
Comparing /tmp/79XABPRXZ_ to t/mailboxes/malformed.txt
Output /tmp/79XABPRXZ_ looks good.
ok 26 - Computing differences
ok 27 # skip GNU grep not available
Testing Perl 
Comparing /tmp/R0P6gpYUo5 to t/mailboxes/newlines_at_beginning.txt
Output /tmp/R0P6gpYUo5 looks good.
ok 28 - Computing differences
Testing Cache implementation
Comparing /tmp/on_BE26m3n to t/mailboxes/newlines_at_beginning.txt
Output /tmp/on_BE26m3n looks good.
ok 29 - Computing differences
ok 30 # skip GNU grep not available
Testing Perl 
Comparing /tmp/F6rW8CMAc6 to t/mailboxes/vm-emacs.txt
Output /tmp/F6rW8CMAc6 looks good.
ok 31 - Computing differences
Testing Cache implementation
Comparing /tmp/nb3FwApS1J to t/mailboxes/vm-emacs.txt
Output /tmp/nb3FwApS1J looks good.
ok 32 - Computing differences
ok 33 # skip GNU grep not available
ok
t/xz.t .......................... 
1..1
Running test:
  "/usr/bin/cat" "t/mailboxes/mailarc-2.txt.xz" | "/usr/bin/xz" -cd
Comparing /tmp/vnGtLh0bgR to t/results/mailarc-2.txt
Output /tmp/vnGtLh0bgR looks good.
Comparing /tmp/tOsURMlOyB to t/results/none
Output /tmp/tOsURMlOyB looks good.
ok 1 - Computing differences
ok
All tests successful.
Files=25, Tests=382,  6 wallclock secs ( 0.18 usr  0.03 sys +  4.89 cusr  0.88 csys =  5.98 CPU)
Result: PASS

------------------------------
PREREQUISITES
------------------------------

Prerequisite modules loaded:

requires:

    Module              Need  Have    
    ------------------- ----- --------
    FileHandle::Unget   0     0.1634  
    perl                5.005 5.041005
    Storable            0     3.35    

build_requires:

    Module              Need  Have    
    ------------------- ----- --------
    ExtUtils::MakeMaker 6.36  7.70    
    File::Path          2.08  2.18    
    File::Slurper       0     0.014   
    Test::Compile       0     v3.3.3  
    Test::More          0     1.302204
    Text::Diff          0     1.45    
    UNIVERSAL::require  0     0.19    
    URI::Escape         0     5.29    

configure_requires:

    Module              Need  Have    
    ------------------- ----- --------
    ExtUtils::MakeMaker 6.36  7.70    
    URI::Escape         0     5.29    


------------------------------
ENVIRONMENT AND OTHER CONTEXT
------------------------------

Environment variables:

    AUTOMATED_TESTING = 1
    LANG = en_US.UTF-8
    PATH = /home/sand/bin:/usr/local/bin:/usr/local/sbin:/usr/sbin:/usr/bin:/sbin:/bin:/usr/games:/usr/local/games:/snap/bin:/usr/local/perl/bin:/usr/X11/bin
    PERL = /tmp/basesmoker-reloperl-C2pt/bin/perl
    PERL5LIB = /tmp/loop_over_bdir-2172714-EOHcwB/Lingua-YaTeA-0.626-0/blib/arch:/tmp/loop_over_bdir-2172714-EOHcwB/Lingua-YaTeA-0.626-0/blib/lib:/tmp/loop_over_bdir-2172714-EOHcwB/LiquidWeb-Storm-CLI-1.03-0/blib/arch:/tmp/loop_over_bdir-2172714-EOHcwB/LiquidWeb-Storm-CLI-1.03-0/blib/lib:/tmp/loop_over_bdir-2172714-EOHcwB/Sysync-0.38-0/blib/arch:/tmp/loop_over_bdir-2172714-EOHcwB/Sysync-0.38-0/blib/lib:/tmp/loop_over_bdir-2172714-EOHcwB/shishi-0.0.1-0/blib/arch:/tmp/loop_over_bdir-2172714-EOHcwB/shishi-0.0.1-0/blib/lib:/tmp/loop_over_bdir-2172714-EOHcwB/dta-tokwrap-0.98-0/blib/arch:/tmp/loop_over_bdir-2172714-EOHcwB/dta-tokwrap-0.98-0/blib/lib:/tmp/loop_over_bdir-2172714-EOHcwB/ProjectBuilder-0.14.1-0/blib/arch:/tmp/loop_over_bdir-2172714-EOHcwB/ProjectBuilder-0.14.1-0/blib/lib:/tmp/loop_over_bdir-2172714-EOHcwB/Devel-Required-0.16-0/blib/arch:/tmp/loop_over_bdir-2172714-EOHcwB/Devel-Required-0.16-0/blib/lib:/tmp/loop_over_bdir-2172714-EOHcwB/Captive-Portal-4.10-0/blib/arch:/tmp/loop_over_bdir-2172714-EOHcwB/Captive-Portal-4.10-0/blib/lib:/tmp/loop_over_bdir-2172714-EOHcwB/Net-ISP-Balance-1.31-0/blib/arch:/tmp/loop_over_bdir-2172714-EOHcwB/Net-ISP-Balance-1.31-0/blib/lib:/tmp/loop_over_bdir-2172714-EOHcwB/CGI-Application-NetNewsIface-0.0204-0/blib/arch:/tmp/loop_over_bdir-2172714-EOHcwB/CGI-Application-NetNewsIface-0.0204-0/blib/lib
    PERL5OPT = 
    PERL5_CPANPLUS_IS_RUNNING = 2172723
    PERL5_CPAN_IS_RUNNING = 2172723
    PERL_CANARY_STABILITY_NOPROMPT = 1
    PERL_MM_USE_DEFAULT = 1
    PERL_USE_UNSAFE_INC = 1
    SHELL = /usr/bin/zsh
    TERM = screen

Perl special variables (and OS-specific diagnostics, for MSWin32):

    $^X = /tmp/basesmoker-reloperl-C2pt/bin/perl
    $UID/$EUID = 1005 / 1005
    $GID = 1005 1005
    $EGID = 1005 1005

Perl module toolchain versions installed:

    Module              Have    
    ------------------- --------
    CPAN                2.38    
    CPAN::Meta          2.150010
    Cwd                 3.92    
    ExtUtils::CBuilder  0.280240
    ExtUtils::Command   7.70    
    ExtUtils::Install   2.22    
    ExtUtils::MakeMaker 7.70    
    ExtUtils::Manifest  1.75    
    ExtUtils::ParseXS   3.55    
    File::Spec          3.93    
    JSON                4.10    
    JSON::PP            4.16    
    Module::Build       0.4234  
    Module::Signature   0.89    
    Parse::CPAN::Meta   2.150010
    Test2               1.302204
    Test::Harness       3.50    
    Test::More          1.302204
    YAML                1.31    
    YAML::Syck          1.34    
    version             0.9933  


--

Summary of my perl5 (revision 5 version 41 subversion 5) configuration:
  Commit id: 49feb78d039f9c146d7060a6b02af643e5b21489
  Platform:
    osname=linux
    osvers=5.4.0-193-generic
    archname=x86_64-linux-thread-multi-ld
    uname='linux k93focal 5.4.0-193-generic #213-ubuntu smp fri aug 2 19:14:16 utc 2024 x86_64 x86_64 x86_64 gnulinux '
    config_args='-Dprefix=/home/sand/src/perl/repoperls/installed-perls/host/k93focal/v5.41.5/e463 -Dmyhostname=k93focal -Dinstallusrbinperl=n -Uversiononly -Dusedevel -des -Ui_db -Dlibswanted=cl pthread socket inet nsl gdbm dbm malloc dl ld sun m crypt sec util c cposix posix ucb BSD gdbm_compat -Duseithreads -Duselongdouble -DEBUGGING=both'
    hint=recommended
    useposix=true
    d_sigaction=define
    useithreads=define
    usemultiplicity=define
    use64bitint=define
    use64bitall=define
    uselongdouble=define
    usemymalloc=n
    default_inc_excludes_dot=define
  Compiler:
    cc='cc'
    ccflags ='-D_REENTRANT -D_GNU_SOURCE -fwrapv -DDEBUGGING -fno-strict-aliasing -pipe -fstack-protector-strong -I/usr/local/include -D_LARGEFILE_SOURCE -D_FILE_OFFSET_BITS=64'
    optimize='-O2 -g'
    cppflags='-D_REENTRANT -D_GNU_SOURCE -fwrapv -DDEBUGGING -fno-strict-aliasing -pipe -fstack-protector-strong -I/usr/local/include'
    ccversion=''
    gccversion='9.4.0'
    gccosandvers=''
    intsize=4
    longsize=8
    ptrsize=8
    doublesize=8
    byteorder=12345678
    doublekind=3
    d_longlong=define
    longlongsize=8
    d_longdbl=define
    longdblsize=16
    longdblkind=3
    ivtype='long'
    ivsize=8
    nvtype='long double'
    nvsize=16
    Off_t='off_t'
    lseeksize=8
    alignbytes=16
    prototype=define
  Linker and Libraries:
    ld='cc'
    ldflags =' -fstack-protector-strong -L/usr/local/lib'
    libpth=/usr/local/lib /usr/lib/x86_64-linux-gnu /usr/lib /usr/lib64
    libs=-lpthread -lnsl -ldl -lm -lcrypt -lutil -lc
    perllibs=-lpthread -lnsl -ldl -lm -lcrypt -lutil -lc
    libc=libc-2.31.so
    so=so
    useshrplib=false
    libperl=libperl.a
    gnulibc_version='2.31'
  Dynamic Linking:
    dlsrc=dl_dlopen.xs
    dlext=so
    d_dlsymun=undef
    ccdlflags='-Wl,-E'
    cccdlflags='-fPIC'
    lddlflags='-shared -O2 -g -L/usr/local/lib -fstack-protector-strong'


Characteristics of this binary (from libperl): 
  Compile-time options:
    DEBUGGING
    HAS_LONG_DOUBLE
    HAS_STRTOLD
    HAS_TIMES
    MULTIPLICITY
    PERLIO_LAYERS
    PERL_COPY_ON_WRITE
    PERL_DONT_CREATE_GVSV
    PERL_HASH_FUNC_SIPHASH13
    PERL_HASH_USE_SBOX32
    PERL_MALLOC_WRAP
    PERL_OP_PARENT
    PERL_PRESERVE_IVUV
    PERL_TRACK_MEMPOOL
    PERL_USE_DEVEL
    PERL_USE_SAFE_PUTENV
    USE_64_BIT_ALL
    USE_64_BIT_INT
    USE_ITHREADS
    USE_LARGE_FILES
    USE_LOCALE
    USE_LOCALE_COLLATE
    USE_LOCALE_CTYPE
    USE_LOCALE_NUMERIC
    USE_LOCALE_TIME
    USE_LONG_DOUBLE
    USE_PERLIO
    USE_PERL_ATOF
    USE_REENTRANT_API
    USE_THREAD_SAFE_LOCALE
  Built under linux
  Compiled at Oct 21 2024 08:44:55
  %ENV:
    PERL="/tmp/basesmoker-reloperl-C2pt/bin/perl"
    PERL5LIB="/tmp/loop_over_bdir-2172714-EOHcwB/Lingua-YaTeA-0.626-0/blib/arch:/tmp/loop_over_bdir-2172714-EOHcwB/Lingua-YaTeA-0.626-0/blib/lib:/tmp/loop_over_bdir-2172714-EOHcwB/LiquidWeb-Storm-CLI-1.03-0/blib/arch:/tmp/loop_over_bdir-2172714-EOHcwB/LiquidWeb-Storm-CLI-1.03-0/blib/lib:/tmp/loop_over_bdir-2172714-EOHcwB/Sysync-0.38-0/blib/arch:/tmp/loop_over_bdir-2172714-EOHcwB/Sysync-0.38-0/blib/lib:/tmp/loop_over_bdir-2172714-EOHcwB/shishi-0.0.1-0/blib/arch:/tmp/loop_over_bdir-2172714-EOHcwB/shishi-0.0.1-0/blib/lib:/tmp/loop_over_bdir-2172714-EOHcwB/dta-tokwrap-0.98-0/blib/arch:/tmp/loop_over_bdir-2172714-EOHcwB/dta-tokwrap-0.98-0/blib/lib:/tmp/loop_over_bdir-2172714-EOHcwB/ProjectBuilder-0.14.1-0/blib/arch:/tmp/loop_over_bdir-2172714-EOHcwB/ProjectBuilder-0.14.1-0/blib/lib:/tmp/loop_over_bdir-2172714-EOHcwB/Devel-Required-0.16-0/blib/arch:/tmp/loop_over_bdir-2172714-EOHcwB/Devel-Required-0.16-0/blib/lib:/tmp/loop_over_bdir-2172714-EOHcwB/Captive-Portal-4.10-0/blib/arch:/tmp/loop_over_bdir-2172714-EOHcwB/Captive-Portal-4.10-0/blib/lib:/tmp/loop_over_bdir-2172714-EOHcwB/Net-ISP-Balance-1.31-0/blib/arch:/tmp/loop_over_bdir-2172714-EOHcwB/Net-ISP-Balance-1.31-0/blib/lib:/tmp/loop_over_bdir-2172714-EOHcwB/CGI-Application-NetNewsIface-0.0204-0/blib/arch:/tmp/loop_over_bdir-2172714-EOHcwB/CGI-Application-NetNewsIface-0.0204-0/blib/lib"
    PERL5OPT=""
    PERL5_CPANPLUS_IS_RUNNING="2172723"
    PERL5_CPAN_IS_RUNNING="2172723"
    PERL_CANARY_STABILITY_NOPROMPT="1"
    PERL_MM_USE_DEFAULT="1"
    PERL_USE_UNSAFE_INC="1"
  @INC:
    /tmp/loop_over_bdir-2172714-EOHcwB/Lingua-YaTeA-0.626-0/blib/arch
    /tmp/loop_over_bdir-2172714-EOHcwB/Lingua-YaTeA-0.626-0/blib/lib
    /tmp/loop_over_bdir-2172714-EOHcwB/LiquidWeb-Storm-CLI-1.03-0/blib/arch
    /tmp/loop_over_bdir-2172714-EOHcwB/LiquidWeb-Storm-CLI-1.03-0/blib/lib
    /tmp/loop_over_bdir-2172714-EOHcwB/Sysync-0.38-0/blib/arch
    /tmp/loop_over_bdir-2172714-EOHcwB/Sysync-0.38-0/blib/lib
    /tmp/loop_over_bdir-2172714-EOHcwB/shishi-0.0.1-0/blib/arch
    /tmp/loop_over_bdir-2172714-EOHcwB/shishi-0.0.1-0/blib/lib
    /tmp/loop_over_bdir-2172714-EOHcwB/dta-tokwrap-0.98-0/blib/arch
    /tmp/loop_over_bdir-2172714-EOHcwB/dta-tokwrap-0.98-0/blib/lib
    /tmp/loop_over_bdir-2172714-EOHcwB/ProjectBuilder-0.14.1-0/blib/arch
    /tmp/loop_over_bdir-2172714-EOHcwB/ProjectBuilder-0.14.1-0/blib/lib
    /tmp/loop_over_bdir-2172714-EOHcwB/Devel-Required-0.16-0/blib/arch
    /tmp/loop_over_bdir-2172714-EOHcwB/Devel-Required-0.16-0/blib/lib
    /tmp/loop_over_bdir-2172714-EOHcwB/Captive-Portal-4.10-0/blib/arch
    /tmp/loop_over_bdir-2172714-EOHcwB/Captive-Portal-4.10-0/blib/lib
    /tmp/loop_over_bdir-2172714-EOHcwB/Net-ISP-Balance-1.31-0/blib/arch
    /tmp/loop_over_bdir-2172714-EOHcwB/Net-ISP-Balance-1.31-0/blib/lib
    /tmp/loop_over_bdir-2172714-EOHcwB/CGI-Application-NetNewsIface-0.0204-0/blib/arch
    /tmp/loop_over_bdir-2172714-EOHcwB/CGI-Application-NetNewsIface-0.0204-0/blib/lib
    /home/sand/src/perl/repoperls/installed-perls/host/k93focal/v5.41.5/e463/lib/site_perl/5.41.5/x86_64-linux-thread-multi-ld
    /home/sand/src/perl/repoperls/installed-perls/host/k93focal/v5.41.5/e463/lib/site_perl/5.41.5
    /home/sand/src/perl/repoperls/installed-perls/host/k93focal/v5.41.5/e463/lib/5.41.5/x86_64-linux-thread-multi-ld
    /home/sand/src/perl/repoperls/installed-perls/host/k93focal/v5.41.5/e463/lib/5.41.5
    .