Test-Pod-LinkCheck v0.008 Perl 5 v5.40.0 darwin-thread-multi-2level

Status
Pass
From
Stanislaw Pusep
Dist
Test-Pod-LinkCheck v0.008
Platform
Perl 5 v5.40.0 darwin-thread-multi-2level
Date
2024-10-23 10:56:27
ID
73fcda82-912d-11ef-a35d-da7a5e52f10d
This distribution has been tested as part of the CPAN Testers
project, supporting the Perl programming language.  See
http://wiki.cpantesters.org/ for more information or email
questions to cpan-testers-discuss@perl.org


--
Dear APOCAL,

This is a computer-generated report for Test-Pod-LinkCheck-0.008
on perl 5.40.0, created by App::cpanminus::reporter 0.22 (1.7047).

Thank you for uploading your work to CPAN.  Congratulations!
All tests were successful.

Sections of this report:

    * Tester comments
    * Program output
    * Prerequisites
    * Environment and other context

------------------------------
TESTER COMMENTS
------------------------------

Additional comments from tester:

none provided

------------------------------
PROGRAM OUTPUT
------------------------------

Output from '':

Building and testing Test-Pod-LinkCheck-0.008
cp lib/Test/Pod/LinkCheck.pm blib/lib/Test/Pod/LinkCheck.pm
t/00-compile.t ................ ok
# 
You should load Test::Tester before Test::Builder (or anything that loads Test::Builder) at /opt/homebrew/opt/perl/lib/perl5/5.40/Test/Tester.pm line 9.
# 
# Generated by Dist::Zilla::Plugin::ReportVersions::Tiny v1.10
# perl: 5.040000 (wanted 5.006) on darwin from /opt/homebrew/Cellar/perl/5.40.0/bin/perl
# 
# App::PodLinkCheck::ParseLinks                 => 15         (want 4)      
# App::PodLinkCheck::ParseSections              => 15         (want any version)
# Capture::Tiny                                 => 0.48       (want any version)
# Exporter                                      => 5.78       (want any version)
# ExtUtils::MakeMaker                           => 7.70       (want any version)
# File::Spec                                    => 3.90       (want any version)
# File::Temp                                    => 0.2311     (want any version)
# IO::Handle                                    => 1.55       (want any version)
# IPC::Open3                                    => 1.22       (want any version)
# Module::Build::Tiny                           => 0.051      (want 0.039)  
# Moose                                         => 2.2207     (want 1.01)   
# Moose::Util::TypeConstraints                  => 2.2207     (want 1.01)   
# Pod::Find                                     => 1.67       (want any version)
# Test::Builder                                 => 1.302199   (want 0.94)   
# Test::More                                    => 1.302199   (want 0.88)   
# Test::Pod                                     => 1.52       (want 1.44)   
# Test::Tester                                  => 1.302199   (want any version)
# parent                                        => 0.241      (want any version)
# strict                                        => 1.13       (want any version)
# warnings                                      => 1.70       (want any version)
# 
# Thanks for using my code.  I hope it works for you.
# If not, please try and include this output in the bug report.
# That will help me reproduce the issue and solve your problem.
# 
t/000-report-versions-tiny.t .. ok
t/apocalypse.t ................ skipped: Test::Apocalypse required for validating the distribution
t/cpan_backend.t .............. ok
t/functions.t ................. ok
t/simple.t .................... ok
All tests successful.

Test Summary Report
-------------------
t/cpan_backend.t            (Wstat: 0 Tests: 24 Failed: 0)
  TODO passed:   5-8, 21-24
Files=6, Tests=130,  3 wallclock secs ( 0.01 usr  0.01 sys +  2.47 cusr  0.38 csys =  2.87 CPU)
Result: PASS

------------------------------
PREREQUISITES
------------------------------

Prerequisite modules loaded:

runtime:

    Module                           Need  Have    
    -------------------------------- ----- --------
    App::PodLinkCheck::ParseLinks    4     15      
    App::PodLinkCheck::ParseSections 0     15      
    Capture::Tiny                    0     0.48    
    Exporter                         0     5.78    
    File::Spec                       0     3.90    
    Moose                            1.01  2.2207  
    Moose::Util::TypeConstraints     1.01  2.2207  
    parent                           0     0.242   
    perl                             5.006 5.040000
    Pod::Find                        0     1.67    
    strict                           0     1.13    
    Test::Builder                    0.94  1.302204
    Test::Pod                        1.44  1.52    
    warnings                         0     1.70    

configure:

    Module                           Need  Have    
    -------------------------------- ----- --------
    ExtUtils::MakeMaker              0     7.70    
    Module::Build::Tiny              0.039 0.051   
    perl                             5.006 5.040000


------------------------------
ENVIRONMENT AND OTHER CONTEXT
------------------------------

Environment variables:

    LANG = en_US.UTF-8
    LC_ALL = en_US.UTF-8
    LDFLAGS = -L/opt/homebrew/opt/curl/lib
    PATH = /opt/homebrew/opt/node@18/bin:/opt/homebrew/Cellar/perl/5.36.1/bin:/opt/homebrew/opt/curl/bin:/opt/homebrew/bin:/opt/homebrew/sbin:/usr/local/bin:/System/Cryptexes/App/usr/bin:/usr/bin:/bin:/usr/sbin:/sbin:/var/run/com.apple.security.cryptexd/codex.system/bootstrap/usr/local/bin:/var/run/com.apple.security.cryptexd/codex.system/bootstrap/usr/bin:/var/run/com.apple.security.cryptexd/codex.system/bootstrap/usr/appleinternal/bin:/Applications/Little Snitch.app/Contents/Components:/Users/stanislawpusep/.vim/bin:/Users/stanislawpusep/bin:/Users/stanislawpusep/node_modules/.bin:/usr/local/sbin:/opt/homebrew/opt/node@18/bin:/opt/homebrew/Cellar/perl/5.36.1/bin:/Users/stanislawpusep/perl5/bin:/opt/homebrew/opt/curl/bin:/Applications/kitty.app/Contents/MacOS:/Users/stanislawpusep/.local/bin:/Users/stanislawpusep/.local/bin:/Users/stanislawpusep/.local/bin
    PERL5LIB = /Users/stanislawpusep/perl5/lib/perl5
    PERL_LOCAL_LIB_ROOT = /Users/stanislawpusep/perl5
    PERL_MB_OPT = --install_base "/Users/stanislawpusep/perl5"
    PERL_MM_OPT = INSTALL_BASE=/Users/stanislawpusep/perl5
    PERL_MM_USE_DEFAULT = 1
    SHELL = /bin/zsh
    TERM = tmux-256color
    TMPDIR = /var/folders/w1/125w8syj3fx4505hrl72wjjm0000gp/T/

Perl special variables (and OS-specific diagnostics, for MSWin32):

    EGID = 20 20 12 61 79 80 81 98 701 33 100 204 250 395 398 399 400
    EUID = 502
    EXECUTABLE_NAME = /opt/homebrew/Cellar/perl/5.40.0/bin/perl
    GID = 20 20 12 61 79 80 81 98 701 33 100 204 250 395 398 399 400
    UID = 502

Perl module toolchain versions installed:

    Module              Have    
    ------------------- --------
    CPAN                2.37    
    CPAN::Meta          2.150010
    Cwd                 3.90    
    ExtUtils::CBuilder  0.280240
    ExtUtils::Command   7.70    
    ExtUtils::Install   2.22    
    ExtUtils::MakeMaker 7.70    
    ExtUtils::Manifest  1.75    
    ExtUtils::ParseXS   3.51    
    File::Spec          3.90    
    JSON                4.10    
    JSON::PP            4.16    
    Module::Build       0.4234  
    Module::Signature   n/a     
    Parse::CPAN::Meta   2.150010
    Test::Harness       3.50    
    Test::More          1.302204
    YAML                1.31    
    YAML::Syck          n/a     
    version             0.9933  


--

Summary of my perl5 (revision 5 version 40 subversion 0) configuration:
   
  Platform:
    osname=darwin
    osvers=24.0.0
    archname=darwin-thread-multi-2level
    uname='darwin sequoia-arm64.local 24.0.0 darwin kernel version 24.0.0: mon aug 12 20:54:20 pdt 2024; root:xnu-11215.1.10~2release_arm64_vmapple arm64 '
    config_args='-des -Dinstallstyle=lib/perl5 -Dinstallprefix=/opt/homebrew/Cellar/perl/5.40.0 -Dprefix=/opt/homebrew/opt/perl -Dprivlib=/opt/homebrew/opt/perl/lib/perl5/5.40 -Dsitelib=/opt/homebrew/opt/perl/lib/perl5/site_perl/5.40 -Dotherlibdirs=/opt/homebrew/lib/perl5/site_perl/5.40 -Dperlpath=/opt/homebrew/opt/perl/bin/perl -Dstartperl=#!/opt/homebrew/opt/perl/bin/perl -Dman1dir=/opt/homebrew/opt/perl/share/man/man1 -Dman3dir=/opt/homebrew/opt/perl/share/man/man3 -Duseshrplib -Duselargefiles -Dusethreads'
    hint=recommended
    useposix=true
    d_sigaction=define
    useithreads=define
    usemultiplicity=define
    use64bitint=define
    use64bitall=define
    uselongdouble=undef
    usemymalloc=n
    default_inc_excludes_dot=define
  Compiler:
    cc='cc'
    ccflags ='-fno-common -DPERL_DARWIN -mmacosx-version-min=15.0 -DNO_THREAD_SAFE_QUERYLOCALE -DNO_POSIX_2008_LOCALE -fno-strict-aliasing -pipe -fstack-protector-strong'
    optimize='-O3'
    cppflags='-fno-common -DPERL_DARWIN -mmacosx-version-min=15.0 -DNO_THREAD_SAFE_QUERYLOCALE -DNO_POSIX_2008_LOCALE -fno-strict-aliasing -pipe -fstack-protector-strong'
    ccversion=''
    gccversion='Apple LLVM 16.0.0 (clang-1600.0.26.3)'
    gccosandvers=''
    intsize=4
    longsize=8
    ptrsize=8
    doublesize=8
    byteorder=12345678
    doublekind=3
    d_longlong=define
    longlongsize=8
    d_longdbl=define
    longdblsize=8
    longdblkind=0
    ivtype='long'
    ivsize=8
    nvtype='double'
    nvsize=8
    Off_t='off_t'
    lseeksize=8
    alignbytes=8
    prototype=define
  Linker and Libraries:
    ld='cc'
    ldflags =' -mmacosx-version-min=15.0 -fstack-protector-strong'
    libpth=/opt/homebrew/Cellar/berkeley-db@5/5.3.28_1/lib /opt/homebrew/lib /Applications/Xcode.app/Contents/Developer/Toolchains/XcodeDefault.xctoolchain/usr/lib/clang/16/lib /Library/Developer/CommandLineTools/SDKs/MacOSX15.0.sdk/usr/lib /Applications/Xcode.app/Contents/Developer/Toolchains/XcodeDefault.xctoolchain/usr/lib /usr/lib
    libs=-lgdbm -ldb
    perllibs=
    libc=
    so=dylib
    useshrplib=true
    libperl=libperl.dylib
    gnulibc_version=''
  Dynamic Linking:
    dlsrc=dl_dlopen.xs
    dlext=bundle
    d_dlsymun=undef
    ccdlflags=' '
    cccdlflags=' '
    lddlflags=' -mmacosx-version-min=15.0 -bundle -undefined dynamic_lookup -fstack-protector-strong'


Characteristics of this binary (from libperl): 
  Compile-time options:
    HAS_LONG_DOUBLE
    HAS_STRTOLD
    HAS_TIMES
    MULTIPLICITY
    PERLIO_LAYERS
    PERL_COPY_ON_WRITE
    PERL_DONT_CREATE_GVSV
    PERL_HASH_FUNC_SIPHASH13
    PERL_HASH_USE_SBOX32
    PERL_MALLOC_WRAP
    PERL_OP_PARENT
    PERL_PRESERVE_IVUV
    PERL_USE_SAFE_PUTENV
    USE_64_BIT_ALL
    USE_64_BIT_INT
    USE_ITHREADS
    USE_LARGE_FILES
    USE_LOCALE
    USE_LOCALE_COLLATE
    USE_LOCALE_CTYPE
    USE_LOCALE_NUMERIC
    USE_LOCALE_TIME
    USE_PERLIO
    USE_PERL_ATOF
    USE_REENTRANT_API
  Built under darwin
  Compiled at Jun  9 2024 15:01:57
  %ENV:
    PERL5LIB="/Users/stanislawpusep/perl5/lib/perl5"
    PERL_LOCAL_LIB_ROOT="/Users/stanislawpusep/perl5"
    PERL_MB_OPT="--install_base "/Users/stanislawpusep/perl5""
    PERL_MM_OPT="INSTALL_BASE=/Users/stanislawpusep/perl5"
    PERL_MM_USE_DEFAULT="1"
  @INC:
    /Users/stanislawpusep/perl5/lib/perl5/darwin-thread-multi-2level
    /Users/stanislawpusep/perl5/lib/perl5
    /opt/homebrew/opt/perl/lib/perl5/site_perl/5.40/darwin-thread-multi-2level
    /opt/homebrew/opt/perl/lib/perl5/site_perl/5.40
    /opt/homebrew/opt/perl/lib/perl5/5.40/darwin-thread-multi-2level
    /opt/homebrew/opt/perl/lib/perl5/5.40
    /opt/homebrew/lib/perl5/site_perl/5.40