Report for POE-Component-IRC-6.86

Back
From: metabase:user:320bfe00-2aae-11df-837a-5e0a49663a4f
Subject: PASS POE-Component-IRC-6.86 v5.12.5 GNU/Linux
Date: 2014-06-20T10:20:07Z

This distribution has been tested as part of the CPAN Testers
project, supporting the Perl programming language.  See
http://wiki.cpantesters.org/ for more information or email
questions to cpan-testers-discuss@perl.org


--
Dear Chris Williams,

This is a computer-generated report for POE-Component-IRC-6.86
on perl 5.12.5, created by CPAN-Reporter-1.2011.

Thank you for uploading your work to CPAN.  Congratulations!
All tests were successful.

Sections of this report:

    * Tester comments
    * Program output
    * Prerequisites
    * Environment and other context

------------------------------
TESTER COMMENTS
------------------------------

Additional comments from tester:

this report is from an automated smoke testing program
and was not reviewed by a human for accuracy

------------------------------
PROGRAM OUTPUT
------------------------------

Output from '/usr/bin/make test':

PERL_DL_NONLAZY=1 /home/sand/src/perl/repoperls/installed-perls/perl/v5.12.5/a2da/bin/perl "-MExtUtils::Command::MM" "-MTest::Harness" "-e" "undef *Test::Harness::Switches; test_harness(0, 'blib/lib', 'blib/arch')" t/01_base/*.t t/02_behavior/*.t t/03_subclasses/*.t t/04_plugins/01_ctcp/*.t t/04_plugins/02_connector/*.t t/04_plugins/03_botaddressed/*.t t/04_plugins/04_bottraffic/*.t t/04_plugins/05_isupport/*.t t/04_plugins/06_plugman/*.t t/04_plugins/07_console/*.t t/04_plugins/08_proxy/*.t t/04_plugins/09_nickreclaim/*.t t/04_plugins/10_followtail/*.t t/04_plugins/11_cycleempty/*.t t/04_plugins/12_autojoin/*.t t/04_plugins/13_botcommand/*.t t/04_plugins/14_logger/*.t t/04_plugins/15_nickservid/*.t t/04_plugins/16_whois/*.t t/04_plugins/17_dcc/*.t t/05_regression/*.t
t/01_base/01_compile.t ............................. ok
t/01_base/02_filters.t ............................. ok
t/01_base/04_pocosi.t .............................. ok
t/02_behavior/01_public_methods.t .................. ok
t/02_behavior/02_connect.t ......................... ok
t/02_behavior/03_socketerr.t ....................... ok
t/02_behavior/04_ipv6.t ............................ ok
t/02_behavior/05_resolver.t ........................ skipped: POE::Component::Client::DNS 0.99 not installed
# irc_registered
# irc_connected
# irc_snotice:  '*** Looking up your hostname...' '*' 'card.freenode.net'
# irc_snotice:  '*** Checking Ident' '*' 'card.freenode.net'
# irc_snotice:  '*** Found your hostname' '*' 'card.freenode.net'
# irc_snotice:  '*** No Ident response' '*' 'card.freenode.net'
# irc_cap:  'ACK' 'identify-msg '
# irc_cap:  'ACK' 'multi-prefix '
# irc_cap:  'LS' 'account-notify extended-join identify-msg multi-prefix sasl'
# irc_001
# irc_002:  'card.freenode.net' 'Your host is card.freenode.net[38.229.70.20/6667], running version ircd-seven-1.1.3' [Your host is card.freenode.net[38.229.70.20/6667], running version ircd-seven-1.1.3]
# irc_003:  'card.freenode.net' 'This server was created Wed Jun 11 2014 at 21:28:51 UTC' [This server was created Wed Jun 11 2014 at 21:28:51 UTC]
# irc_004:  'card.freenode.net' 'card.freenode.net ircd-seven-1.1.3 DOQRSZaghilopswz CFILMPQSbcefgijklmnopqrstvz bkloveqjfI' [card.freenode.net, ircd-seven-1.1.3, DOQRSZaghilopswz, CFILMPQSbcefgijklmnopqrstvz, bkloveqjfI]
# irc_005:  'card.freenode.net' 'CHANTYPES=# EXCEPTS INVEX CHANMODES=eIbq,k,flj,CFLMPQScgimnprstz CHANLIMIT=#:120 PREFIX=(ov)@+ MAXLIST=bqeI:100 MODES=4 NETWORK=freenode KNOCK STATUSMSG=@+ CALLERID=g :are supported by this server' [CHANTYPES=#, EXCEPTS, INVEX, CHANMODES=eIbq,k,flj,CFLMPQScgimnprstz, CHANLIMIT=#:120, PREFIX=(ov)@+, MAXLIST=bqeI:100, MODES=4, NETWORK=freenode, KNOCK, STATUSMSG=@+, CALLERID=g, are supported by this server]
# irc_005:  'card.freenode.net' 'CASEMAPPING=rfc1459 CHARSET=ascii NICKLEN=16 CHANNELLEN=50 TOPICLEN=390 ETRACE CPRIVMSG CNOTICE DEAF=D MONITOR=100 FNC TARGMAX=NAMES:1,LIST:1,KICK:1,WHOIS:1,PRIVMSG:4,NOTICE:4,ACCEPT:,MONITOR: :are supported by this server' [CASEMAPPING=rfc1459, CHARSET=ascii, NICKLEN=16, CHANNELLEN=50, TOPICLEN=390, ETRACE, CPRIVMSG, CNOTICE, DEAF=D, MONITOR=100, FNC, TARGMAX=NAMES:1,LIST:1,KICK:1,WHOIS:1,PRIVMSG:4,NOTICE:4,ACCEPT:,MONITOR:, are supported by this server]
# irc_005:  'card.freenode.net' 'EXTBAN=$,ajrxz WHOX CLIENTVER=3.0 SAFELIST ELIST=CTU :are supported by this server' [EXTBAN=$,ajrxz, WHOX, CLIENTVER=3.0, SAFELIST, ELIST=CTU, are supported by this server]
# irc_isupport:  'POE::Component::IRC::Plugin::ISupport=HASH(0x1788d58)'
# irc_251:  'card.freenode.net' 'There are 192 users and 88932 invisible on 27 servers' [There are 192 users and 88932 invisible on 27 servers]
# irc_252:  'card.freenode.net' '30 :IRC Operators online' [30, IRC Operators online]
# irc_253:  'card.freenode.net' '52 :unknown connection(s)' [52, unknown connection(s)]
# irc_254:  'card.freenode.net' '52384 :channels formed' [52384, channels formed]
# irc_255:  'card.freenode.net' 'I have 5095 clients and 1 servers' [I have 5095 clients and 1 servers]
# irc_265:  'card.freenode.net' '5095 6716 :Current local users 5095, max 6716' [5095, 6716, Current local users 5095, max 6716]
# irc_266:  'card.freenode.net' '89124 97139 :Current global users 89124, max 97139' [89124, 97139, Current global users 89124, max 97139]
# irc_250:  'card.freenode.net' 'Highest connection count: 6717 (6716 clients) (278921 connections received)' [Highest connection count: 6717 (6716 clients) (278921 connections received)]
# irc_375:  'card.freenode.net' '- card.freenode.net Message of the Day - ' [- card.freenode.net Message of the Day - ]
# irc_372:  'card.freenode.net' '-  ' [-  ]
# irc_372:  'card.freenode.net' '- Welcome to card.freenode.net in Washington, DC, US, kindly sponsored by' [- Welcome to card.freenode.net in Washington, DC, US, kindly sponsored by]
# irc_372:  'card.freenode.net' '- Team Cymru (http://www.team-cymru.org).' [- Team Cymru (http://www.team-cymru.org).]
# irc_372:  'card.freenode.net' '-  ' [-  ]
# irc_372:  'card.freenode.net' '- CARD, ORSON SCOTT [1951-].  Born in Richland, Washington, Card grew up in' [- CARD, ORSON SCOTT [1951-].  Born in Richland, Washington, Card grew up in]
# irc_372:  'card.freenode.net' '- California, Arizona, and Utah.  He lived in Brazil for two years as an' [- California, Arizona, and Utah.  He lived in Brazil for two years as an]
# irc_372:  'card.freenode.net' '- unpaid missionary for the Mormon Church.  Author of the Ender and Alvin' [- unpaid missionary for the Mormon Church.  Author of the Ender and Alvin]
# irc_372:  'card.freenode.net' '- Maker books, Card's science fiction and fantasy work is strongly influenced' [- Maker books, Card's science fiction and fantasy work is strongly influenced]
# irc_372:  'card.freenode.net' '- by his Mormon cultural background.  The first author to win the Hugo and' [- by his Mormon cultural background.  The first author to win the Hugo and]
# irc_372:  'card.freenode.net' '- Nebula novel awards two years in a row, Card currently lives in Greensboro,' [- Nebula novel awards two years in a row, Card currently lives in Greensboro,]
# irc_372:  'card.freenode.net' '- North Carolina, US.' [- North Carolina, US.]
# irc_372:  'card.freenode.net' '-  ' [-  ]
# irc_372:  'card.freenode.net' '-  ' [-  ]
# irc_372:  'card.freenode.net' '- Welcome to freenode - supporting the free and open source' [- Welcome to freenode - supporting the free and open source]
# irc_372:  'card.freenode.net' '- software communities since 1998.' [- software communities since 1998.]
# irc_372:  'card.freenode.net' '-  ' [-  ]
# irc_372:  'card.freenode.net' '- By connecting to freenode you indicate that you have read and' [- By connecting to freenode you indicate that you have read and]
# irc_372:  'card.freenode.net' '- accept our policies as set out on http://www.freenode.net' [- accept our policies as set out on http://www.freenode.net]
# irc_372:  'card.freenode.net' '- freenode runs an open proxy scanner. Please join #freenode for' [- freenode runs an open proxy scanner. Please join #freenode for]
# irc_372:  'card.freenode.net' '- any network-related questions or queries, where a number of' [- any network-related questions or queries, where a number of]
# irc_372:  'card.freenode.net' '- volunteer staff and helpful users will be happy to assist you.' [- volunteer staff and helpful users will be happy to assist you.]
# irc_372:  'card.freenode.net' '-  ' [-  ]
# irc_372:  'card.freenode.net' '- You can meet us at FOSSCON (http://www.fosscon.org) where we get' [- You can meet us at FOSSCON (http://www.fosscon.org) where we get]
# irc_372:  'card.freenode.net' '- together with like-minded FOSS enthusiasts for talks and' [- together with like-minded FOSS enthusiasts for talks and]
# irc_372:  'card.freenode.net' '- real-life collaboration.' [- real-life collaboration.]
# irc_372:  'card.freenode.net' '-  ' [-  ]
# irc_372:  'card.freenode.net' '- We would like to thank Private Internet Access' [- We would like to thank Private Internet Access]
# irc_372:  'card.freenode.net' '- (https://www.privateinternetaccess.com/) and the other' [- (https://www.privateinternetaccess.com/) and the other]
# irc_372:  'card.freenode.net' '- organisations that help keep freenode and our other projects' [- organisations that help keep freenode and our other projects]
# irc_372:  'card.freenode.net' '- running for their sustained support.' [- running for their sustained support.]
# irc_372:  'card.freenode.net' '-  ' [-  ]
# irc_372:  'card.freenode.net' '- In particular we would like to thank the sponsor' [- In particular we would like to thank the sponsor]
# irc_372:  'card.freenode.net' '- of this server, details of which can be found above.' [- of this server, details of which can be found above.]
# irc_372:  'card.freenode.net' '-  ' [-  ]
# irc_372:  'card.freenode.net' '- ***************************************************************' [- ***************************************************************]
# irc_372:  'card.freenode.net' '- Please read http://blog.freenode.net/2010/11/be-safe-out-there/' [- Please read http://blog.freenode.net/2010/11/be-safe-out-there/]
# irc_372:  'card.freenode.net' '- ***************************************************************' [- ***************************************************************]
# irc_376:  'card.freenode.net' 'End of /MOTD command.' [End of /MOTD command.]
# irc_mode:  'PoCoIRC21469' 'PoCoIRC21469' '+i'
# irc_quit:  'PoCoIRC21469!~sand@p5DDB2902.dip0.t-ipconnect.de' 'Client Quit'
# irc_error: [Closing Link: p5DDB2902.dip0.t-ipconnect.de (Client Quit)]
# irc_disconnected
# irc_plugin_del:  'DCC_1' 'POE::Component::IRC::Plugin::DCC=HASH(0x131ea58)'
# irc_plugin_del:  'ISupport_1' 'POE::Component::IRC::Plugin::ISupport=HASH(0x1788d58)'
# irc_plugin_del:  'Whois_1' 'POE::Component::IRC::Plugin::Whois=HASH(0x1788d40)'
# irc_shutdown:  '3'
t/02_behavior/06_online.t .......................... ok
t/02_behavior/07_subclass.t ........................ ok
t/02_behavior/08_parent_session.t .................. ok
t/02_behavior/09_multiple.t ........................ ok
t/02_behavior/10_signal.t .......................... ok
t/02_behavior/11_multi_signal.t .................... ok
t/02_behavior/12_delays.t .......................... ok
t/02_behavior/13_activity.t ........................ ok
t/02_behavior/14_newline.t ......................... ok
t/02_behavior/15_no_stacked_ctcp.t ................. ok
t/02_behavior/16_nonclosing_ctcp.t ................. ok
t/02_behavior/17_raw.t ............................. ok
t/02_behavior/18_shutdown.t ........................ ok
t/03_subclasses/01_state.t ......................... ok
t/03_subclasses/02_qnet.t .......................... ok
t/03_subclasses/03_qnet_state.t .................... ok
t/03_subclasses/04_netsplit.t ...................... ok
t/03_subclasses/05_state_awaypoll.t ................ ok
t/03_subclasses/06_state_nick_sync.t ............... ok
t/04_plugins/01_ctcp/01_load.t ..................... ok
t/04_plugins/01_ctcp/02_replies.t .................. ok
t/04_plugins/02_connector/01_load.t ................ ok
t/04_plugins/02_connector/02_reconnect.t ........... ok
t/04_plugins/03_botaddressed/01_load.t ............. ok
t/04_plugins/03_botaddressed/02_output.t ........... ok
t/04_plugins/04_bottraffic/01_load.t ............... ok
t/04_plugins/04_bottraffic/02_output.t ............. ok
t/04_plugins/05_isupport/01_load.t ................. ok
t/04_plugins/05_isupport/02_isupport.t ............. ok
t/04_plugins/06_plugman/01_load.t .................. ok
t/04_plugins/06_plugman/02_add.t ................... ok
t/04_plugins/06_plugman/03_irc_interface.t ......... ok
t/04_plugins/06_plugman/04_auth_sub.t .............. ok
t/04_plugins/07_console/01_load.t .................. ok
t/04_plugins/08_proxy/01_load.t .................... ok
t/04_plugins/08_proxy/02_connect.t ................. ok
t/04_plugins/09_nickreclaim/01_load.t .............. ok
t/04_plugins/09_nickreclaim/02_reclaim.t ........... ok
t/04_plugins/09_nickreclaim/03_immediate_change.t .. ok
t/04_plugins/09_nickreclaim/04_immediate_quit.t .... ok
t/04_plugins/10_followtail/01_load.t ............... ok
t/04_plugins/11_cycleempty/01_load.t ............... ok
t/04_plugins/11_cycleempty/02_cycle.t .............. ok
t/04_plugins/12_autojoin/01_load.t ................. ok
t/04_plugins/12_autojoin/02_join.t ................. ok
t/04_plugins/12_autojoin/03_banned.t ............... ok
t/04_plugins/12_autojoin/04_kicked.t ............... ok
t/04_plugins/12_autojoin/05_password.t ............. ok
t/04_plugins/12_autojoin/06_kick_ban_password.t .... ok
t/04_plugins/13_botcommand/01_load.t ............... ok
t/04_plugins/13_botcommand/02_commands.t ........... ok
t/04_plugins/13_botcommand/03_options.t ............ ok
t/04_plugins/13_botcommand/04_help.t ............... ok
t/04_plugins/13_botcommand/05_auth_sub.t ........... ok
t/04_plugins/13_botcommand/06_prefix.t ............. ok
t/04_plugins/13_botcommand/07_bare_private.t ....... ok
t/04_plugins/13_botcommand/08_nonword.t ............ ok
t/04_plugins/14_logger/01_load.t ................... ok
t/04_plugins/14_logger/02_public.t ................. ok
t/04_plugins/14_logger/03_private.t ................ ok
t/04_plugins/14_logger/04_dcc_chat.t ............... ok
t/04_plugins/14_logger/05_log_sub.t ................ ok
t/04_plugins/15_nickservid/01_load.t ............... ok
t/04_plugins/16_whois/01_load.t .................... ok
t/04_plugins/16_whois/02_whois.t ................... ok
t/04_plugins/17_dcc/01_load.t ...................... ok
t/04_plugins/17_dcc/02_timeout.t ................... ok
t/04_plugins/17_dcc/03_send.t ...................... ok
t/04_plugins/17_dcc/04_send_spaces.t ............... ok
t/04_plugins/17_dcc/05_resume.t .................... ok
t/04_plugins/17_dcc/06_chat.t ...................... ok
t/04_plugins/17_dcc/07_nat.t ....................... ok
t/05_regression/01_dcc_chat_close.t ................ ok
All tests successful.

Test Summary Report
-------------------
t/02_behavior/06_online.t                        (Wstat: 0 Tests: 5 Failed: 0)
  TODO passed:   2-5
t/03_subclasses/04_netsplit.t                    (Wstat: 0 Tests: 43 Failed: 0)
  TODO passed:   39
Files=81, Tests=1035, 69 wallclock secs ( 0.29 usr  0.11 sys + 15.40 cusr  1.65 csys = 17.45 CPU)
Result: PASS

------------------------------
PREREQUISITES
------------------------------

Prerequisite modules loaded:

requires:

    Module                     Need  Have    
    -------------------------- ----- --------
    IRC::Utils                 0.12  0.12    
    List::MoreUtils            0     0.33    
    POE                        1.311 1.358   
    POE::Component::Syndicator 0     0.06    
    POE::Driver::SysRW         0     1.358   
    POE::Filter::IRCD          2.42  2.44    
    POE::Filter::Line          0     1.358   
    POE::Filter::Stackable     0     1.358   
    POE::Filter::Stream        0     1.358   
    POE::Session               0     1.358   
    POE::Wheel::ReadWrite      0     1.358   
    POE::Wheel::SocketFactory  0     1.358   

build_requires:

    Module                     Need  Have    
    -------------------------- ----- --------
    ExtUtils::MakeMaker        0     6.98    
    Test::Differences          0.61  0.61_01 
    Test::More                 0.47  1.001003

configure_requires:

    Module                     Need  Have    
    -------------------------- ----- --------
    ExtUtils::MakeMaker        6.30  6.98    


------------------------------
ENVIRONMENT AND OTHER CONTEXT
------------------------------

Environment variables:

    AUTOMATED_TESTING = 1
    LANG = en_US.UTF-8
    LANGUAGE = en_US:en
    PATH = /usr/lib/ccache:/home/sand/bin:/usr/local/bin:/usr/bin:/bin:/usr/games:/usr/local/perl/bin:/usr/X11/bin:/sbin:/usr/sbin
    PERL5LIB = 
    PERL5OPT = 
    PERL5_CPANPLUS_IS_RUNNING = 20550
    PERL5_CPAN_IS_RUNNING = 20550
    PERL_MM_USE_DEFAULT = 1
    SHELL = /usr/bin/zsh
    TERM = screen

Perl special variables (and OS-specific diagnostics, for MSWin32):

    $^X = /home/sand/src/perl/repoperls/installed-perls/perl/v5.12.5/a2da/bin/perl
    $UID/$EUID = 1005 / 1005
    $GID = 1005 1005
    $EGID = 1005 1005

Perl module toolchain versions installed:

    Module              Have    
    ------------------- --------
    CPAN                2.05    
    CPAN::Meta          2.141520
    Cwd                 3.47    
    ExtUtils::CBuilder  0.280216
    ExtUtils::Command   1.16    
    ExtUtils::Install   1.55    
    ExtUtils::MakeMaker 6.98    
    ExtUtils::Manifest  1.60    
    ExtUtils::ParseXS   3.24    
    File::Spec          3.47    
    JSON                2.90    
    JSON::PP            2.27203 
    Module::Build       0.4205  
    Module::Signature   0.73    
    Parse::CPAN::Meta   1.4414  
    Test::Harness       3.32    
    Test::More          1.001003
    YAML                0.94    
    YAML::Syck          1.28_01 
    version             0.9908  


--

Summary of my perl5 (revision 5 version 12 subversion 5) configuration:
  Commit id: 9a9cbd715960a905dcbc9166349a73a64a007e4e
  Platform:
    osname=linux, osvers=3.14-1-amd64, archname=x86_64-linux-thread-multi-ld
    uname='linux k83 3.14-1-amd64 #1 smp debian 3.14.5-1 (2014-06-05) x86_64 gnulinux '
    config_args='-Dprefix=/home/sand/src/perl/repoperls/installed-perls/perl/v5.12.5/a2da -Dmyhostname=k83 -Dinstallusrbinperl=n -Uversiononly -Dusedevel -des -Ui_db -Duseithreads -Duselongdouble -DDEBUGGING=-g'
    hint=recommended, useposix=true, d_sigaction=define
    useithreads=define, usemultiplicity=define
    useperlio=define, d_sfio=undef, uselargefiles=define, usesocks=undef
    use64bitint=define, use64bitall=define, uselongdouble=define
    usemymalloc=n, bincompat5005=undef
  Compiler:
    cc='cc', ccflags ='-D_REENTRANT -D_GNU_SOURCE -fno-strict-aliasing -pipe -fstack-protector -I/usr/local/include -D_LARGEFILE_SOURCE -D_FILE_OFFSET_BITS=64',
    optimize='-O2 -g',
    cppflags='-D_REENTRANT -D_GNU_SOURCE -fno-strict-aliasing -pipe -fstack-protector -I/usr/local/include'
    ccversion='', gccversion='4.8.3', gccosandvers=''
    intsize=4, longsize=8, ptrsize=8, doublesize=8, byteorder=12345678
    d_longlong=define, longlongsize=8, d_longdbl=define, longdblsize=16
    ivtype='long', ivsize=8, nvtype='long double', nvsize=16, Off_t='off_t', lseeksize=8
    alignbytes=16, prototype=define
  Linker and Libraries:
    ld='cc', ldflags =' -fstack-protector -L/usr/local/lib'
    libpth=/usr/local/lib /lib/x86_64-linux-gnu /lib/../lib /usr/lib/x86_64-linux-gnu /usr/lib/../lib /lib /usr/lib
    libs=-lnsl -lgdbm -ldb -ldl -lm -lcrypt -lutil -lpthread -lc -lgdbm_compat
    perllibs=-lnsl -ldl -lm -lcrypt -lutil -lpthread -lc
    libc=, so=so, useshrplib=false, libperl=libperl.a
    gnulibc_version='2.19'
  Dynamic Linking:
    dlsrc=dl_dlopen.xs, dlext=so, d_dlsymun=undef, ccdlflags='-Wl,-E'
    cccdlflags='-fPIC', lddlflags='-shared -O2 -g -L/usr/local/lib -fstack-protector'


Characteristics of this binary (from libperl): 
  Compile-time options: MULTIPLICITY PERL_DONT_CREATE_GVSV
                        PERL_IMPLICIT_CONTEXT PERL_MALLOC_WRAP PERL_USE_DEVEL
                        USE_64_BIT_ALL USE_64_BIT_INT USE_ITHREADS
                        USE_LARGE_FILES USE_LONG_DOUBLE USE_PERLIO
                        USE_PERL_ATOF USE_REENTRANT_API
  Built under linux
  Compiled at Jun 10 2014 17:34:17
  %ENV:
    PERL5LIB=""
    PERL5OPT=""
    PERL5_CPANPLUS_IS_RUNNING="20550"
    PERL5_CPAN_IS_RUNNING="20550"
    PERL_MM_USE_DEFAULT="1"
  @INC:
    /home/sand/src/perl/repoperls/installed-perls/perl/v5.12.5/a2da/lib/site_perl/5.12.5/x86_64-linux-thread-multi-ld
    /home/sand/src/perl/repoperls/installed-perls/perl/v5.12.5/a2da/lib/site_perl/5.12.5
    /home/sand/src/perl/repoperls/installed-perls/perl/v5.12.5/a2da/lib/5.12.5/x86_64-linux-thread-multi-ld
    /home/sand/src/perl/repoperls/installed-perls/perl/v5.12.5/a2da/lib/5.12.5
    .