Report for Search-Tools-0.99

Back
From: metabase:user:314402c4-2aae-11df-837a-5e0a49663a4f
Subject: PASS Search-Tools-0.99 v5.18.1 FreeBSD
Date: 2014-03-02T22:53:20Z

This distribution has been tested as part of the CPAN Testers
project, supporting the Perl programming language.  See
http://wiki.cpantesters.org/ for more information or email
questions to cpan-testers-discuss@perl.org


--
Dear Peter Karman,

This is a computer-generated report for Search-Tools-0.99
on perl 5.18.1, created by CPAN-Reporter-1.2010.

Thank you for uploading your work to CPAN.  Congratulations!
All tests were successful.

Sections of this report:

    * Tester comments
    * Program output
    * Prerequisites
    * Environment and other context

------------------------------
TESTER COMMENTS
------------------------------

Additional comments from tester:

none provided

------------------------------
PROGRAM OUTPUT
------------------------------

Output from '/usr/bin/make test':

Running Mkbootstrap for Search::Tools ()
chmod 644 Tools.bs
PERL_DL_NONLAZY=1 /usr/perl5.18.1/bin/perl "-MExtUtils::Command::MM" "-MTest::Harness" "-e" "undef *Test::Harness::Switches; test_harness(0, 'blib/lib', 'blib/arch')" t/*.t
# testing Search::Tools version 0.99
t/00-load.t .................... ok
t/02regexp.t ................... ok
t/03snip.t ..................... ok
t/04hilite.t ................... ok
t/05stopwords.t ................ ok
t/06xml.t ...................... ok
t/07stemmer.t .................. ok
t/08transliterate.t ............ ok
t/09locale.t ................... ok
t/10spellcheck.t ............... ok
t/11synopsis.t ................. ok
byte 36 () is not Latin1 (it's 129 dec / 81 hex) at t/12utf8.t line 49.
byte 12 (€) is not Latin1 (it's 128 dec / 80 hex) at t/12utf8.t line 67.
t/12utf8.t ..................... ok
t/13-snip-linux-user-group.t ... ok
t/14-findaprofessional.t ....... ok
t/15-child-adoption.t .......... ok
t/16-dot.com.t ................. ok
t/17-tokenizer.t ............... ok
t/18-tokenizer-mem.t ........... ok
t/19-tokenizer-pp.t ............ ok
t/20transliterate-map.t ........ ok
t/21-hiliter-with-hyphen.t ..... ok
t/22-query-parser.t ............ ok
t/23-regex-builder.t ........... ok
t/24-child-abuse.t ............. ok
t/25-domestic-accounts.t ....... ok
t/26-is-sentence.t ............. ok
t/27-bigfile.t ................. skipped: set TEST_BIG_FILE to run t/27-bigfile.t
t/28-byte-length.t ............. ok
t/29-hiliter-wildcard.t ........ ok
t/30-perl-to-xml.t ............. ok
t/31-snip-phrases.t ............ ok
t/32-pre-existing.t ............ ok
t/33-matches.t ................. ok
t/34-style-hilite.t ............ ok
t/35-whitespace.t .............. ok
t/36-snipper-term-length.t ..... ok
t/37-heatmap-long-sentences.t .. ok
t/38-hiliter-multiple-terms.t .. ok
t/39-tokenizer-refcounts.t ..... ok
t/40-perl517-regex.t ........... ok
t/41-hiliter-blessed-query.t ... ok
t/90-leaktrace.t ............... ok
t/91-valgrind.t ................ skipped: Test::Valgrind has false positives
t/pod-coverage.t ............... skipped: set PERL_AUTHOR_TEST to test POD
t/pod.t ........................ skipped: set PERL_AUTHOR_TEST to test POD
t/Search-Tools.t ............... ok
All tests successful.
Files=46, Tests=3056,  9 wallclock secs ( 0.47 usr  0.27 sys +  7.30 cusr  1.41 csys =  9.45 CPU)
Result: PASS

------------------------------
PREREQUISITES
------------------------------

Prerequisite modules loaded:

requires:

    Module              Need     Have    
    ------------------- -------- --------
    Data::Dump          0        1.22    
    Encode              0        2.56    
    Encoding::FixLatin  0        1.02    
    File::Basename      0        2.84    
    File::Slurp         0        9999.19 
    perl                5.008003 5.018001
    Rose::ObjectX::CAF  0.03     0.03    
    Scalar::Util        0        1.37    
    Search::Query       0.18     0.23    
    Test::More          0.94     1.001002

build_requires:

    Module              Need     Have    
    ------------------- -------- --------
    ExtUtils::MakeMaker 0        6.86    

configure_requires:

    Module              Need     Have    
    ------------------- -------- --------
    ExtUtils::MakeMaker 0        6.86    


------------------------------
ENVIRONMENT AND OTHER CONTEXT
------------------------------

Environment variables:

    DBIC_NO_WARN_BAD_PERL = 1
    PATH = /usr/local/bin:/usr/bin:/bin:/usr/local/sbin:/usr/sbin:/sbin:/home/cpansand/bin/freebsd9.1:/home/cpansand/bin/sh:/home/cpansand/bin:/usr/games:/home/cpansand/devel:/usr/home/eserte/work/srezic-misc/scripts
    PERL5LIB = /home/eserte/.cpan/build/Search-OpenSearch-Server-0.28-R74JWf/blib/arch:/home/eserte/.cpan/build/Search-OpenSearch-Server-0.28-R74JWf/blib/lib:/home/eserte/.cpan/build/Search-OpenSearch-Engine-Lucy-0.19-ClNXSQ/blib/arch:/home/eserte/.cpan/build/Search-OpenSearch-Engine-Lucy-0.19-ClNXSQ/blib/lib:/home/eserte/.cpan/build/Finance-Quote-1.25-dMQni0/blib/arch:/home/eserte/.cpan/build/Finance-Quote-1.25-dMQni0/blib/lib
    PERL5OPT = 
    PERL5_CPANPLUS_IS_RUNNING = 56442
    PERL5_CPAN_IS_RUNNING = 56442
    PERL5_CPAN_IS_RUNNING_IN_RECURSION = 56420,56442
    PERLDOC = -MPod::Perldoc::ToTextOverstrike
    PERL_BATCH = yes
    PERL_CPAN_REPORTER_CONFIG = /var/tmp/cpansmoker-1023/OrviFKvrQ7_config.ini
    PERL_EXTUTILS_AUTOINSTALL = --defaultdeps
    PERL_HTML_DISPLAY_CLASS = HTML::Display::Mozilla
    SHELL = /usr/local/bin/zsh
    TERM = screen
    TMPDIR = /var/tmp/cpansmoker-1023

Perl special variables (and OS-specific diagnostics, for MSWin32):

    $^X = /usr/perl5.18.1/bin/perl
    $UID/$EUID = 1023 / 1023
    $GID = 1023 1023
    $EGID = 1023 1023

Perl module toolchain versions installed:

    Module              Have    
    ------------------- --------
    CPAN                2.00    
    CPAN::Meta          2.132830
    Cwd                 3.40    
    ExtUtils::CBuilder  0.280210
    ExtUtils::Command   1.17    
    ExtUtils::Install   1.59    
    ExtUtils::MakeMaker 6.86    
    ExtUtils::Manifest  1.63    
    ExtUtils::ParseXS   3.18    
    File::Spec          3.40    
    JSON                2.90    
    JSON::PP            2.27203 
    Module::Build       0.4204  
    Module::Signature   0.73    
    Parse::CPAN::Meta   1.4409  
    Test::Harness       3.30    
    Test::More          1.001002
    YAML                0.85    
    YAML::Syck          1.27    
    version             0.9904  


--

Summary of my perl5 (revision 5 version 18 subversion 1) configuration:
   
  Platform:
    osname=freebsd, osvers=9.2-release, archname=amd64-freebsd
    uname='freebsd cvrsnica-freebsd-92 9.2-release freebsd 9.2-release #0 r255898: thu sep 26 22:50:31 utc 2013 root@bake.isc.freebsd.org:usrobjusrsrcsysgeneric amd64 '
    config_args='-ds -e -Dprefix=/usr/perl5.18.1 -Dshrplib'
    hint=previous, useposix=true, d_sigaction=define
    useithreads=undef, usemultiplicity=undef
    useperlio=define, d_sfio=undef, uselargefiles=define, usesocks=undef
    use64bitint=define, use64bitall=define, uselongdouble=undef
    usemymalloc=n, bincompat5005=undef
  Compiler:
    cc='cc', ccflags ='-DHAS_FPSETMASK -DHAS_FLOATINGPOINT_H -fno-strict-aliasing -pipe -fstack-protector -I/usr/local/include',
    optimize='-O',
    cppflags='-DHAS_FPSETMASK -DHAS_FLOATINGPOINT_H -fno-strict-aliasing -pipe -fstack-protector -I/usr/local/include -DHAS_FPSETMASK -DHAS_FLOATINGPOINT_H -fno-strict-aliasing -pipe -fstack-protector -I/usr/local/include'
    ccversion='', gccversion='4.2.1 20070831 patched [FreeBSD]', gccosandvers=''
    intsize=4, longsize=8, ptrsize=8, doublesize=8, byteorder=12345678
    d_longlong=define, longlongsize=8, d_longdbl=define, longdblsize=16
    ivtype='long', ivsize=8, nvtype='double', nvsize=8, Off_t='off_t', lseeksize=8
    alignbytes=8, prototype=define
  Linker and Libraries:
    ld='cc', ldflags ='-Wl,-E  -fstack-protector -L/usr/local/lib'
    libpth=/usr/lib /usr/local/lib
    libs=-lm -lcrypt -lutil -lc
    perllibs=-lm -lcrypt -lutil -lc
    libc=, so=so, useshrplib=false, libperl=libperl.a
    gnulibc_version=''
  Dynamic Linking:
    dlsrc=dl_dlopen.xs, dlext=so, d_dlsymun=undef, ccdlflags=' '
    cccdlflags='-DPIC -fPIC', lddlflags='-shared  -L/usr/local/lib -fstack-protector'


Characteristics of this binary (from libperl): 
  Compile-time options: HAS_TIMES PERLIO_LAYERS PERL_DONT_CREATE_GVSV
                        PERL_HASH_FUNC_ONE_AT_A_TIME_HARD PERL_MALLOC_WRAP
                        PERL_PRESERVE_IVUV PERL_SAWAMPERSAND USE_64_BIT_ALL
                        USE_64_BIT_INT USE_LARGE_FILES USE_LOCALE
                        USE_LOCALE_COLLATE USE_LOCALE_CTYPE
                        USE_LOCALE_NUMERIC USE_PERLIO USE_PERL_ATOF
  Built under freebsd
  Compiled at Oct 15 2013 21:30:37
  %ENV:
    PERL5LIB="/home/eserte/.cpan/build/Search-OpenSearch-Server-0.28-R74JWf/blib/arch:/home/eserte/.cpan/build/Search-OpenSearch-Server-0.28-R74JWf/blib/lib:/home/eserte/.cpan/build/Search-OpenSearch-Engine-Lucy-0.19-ClNXSQ/blib/arch:/home/eserte/.cpan/build/Search-OpenSearch-Engine-Lucy-0.19-ClNXSQ/blib/lib:/home/eserte/.cpan/build/Finance-Quote-1.25-dMQni0/blib/arch:/home/eserte/.cpan/build/Finance-Quote-1.25-dMQni0/blib/lib"
    PERL5OPT=""
    PERL5_CPANPLUS_IS_RUNNING="56442"
    PERL5_CPAN_IS_RUNNING="56442"
    PERL5_CPAN_IS_RUNNING_IN_RECURSION="56420,56442"
    PERLDOC="-MPod::Perldoc::ToTextOverstrike"
    PERL_BATCH="yes"
    PERL_CPAN_REPORTER_CONFIG="/var/tmp/cpansmoker-1023/OrviFKvrQ7_config.ini"
    PERL_EXTUTILS_AUTOINSTALL="--defaultdeps"
    PERL_HTML_DISPLAY_CLASS="HTML::Display::Mozilla"
  @INC:
    /home/eserte/.cpan/build/Search-OpenSearch-Server-0.28-R74JWf/blib/arch
    /home/eserte/.cpan/build/Search-OpenSearch-Server-0.28-R74JWf/blib/lib
    /home/eserte/.cpan/build/Search-OpenSearch-Engine-Lucy-0.19-ClNXSQ/blib/arch
    /home/eserte/.cpan/build/Search-OpenSearch-Engine-Lucy-0.19-ClNXSQ/blib/lib
    /home/eserte/.cpan/build/Finance-Quote-1.25-dMQni0/blib/arch
    /home/eserte/.cpan/build/Finance-Quote-1.25-dMQni0/blib/lib
    /usr/perl5.18.1/lib/site_perl/5.18.1/amd64-freebsd
    /usr/perl5.18.1/lib/site_perl/5.18.1
    /usr/perl5.18.1/lib/5.18.1/amd64-freebsd
    /usr/perl5.18.1/lib/5.18.1
    .