Back
From: metabase:user:9820532a-708b-1014-9a05-b18a96298da1
Subject: PASS Integrator-Module-Build-1.057 v5.8.9 FreeBSD
Date: 2011-12-21T19:10:31Z
This distribution has been tested as part of the CPAN Testers
project, supporting the Perl programming language. See
http://wiki.cpantesters.org/ for more information or email
questions to cpan-testers-discuss@perl.org
--
Dear Francois Perron,
This is a computer-generated report for Integrator-Module-Build-1.057
on perl 5.8.9, created by CPAN-Reporter-1.2003.
Thank you for uploading your work to CPAN. Congratulations!
All tests were successful.
Sections of this report:
* Tester comments
* Program output
* Prerequisites
* Environment and other context
------------------------------
TESTER COMMENTS
------------------------------
Additional comments from tester:
this report is from an automated smoke testing program
and was not reviewed by a human for accuracy
------------------------------
PROGRAM OUTPUT
------------------------------
Output from './Build test':
Argument "3.39_01" isn't numeric in subroutine entry at /home/test/perl5/perlbrew/perls/perl-5.8.9-th/lib/site_perl/5.8.9/Module/Build/Base.pm line 17.
t/00-load....................................Argument "3.39_01" isn't numeric in subroutine entry at /home/test/perl5/perlbrew/perls/perl-5.8.9-th/lib/site_perl/5.8.9/Module/Build/Base.pm line 17.
# Testing Integrator::Module::Build 1.057, Perl 5.008009, /home/test/perl5/perlbrew/perls/perl-5.8.9-th/bin/perl
ok
t/01-load-integrator-test-configdata.........# Testing Integrator::Test::ConfigData 1.011, Perl 5.008009, /home/test/perl5/perlbrew/perls/perl-5.8.9-th/bin/perl
ok
t/01-load-integrator-test-tap-model-patch....# Testing Integrator::Test::TAP::Model::Patch 1.002, Perl 5.008009, /home/test/perl5/perlbrew/perls/perl-5.8.9-th/bin/perl
ok
t/10persist..................................Argument "3.39_01" isn't numeric in subroutine entry at /home/test/perl5/perlbrew/perls/perl-5.8.9-th/lib/site_perl/5.8.9/Module/Build/Base.pm line 17.
ok
t/11persist..................................Argument "3.39_01" isn't numeric in subroutine entry at /home/test/perl5/perlbrew/perls/perl-5.8.9-th/lib/site_perl/5.8.9/Module/Build/Base.pm line 17.
ok
t/12persist..................................Argument "3.39_01" isn't numeric in subroutine entry at /home/test/perl5/perlbrew/perls/perl-5.8.9-th/lib/site_perl/5.8.9/Module/Build/Base.pm line 17.
ok
t/can_pass_through_other.....................Argument "3.39_01" isn't numeric in subroutine entry at /home/test/perl5/perlbrew/perls/perl-5.8.9-th/lib/site_perl/5.8.9/Module/Build/Base.pm line 17.
ok
t/can_use_own................................Argument "3.39_01" isn't numeric in subroutine entry at /home/test/perl5/perlbrew/perls/perl-5.8.9-th/lib/site_perl/5.8.9/Module/Build/Base.pm line 17.
ok
t/configdata.................................ok
t/data_check_deep............................Argument "3.39_01" isn't numeric in subroutine entry at /home/test/perl5/perlbrew/perls/perl-5.8.9-th/lib/site_perl/5.8.9/Module/Build/Base.pm line 17.
ok
t/integrator_deep............................Argument "3.39_01" isn't numeric in subroutine entry at /home/test/perl5/perlbrew/perls/perl-5.8.9-th/lib/site_perl/5.8.9/Module/Build/Base.pm line 17.
ok
t/measurement................................ok
t/pod-coverage...............................Argument "3.39_01" isn't numeric in subroutine entry at /home/test/perl5/perlbrew/perls/perl-5.8.9-th/lib/site_perl/5.8.9/Module/Build/Base.pm line 17.
ok
t/pod........................................ok
All tests successful.
Files=14, Tests=267, 4 wallclock secs ( 0.12 usr 0.34 sys + 1.77 cusr 0.98 csys = 3.20 CPU)
Result: PASS
------------------------------
PREREQUISITES
------------------------------
Prerequisite modules loaded:
requires:
Module Need Have
--------------------- ------- --------
Crypt::SSLeay 0 0.58
Data::UUID 0 1.217
Devel::Symdump 0 2.08
perl 0 5.008009
Term::ReadKey 0 2.30
Test::Cmd 0 1.05
Test::Harness 2.64 3.14
Test::Pod 0 1.45
Test::Pod::Coverage 0 1.08
XML::NamespaceSupport 0 1.11
XML::Parser 0 2.41
XML::SAX 0 0.99
XML::SAX::Expat 0 0.40
XML::Simple 0 2.18
YAML 0 0.73
build_requires:
Module Need Have
--------------------- ------- --------
Compress::Zlib 0 2.045
HTML::Parser 0 3.69
HTML::Tagset 0 3.20
LWP::UserAgent 0 6.03
Method::Alias 0 1.03
Module::Starter 0 1.58
Test::TAP::Model 0.06666 0.10
URI 0 1.59
------------------------------
ENVIRONMENT AND OTHER CONTEXT
------------------------------
Environment variables:
AUTOMATED_TESTING = 1
LANG = C
LC_ALL = C
PATH = /home/test/perl5/perlbrew/bin:/home/test/perl5/perlbrew/perls/perl-5.8.9-th/bin:~/bin:/sbin:/bin:/usr/sbin:/usr/bin:/usr/games:/usr/local/sbin:/usr/local/bin:/home/test/bin
PATH_WITHOUT_PERLBREW = ~/bin:/sbin:/bin:/usr/sbin:/usr/bin:/usr/games:/usr/local/sbin:/usr/local/bin:/home/test/bin
PERL5LIB =
PERL5OPT =
PERL5_CPANPLUS_IS_RUNNING = 62374
PERL5_CPAN_IS_RUNNING = 62374
PERL5_CPAN_IS_RUNNING_IN_RECURSION = 1017,62374
PERLBREW_BASHRC_VERSION = 0.33
PERLBREW_HOME = /home/test/.perlbrew
PERLBREW_PATH = /home/test/perl5/perlbrew/bin:/home/test/perl5/perlbrew/perls/perl-5.8.9-th/bin
PERLBREW_PERL = perl-5.8.9-th
PERLBREW_ROOT = /home/test/perl5/perlbrew
PERLBREW_VERSION = 0.33
PERL_CPANM_OPT = --prompt --mirror http://172.16.1.3/cpan/
PERL_CR_SMOKER_CURRENT = Integrator-Module-Build-1.057
PERL_EXTUTILS_AUTOINSTALL = --defaultdeps
PERL_MM_USE_DEFAULT = 1
SHELL = /usr/local/bin/bash
TERM = linux
Perl special variables (and OS-specific diagnostics, for MSWin32):
$^X = /home/test/perl5/perlbrew/perls/perl-5.8.9-th/bin/perl
$UID/$EUID = 1002 / 1002
$GID = 1002 1002
$EGID = 1002 1002
Perl module toolchain versions installed:
Module Have
------------------- --------
CPAN 1.9800
CPAN::Meta 2.112621
Cwd 3.39_01
ExtUtils::CBuilder 0.280202
ExtUtils::Command 1.16
ExtUtils::Install 1.52
ExtUtils::MakeMaker 6.62
ExtUtils::Manifest 1.58
ExtUtils::ParseXS 3.08
File::Spec 3.39_01
JSON 2.27
JSON::PP 2.27008
Module::Build 0.3800
Module::Signature n/a
Parse::CPAN::Meta 1.4401
Test::Harness 3.14
Test::More 0.98
YAML 0.73
YAML::Syck 1.19
version 0.95
--
Summary of my perl5 (revision 5 version 8 subversion 9) configuration:
Platform:
osname=freebsd, osvers=8.1-release, archname=amd64-freebsd-thread-multi
uname='freebsd fbsd.local 8.1-release freebsd 8.1-release #0: mon jul 19 02:36:49 utc 2010 root@mason.cse.buffalo.edu:usrobjusrsrcsysgeneric amd64 '
config_args='-de -Dprefix=/home/test/perl5/perlbrew/perls/perl-5.8.9-th -Dusethreads'
hint=recommended, useposix=true, d_sigaction=define
usethreads=define use5005threads=undef useithreads=define usemultiplicity=define
useperlio=define d_sfio=undef uselargefiles=define usesocks=undef
use64bitint=define use64bitall=define uselongdouble=undef
usemymalloc=n, bincompat5005=undef
Compiler:
cc='cc', ccflags ='-DHAS_FPSETMASK -DHAS_FLOATINGPOINT_H -fno-strict-aliasing -pipe -I/usr/local/include',
optimize='-O',
cppflags='-DHAS_FPSETMASK -DHAS_FLOATINGPOINT_H -fno-strict-aliasing -pipe -I/usr/local/include'
ccversion='', gccversion='4.2.1 20070719 [FreeBSD]', gccosandvers=''
intsize=4, longsize=8, ptrsize=8, doublesize=8, byteorder=12345678
d_longlong=define, longlongsize=8, d_longdbl=define, longdblsize=16
ivtype='long', ivsize=8, nvtype='double', nvsize=8, Off_t='off_t', lseeksize=8
alignbytes=8, prototype=define
Linker and Libraries:
ld='cc', ldflags ='-pthread -Wl,-E -L/usr/local/lib'
libpth=/usr/lib /usr/local/lib
libs=-lm -lcrypt
perllibs=-lm -lcrypt
libc=, so=so, useshrplib=false, libperl=libperl.a
gnulibc_version=''
Dynamic Linking:
dlsrc=dl_dlopen.xs, dlext=so, d_dlsymun=undef, ccdlflags=' '
cccdlflags='-DPIC -fPIC', lddlflags='-shared -L/usr/local/lib'
Characteristics of this binary (from libperl):
Compile-time options: MULTIPLICITY PERL_IMPLICIT_CONTEXT PERL_MALLOC_WRAP
USE_64_BIT_ALL USE_64_BIT_INT USE_FAST_STDIO
USE_ITHREADS USE_LARGE_FILES USE_PERLIO
USE_REENTRANT_API
Built under freebsd
Compiled at Dec 14 2011 20:34:24
%ENV:
PERL5LIB=""
PERL5OPT=""
PERL5_CPANPLUS_IS_RUNNING="62374"
PERL5_CPAN_IS_RUNNING="62374"
PERL5_CPAN_IS_RUNNING_IN_RECURSION="1017,62374"
PERLBREW_BASHRC_VERSION="0.33"
PERLBREW_HOME="/home/test/.perlbrew"
PERLBREW_PATH="/home/test/perl5/perlbrew/bin:/home/test/perl5/perlbrew/perls/perl-5.8.9-th/bin"
PERLBREW_PERL="perl-5.8.9-th"
PERLBREW_ROOT="/home/test/perl5/perlbrew"
PERLBREW_VERSION="0.33"
PERL_CPANM_OPT="--prompt --mirror http://172.16.1.3/cpan/"
PERL_CR_SMOKER_CURRENT="Integrator-Module-Build-1.057"
PERL_EXTUTILS_AUTOINSTALL="--defaultdeps"
PERL_MM_USE_DEFAULT="1"
@INC:
/home/test/perl5/perlbrew/perls/perl-5.8.9-th/lib/5.8.9/amd64-freebsd-thread-multi
/home/test/perl5/perlbrew/perls/perl-5.8.9-th/lib/5.8.9
/home/test/perl5/perlbrew/perls/perl-5.8.9-th/lib/site_perl/5.8.9/amd64-freebsd-thread-multi
/home/test/perl5/perlbrew/perls/perl-5.8.9-th/lib/site_perl/5.8.9
.