File-Open-NoCache-ReadOnly v0.05 Perl 5 v5.40.0 darwin-2level
- Status
- Pass
- From
- Nigel Horne
- Dist
-
File-Open-NoCache-ReadOnly v0.05
- Platform
- Perl 5 v5.40.0 darwin-2level
- Date
- 2025-03-23 15:35:30
- ID
- 73bccb72-07fc-11f0-bc1e-ac7d2d3cd5fe
This distribution has been tested as part of the CPAN Testers
project, supporting the Perl programming language. See
http://wiki.cpantesters.org/ for more information or email
questions to cpan-testers-discuss@perl.org
--
Dear Nigel Horne,
This is a computer-generated report for File-Open-NoCache-ReadOnly-0.05
on perl 5.40.0, created by CPAN-Reporter-1.2020.
Thank you for uploading your work to CPAN. Congratulations!
All tests were successful.
Sections of this report:
* Tester comments
* Program output
* Prerequisites
* Environment and other context
------------------------------
TESTER COMMENTS
------------------------------
Additional comments from tester:
none provided
------------------------------
PROGRAM OUTPUT
------------------------------
Output from '/usr/bin/make test':
PERL_DL_NONLAZY=1 "/Users/njh/perl5/perlbrew/perls/perl-5.40.0/bin/perl" "-MExtUtils::Command::MM" "-MTest::Harness" "-e" "undef *Test::Harness::Switches; test_harness(0, 'blib/lib', 'blib/arch')" t/*.t
# Testing File::Open::NoCache::ReadOnly 0.05, Perl 5.040000, /Users/njh/perl5/perlbrew/perls/perl-5.40.0/bin/perl
t/00-load.t ........ ok
t/carp.t ........... ok
Usage: File::Open::NoCache::ReadOnly->new(filename => $filename) at t/20-new.t line 19.
t/20-new.t ......... ok
t/30-basics.t ...... ok
t/changes.t ........ skipped: Not running author tests
t/critic.t ......... skipped: Not running author tests
t/cv.t ............. skipped: Not running author tests
t/dist.t ........... skipped: Not running author tests
t/eof.t ............ skipped: Not running author tests
t/coverage.t ....... ok
t/eol.t ............ skipped: Not running author tests
t/gv.t ............. skipped: Not running author tests
t/kwalitee.t ....... skipped: Not running author tests
t/links.t .......... skipped: Not running author tests
t/manifest.t ....... skipped: Not running author tests
t/metrics.t ........ skipped: Not running author tests
t/modules-used.t ... skipped: Not running author tests
t/no404s.t ......... skipped: Not running author tests
t/noplan.t ......... skipped: Not running author tests
# Author tests not required for installation
t/noopentickets.t .. ok
Subroutine IO::AIO::fadvise redefined at t/open.t line 44.
# Ignore redefine messages
t/pod-synopsis.t ... skipped: Not running author tests
t/pod.t ............ skipped: Not running author tests
# Ignore message about attempt to close twice
Attempt to close object twice at t/open.t line 26.
/asdasd.not.there: No such file or directory at t/open.t line 29.
# Ignore usage messages
Usage: File::Open::NoCache::ReadOnly->new(filename => $filename) at t/open.t line 40.
t/open.t ........... ok
t/prereq.t ......... skipped: Not running author tests
t/port.t ........... skipped: Not running author tests
t/snippets.t ....... skipped: Author tests not required for installation
t/strict.t ......... skipped: Not running author tests
t/unused.t ......... skipped: Not running author tests
t/spelling.t ....... skipped: Author tests not required for installation
t/pod-cm.t ......... ok
t/vars.t ........... skipped: Not running author tests
All tests successful.
Files=31, Tests=41, 1 wallclock secs ( 0.02 usr 0.02 sys + 0.65 cusr 0.10 csys = 0.79 CPU)
Result: PASS
------------------------------
PREREQUISITES
------------------------------
Prerequisite modules loaded:
requires:
Module Need Have
------------------- -------- --------
Carp 0 1.54
IO::AIO 0 4.81
perl 5.006002 5.040000
Scalar::Util 0 1.68
build_requires:
Module Need Have
------------------- -------- --------
autodie 0 2.37
ExtUtils::MakeMaker 0 7.72
File::Temp 0 0.2311
IPC::System::Simple 0 1.30
Test::Carp 0 0.2
Test::DescribeMe 0 0.004
Test::Exception 0.42 0.43
Test::Most 0 0.38
Test::Needs 0 0.002010
Test::NoWarnings 0 1.06
Test::Script 1.12 1.29
Test::Warn 0 0.37
configure_requires:
Module Need Have
------------------- -------- --------
ExtUtils::MakeMaker 0 7.72
------------------------------
ENVIRONMENT AND OTHER CONTEXT
------------------------------
Environment variables:
HARNESS_OPTIONS = c:j4
LANG = en_US.UTF-8
LDFLAGS = -L/opt/homebrew/opt/libpcap/lib
NONINTERACTIVE_TESTING = 1
PATH = /Users/njh/perl5/perlbrew/bin:/Users/njh/perl5/perlbrew/perls/perl-5.40.0/bin:/opt/homebrew/opt/libpcap/bin:/usr/local/bin:/System/Cryptexes/App/usr/bin:/usr/bin:/bin:/usr/sbin:/sbin:/var/run/com.apple.security.cryptexd/codex.system/bootstrap/usr/local/bin:/var/run/com.apple.security.cryptexd/codex.system/bootstrap/usr/bin:/var/run/com.apple.security.cryptexd/codex.system/bootstrap/usr/appleinternal/bin:/opt/X11/bin:/Library/Apple/usr/bin:/Users/njh/bin:/opt/homebrew/bin
PERL5LIB =
PERL5OPT =
PERL5_CPANPLUS_IS_RUNNING = 3517
PERL5_CPAN_IS_RUNNING = 3517
PERLBREW_HOME = /Users/njh/.perlbrew
PERLBREW_MANPATH = /Users/njh/perl5/perlbrew/perls/perl-5.40.0/man
PERLBREW_PATH = /Users/njh/perl5/perlbrew/bin:/Users/njh/perl5/perlbrew/perls/perl-5.40.0/bin
PERLBREW_PERL = perl-5.40.0
PERLBREW_ROOT = /Users/njh/perl5/perlbrew
PERLBREW_SHELLRC_VERSION = 1.01
PERLBREW_VERSION = 1.01
PERL_MM_USE_DEFAULT = 1
PERL_USE_UNSAFE_INC = 1
SHELL = /bin/bash
TERM = xterm-256color
TMPDIR = /var/folders/8v/329gghld15g2ls572lrpg_yw0000z8/T/
Perl special variables (and OS-specific diagnostics, for MSWin32):
$^X = /Users/njh/perl5/perlbrew/perls/perl-5.40.0/bin/perl
$UID/$EUID = 1000 / 1000
$GID = 20 20 12 61 102 100
$EGID = 20 20 12 61 102 100
Perl module toolchain versions installed:
Module Have
------------------- --------
CPAN 2.38
CPAN::Meta 2.150010
Cwd 3.90
ExtUtils::CBuilder 0.280240
ExtUtils::Command 7.72
ExtUtils::Install 2.22
ExtUtils::MakeMaker 7.72
ExtUtils::Manifest 1.75
ExtUtils::ParseXS 3.51
File::Spec 3.90
JSON 4.10
JSON::PP 4.16
Module::Build 0.4234
Module::Signature n/a
Parse::CPAN::Meta 2.150010
Test2 1.302209
Test::Harness 3.50
Test::More 1.302209
YAML 1.31
YAML::Syck 1.34
version 0.9933
--
Summary of my perl5 (revision 5 version 40 subversion 0) configuration:
Platform:
osname=darwin
osvers=23.5.0
archname=darwin-2level
uname='darwin njhvainc.local 23.5.0 darwin kernel version 23.5.0: wed may 1 20:14:59 pdt 2024; root:xnu-10063.121.3~5release_arm64_t8122 arm64 '
config_args='-de -Dprefix=/Users/njh/perl5/perlbrew/perls/perl-5.40.0 -Aeval:scriptdir=/Users/njh/perl5/perlbrew/perls/perl-5.40.0/bin'
hint=recommended
useposix=true
d_sigaction=define
useithreads=undef
usemultiplicity=undef
use64bitint=define
use64bitall=define
uselongdouble=undef
usemymalloc=n
default_inc_excludes_dot=define
Compiler:
cc='cc'
ccflags ='-fno-common -DPERL_DARWIN -fno-strict-aliasing -pipe -fstack-protector-strong -I/usr/local/include'
optimize='-O3'
cppflags='-fno-common -DPERL_DARWIN -fno-strict-aliasing -pipe -fstack-protector-strong -I/usr/local/include'
ccversion=''
gccversion='Apple LLVM 15.0.0 (clang-1500.3.9.4)'
gccosandvers=''
intsize=4
longsize=8
ptrsize=8
doublesize=8
byteorder=12345678
doublekind=3
d_longlong=define
longlongsize=8
d_longdbl=define
longdblsize=8
longdblkind=0
ivtype='long'
ivsize=8
nvtype='double'
nvsize=8
Off_t='off_t'
lseeksize=8
alignbytes=8
prototype=define
Linker and Libraries:
ld='env MACOSX_DEPLOYMENT_TARGET=10.3 cc'
ldflags =' -fstack-protector-strong -L/usr/local/lib -L/opt/local/lib'
libpth=/usr/local/lib /Library/Developer/CommandLineTools/usr/lib/clang/15.0.0/lib /Library/Developer/CommandLineTools/SDKs/MacOSX14.4.sdk/usr/lib /Library/Developer/CommandLineTools/usr/lib /opt/local/lib /usr/lib
libs=
perllibs=
libc=
so=dylib
useshrplib=false
libperl=libperl.a
gnulibc_version=''
Dynamic Linking:
dlsrc=dl_dlopen.xs
dlext=bundle
d_dlsymun=undef
ccdlflags=' '
cccdlflags=' '
lddlflags=' -bundle -undefined dynamic_lookup -L/usr/local/lib -L/opt/local/lib -fstack-protector-strong'
Characteristics of this binary (from libperl):
Compile-time options:
HAS_LONG_DOUBLE
HAS_STRTOLD
HAS_TIMES
PERLIO_LAYERS
PERL_COPY_ON_WRITE
PERL_DONT_CREATE_GVSV
PERL_HASH_FUNC_SIPHASH13
PERL_HASH_USE_SBOX32
PERL_MALLOC_WRAP
PERL_OP_PARENT
PERL_PRESERVE_IVUV
PERL_USE_SAFE_PUTENV
USE_64_BIT_ALL
USE_64_BIT_INT
USE_LARGE_FILES
USE_LOCALE
USE_LOCALE_COLLATE
USE_LOCALE_CTYPE
USE_LOCALE_NUMERIC
USE_LOCALE_TIME
USE_PERLIO
USE_PERL_ATOF
Built under darwin
Compiled at Jun 28 2024 13:56:38
%ENV:
PERL5LIB=""
PERL5OPT=""
PERL5_CPANPLUS_IS_RUNNING="3517"
PERL5_CPAN_IS_RUNNING="3517"
PERLBREW_HOME="/Users/njh/.perlbrew"
PERLBREW_MANPATH="/Users/njh/perl5/perlbrew/perls/perl-5.40.0/man"
PERLBREW_PATH="/Users/njh/perl5/perlbrew/bin:/Users/njh/perl5/perlbrew/perls/perl-5.40.0/bin"
PERLBREW_PERL="perl-5.40.0"
PERLBREW_ROOT="/Users/njh/perl5/perlbrew"
PERLBREW_SHELLRC_VERSION="1.01"
PERLBREW_VERSION="1.01"
PERL_MM_USE_DEFAULT="1"
PERL_USE_UNSAFE_INC="1"
@INC:
/Users/njh/perl5/perlbrew/perls/perl-5.40.0/lib/site_perl/5.40.0/darwin-2level
/Users/njh/perl5/perlbrew/perls/perl-5.40.0/lib/site_perl/5.40.0
/Users/njh/perl5/perlbrew/perls/perl-5.40.0/lib/5.40.0/darwin-2level
/Users/njh/perl5/perlbrew/perls/perl-5.40.0/lib/5.40.0
.