Dist-Zilla-PluginBundle-Git-VersionManager v0.007 Perl 5 v5.41.6 i86pc-solaris-64
- Status
- Pass
- From
- Carlos Guevara
- Dist
-
Dist-Zilla-PluginBundle-Git-VersionManager v0.007
- Platform
- Perl 5 v5.41.6 i86pc-solaris-64
- Date
- 2024-11-17 07:06:22
- ID
- 73adee3e-a4b2-11ef-b816-858b51c7b99a
This distribution has been tested as part of the CPAN Testers
project, supporting the Perl programming language. See
http://wiki.cpantesters.org/ for more information or email
questions to cpan-testers-discuss@perl.org
--
Dear Karen Etheridge,
This is a computer-generated report for Dist-Zilla-PluginBundle-Git-VersionManager-0.007
on perl 5.41.6, created by CPAN-Reporter-1.2020.
Thank you for uploading your work to CPAN. Congratulations!
All tests were successful.
Sections of this report:
* Tester comments
* Program output
* Prerequisites
* Environment and other context
------------------------------
TESTER COMMENTS
------------------------------
Additional comments from tester:
this report is from an automated smoke testing program
and was not reviewed by a human for accuracy
------------------------------
PROGRAM OUTPUT
------------------------------
Output from './Build test':
#
# Versions for all modules listed in MYMETA.json (including optional ones):
#
# === Configure Requires ===
#
# Module Want Have
# ------------------- ----- -----
# ExtUtils::MakeMaker any 7.70
# Module::Build::Tiny 0.034 0.051
#
# === Test Requires ===
#
# Module Want Have
# ------------------------ ----- ---------
# CPAN::Meta::Check 0.011 0.018
# CPAN::Meta::Requirements any 2.143
# Exporter any 5.78
# File::Spec any 3.93
# JSON::MaybeXS any 1.004008
# Module::Metadata any 1.000038
# Path::Tiny any 0.146
# Test::DZil any 6.032
# Test::Deep any 1.204
# Test::Fatal any 0.017
# Test::More 0.96 1.302204
# if any 0.0610
# lib any 0.65
# namespace::clean any 0.27
# parent any 0.242_001
#
# === Test Recommends ===
#
# Module Want Have
# ---------- -------- --------
# CPAN::Meta 2.120900 2.150010
#
# === Runtime Requires ===
#
# Module Want Have
# ---------------------------------------------------------- ----- -------
# CPAN::Meta::Requirements any 2.143
# Dist::Zilla::Plugin::BumpVersionAfterRelease 0.016 0.018
# Dist::Zilla::Plugin::BumpVersionAfterRelease::Transitional 0.004 0.009
# Dist::Zilla::Plugin::CopyFilesFromRelease any 0.007
# Dist::Zilla::Plugin::Git::Commit 2.020 2.051
# Dist::Zilla::Plugin::Git::NextVersion any 2.051
# Dist::Zilla::Plugin::Git::Tag any 2.051
# Dist::Zilla::Plugin::NextRelease 5.033 6.032
# Dist::Zilla::Plugin::Prereqs any 6.032
# Dist::Zilla::Plugin::RewriteVersion::Transitional 0.004 0.009
# Dist::Zilla::Plugin::VersionFromMainModule 0.04 0.04
# Dist::Zilla::Role::FileMunger any 6.032
# Dist::Zilla::Role::PluginBundle::Config::Slicer any 0.202
# Dist::Zilla::Role::PluginBundle::Easy any 6.032
# Dist::Zilla::Role::PluginBundle::PluginRemover 0.103 0.105
# Dist::Zilla::Util any 6.032
# List::Util 1.45 1.68_01
# Moose any 2.2207
# Moose::Util any 2.2207
# Moose::Util::TypeConstraints any 2.2207
# namespace::autoclean any 0.31
# strict any 1.13
# warnings any 1.71
#
# === Other Modules ===
#
# Module Have
# -------------------- ----
# Dist::CheckConflicts 0.11
# Encode 3.21
# JSON::PP 4.16
# Pod::Coverage 0.23
# Sub::Name 0.27
# YAML 1.31
# autodie 2.37
#
t/00-report-prereqs.t ...... ok
t/01-basic.t ............... ok
t/02-different-versions.t .. ok
t/03-version-override.t .... ok
t/04-munge-installer.t ..... ok
t/05-plugin-prereqs.t ...... ok
t/06-bundle-override.t ..... ok
t/zzz-check-breaks.t ....... ok
All tests successful.
Files=8, Tests=39, 8 wallclock secs ( 0.04 usr 0.02 sys + 6.91 cusr 0.75 csys = 7.72 CPU)
Result: PASS
------------------------------
PREREQUISITES
------------------------------
Prerequisite modules loaded:
requires:
Module Need Have
---------------------------------------------------------- ----- ---------
CPAN::Meta::Requirements 0 2.143
Dist::Zilla::Plugin::BumpVersionAfterRelease 0.016 0.018
Dist::Zilla::Plugin::BumpVersionAfterRelease::Transitional 0.004 0.009
Dist::Zilla::Plugin::CopyFilesFromRelease 0 0.007
Dist::Zilla::Plugin::Git::Commit 2.020 2.051
Dist::Zilla::Plugin::Git::NextVersion 0 2.051
Dist::Zilla::Plugin::Git::Tag 0 2.051
Dist::Zilla::Plugin::NextRelease 5.033 6.032
Dist::Zilla::Plugin::Prereqs 0 6.032
Dist::Zilla::Plugin::RewriteVersion::Transitional 0.004 0.009
Dist::Zilla::Plugin::VersionFromMainModule 0.04 0.04
Dist::Zilla::Role::FileMunger 0 6.032
Dist::Zilla::Role::PluginBundle::Config::Slicer 0 0.202
Dist::Zilla::Role::PluginBundle::Easy 0 6.032
Dist::Zilla::Role::PluginBundle::PluginRemover 0.103 0.105
Dist::Zilla::Util 0 6.032
List::Util 1.45 1.68_01
Moose 0 2.2207
Moose::Util 0 2.2207
Moose::Util::TypeConstraints 0 2.2207
namespace::autoclean 0 0.31
perl 5.010 5.041006
strict 0 1.13
warnings 0 1.71
build_requires:
Module Need Have
---------------------------------------------------------- ----- ---------
CPAN::Meta::Check 0.011 0.018
CPAN::Meta::Requirements 0 2.143
Exporter 0 5.78
File::Spec 0 3.93
if 0 0.0610
JSON::MaybeXS 0 1.004008
lib 0 0.65
Module::Metadata 0 1.000038
namespace::clean 0 0.27
parent 0 0.242_001
Path::Tiny 0 0.146
perl 5.010 5.041006
Test::Deep 0 1.204
Test::DZil 0 6.032
Test::Fatal 0 0.017
Test::More 0.96 1.302204
configure_requires:
Module Need Have
---------------------------------------------------------- ----- ---------
ExtUtils::MakeMaker 0 7.70
Module::Build::Tiny 0.034 0.051
perl 5.010 5.041006
------------------------------
ENVIRONMENT AND OTHER CONTEXT
------------------------------
Environment variables:
AUTOMATED_TESTING = 1
DATE_MANIP_TEST_DM5 = 1
LANG = en_US.UTF-8
LC_ALL = C
NONINTERACTIVE_TESTING = 1
NO_NETWORK_TESTING = 1
PATH = /export/home/cpan/bin/perl/bin:/usr/bin:/usr/sbin:/sbin:/opt/ooce/bin:/usr/gnu/bin
PERL5LIB =
PERL5OPT =
PERL5_CPANPLUS_IS_RUNNING = 6849
PERL5_CPAN_IS_RUNNING = 6849
PERL_MM_USE_DEFAULT = 1
PERL_USE_UNSAFE_INC = 1
SHELL = /bin/bash
TERM = screen
Perl special variables (and OS-specific diagnostics, for MSWin32):
$^X = /export/home/cpan/bin/perl/bin/perl5.41.6
$UID/$EUID = 101 / 101
$GID = 1 1
$EGID = 1 1
Perl module toolchain versions installed:
Module Have
------------------- --------
CPAN 2.37
CPAN::Meta 2.150010
Cwd 3.92
ExtUtils::CBuilder 0.280240
ExtUtils::Command 7.70
ExtUtils::Install 2.22
ExtUtils::MakeMaker 7.70
ExtUtils::Manifest 1.75
ExtUtils::ParseXS 3.55
File::Spec 3.93
JSON 4.10
JSON::PP 4.16
Module::Build 0.4234
Module::Signature 0.89
Parse::CPAN::Meta 2.150010
Test2 1.302204
Test::Harness 3.50
Test::More 1.302204
YAML 1.31
YAML::Syck 1.34
version 0.9933
--
Summary of my perl5 (revision 5 version 41 subversion 6) configuration:
Commit id: 12ad54447cada8cc2cf26556c19a935197c7146e
Platform:
osname=solaris
osvers=2.11
archname=i86pc-solaris-64
uname='sunos cjg-omniosce 5.11 omnios-r151050-49db1c0a0fe i86pc i386 i86pc '
config_args='-des -Dprefix=/export/home/cpan/bin/perl -Dscriptdir=/export/home/cpan/bin/perl/bin -Dusedevel -Duse64bitall -Dcc=gcc'
hint=recommended
useposix=true
d_sigaction=define
useithreads=undef
usemultiplicity=undef
use64bitint=define
use64bitall=define
uselongdouble=undef
usemymalloc=n
default_inc_excludes_dot=define
Compiler:
cc='gcc'
ccflags ='-m64 -fwrapv -fno-strict-aliasing -pipe -fstack-protector-strong -D_LARGEFILE_SOURCE -D_FILE_OFFSET_BITS=64 -D_FORTIFY_SOURCE=2'
optimize='-O'
cppflags='-m64 -fwrapv -fno-strict-aliasing -pipe -fstack-protector-strong'
ccversion=''
gccversion='13.2.0'
gccosandvers=''
intsize=4
longsize=8
ptrsize=8
doublesize=8
byteorder=12345678
doublekind=3
d_longlong=define
longlongsize=8
d_longdbl=define
longdblsize=16
longdblkind=3
ivtype='long'
ivsize=8
nvtype='double'
nvsize=8
Off_t='off_t'
lseeksize=8
alignbytes=8
prototype=define
Linker and Libraries:
ld='gcc'
ldflags =' -m64 -fstack-protector-strong -L/usr/gnu/lib '
libpth=/opt/gcc-13/lib /usr/lib /usr/gnu/lib /usr/ccs/lib
libs=-lpthread -lsocket -lnsl -ldl -lm -lc
perllibs=-lpthread -lsocket -lnsl -ldl -lm -lc
libc=/lib/libc.so
so=so
useshrplib=true
libperl=libperl.so
gnulibc_version=''
Dynamic Linking:
dlsrc=dl_dlopen.xs
dlext=so
d_dlsymun=undef
ccdlflags=' -R /export/home/cpan/bin/perl/lib/5.41.6/i86pc-solaris-64/CORE'
cccdlflags='-fPIC'
lddlflags=' -shared -m64 -L/usr/gnu/lib -fstack-protector-strong'
Characteristics of this binary (from libperl):
Compile-time options:
HAS_LONG_DOUBLE
HAS_STRTOLD
HAS_TIMES
PERLIO_LAYERS
PERL_COPY_ON_WRITE
PERL_DONT_CREATE_GVSV
PERL_HASH_FUNC_SIPHASH13
PERL_HASH_USE_SBOX32
PERL_MALLOC_WRAP
PERL_OP_PARENT
PERL_PRESERVE_IVUV
PERL_USE_DEVEL
PERL_USE_SAFE_PUTENV
USE_64_BIT_ALL
USE_64_BIT_INT
USE_LARGE_FILES
USE_LOCALE
USE_LOCALE_COLLATE
USE_LOCALE_CTYPE
USE_LOCALE_NUMERIC
USE_LOCALE_TIME
USE_PERLIO
USE_PERL_ATOF
Built under solaris
Compiled at Nov 16 2024 18:04:42
%ENV:
PERL5LIB=""
PERL5OPT=""
PERL5_CPANPLUS_IS_RUNNING="6849"
PERL5_CPAN_IS_RUNNING="6849"
PERL_MM_USE_DEFAULT="1"
PERL_USE_UNSAFE_INC="1"
@INC:
/export/home/cpan/bin/perl/lib/site_perl/5.41.6/i86pc-solaris-64
/export/home/cpan/bin/perl/lib/site_perl/5.41.6
/export/home/cpan/bin/perl/lib/5.41.6/i86pc-solaris-64
/export/home/cpan/bin/perl/lib/5.41.6
.