Object-LocalVars v0.21 Perl 5 v5.22.2 x86_64-linux-thread-multi

Status
Pass
From
Slaven Rezić (SREZIC)
Dist
Object-LocalVars v0.21
Platform
Perl 5 v5.22.2 x86_64-linux-thread-multi
Date
2017-10-29 16:37:28
ID
73a70bb2-bcc7-11e7-9b48-98f0f5330f9e
This distribution has been tested as part of the CPAN Testers
project, supporting the Perl programming language.  See
http://wiki.cpantesters.org/ for more information or email
questions to cpan-testers-discuss@perl.org


--
Dear David Golden,

This is a computer-generated report for Object-LocalVars-0.21
on perl 5.22.2, created by CPAN-Reporter-1.2018.

Thank you for uploading your work to CPAN.  Congratulations!
All tests were successful.

Sections of this report:

    * Tester comments
    * Program output
    * Prerequisites
    * Environment and other context

------------------------------
TESTER COMMENTS
------------------------------

Additional comments from tester:

none provided

------------------------------
PROGRAM OUTPUT
------------------------------

Output from '/usr/bin/make test':

PERL_DL_NONLAZY=1 "/opt/perl-5.22.2t/bin/perl" "-MExtUtils::Command::MM" "-MTest::Harness" "-e" "undef *Test::Harness::Switches; test_harness(0, 'blib/lib', 'blib/arch')" t/*.t
# 
# Versions for all modules listed in MYMETA.json (including optional ones):
#    Version Module                  
#   -------- ------------------------
#   2.150001 CPAN::Meta              
#      2.132 CPAN::Meta::Requirements
#       1.36 Carp                    
#      2.158 Data::Dumper            
#       5.72 Exporter                
#    7.04_01 ExtUtils::MakeMaker     
#    3.56_01 File::Spec::Functions   
#       1.48 List::Util              
#       1.48 Scalar::Util            
#       0.43 Test::Exception         
#   1.302086 Test::More              
#       2.22 base                    
#       1.06 blib                    
#       1.26 overload                
#       1.09 strict                  
#       1.02 subs                    
#     0.9909 version                 
#       1.34 warnings                
t/00-report-prereqs.t ......... ok
t/01-load.t ................... ok
t/02-constructor.t ............ ok
t/03-accessors.t .............. ok
t/04-methods.t ................ ok
t/05-attribute-alias.t ........ ok
t/06-empty-subclass.t ......... ok
t/07-uplevel.t ................ ok
t/08-subclass.t ............... ok
t/09-subclass-other.t ......... ok
t/10-class-properties.t ....... ok
t/11-BUILD.t .................. ok
t/12-PREBUILD.t ............... ok
t/13-DEMOLISH.t ............... ok
t/14-privacy.t ................ ok
t/15-no-helper-inheritance.t .. ok
t/16-diamond.t ................ ok
t/17-overloaded-object.t ...... ok
t/18-accessor-styles.t ........ ok
t/66-threaded.t ............... ok
t/67-forking.t ................ ok
t/98-test-pod-coverage.t ...... ok
t/99-test-pod.t ............... ok
All tests successful.
Files=23, Tests=359,  1 wallclock secs ( 0.05 usr  0.08 sys +  0.95 cusr  0.13 csys =  1.21 CPU)
Result: PASS

------------------------------
PREREQUISITES
------------------------------

Prerequisite modules loaded:

requires:

    Module                   Need     Have    
    ------------------------ -------- --------
    Carp                     0        1.36    
    Exporter                 0        5.72    
    Scalar::Util             1.09     1.48    
    strict                   0        1.09    
    subs                     0        1.02    
    warnings                 0        1.34    

build_requires:

    Module                   Need     Have    
    ------------------------ -------- --------
    base                     0        2.22    
    blib                     0        1.06    
    Data::Dumper             0        2.158   
    ExtUtils::MakeMaker      0        7.04_01 
    File::Spec::Functions    0        3.56_01 
    List::Util               0        1.48    
    overload                 0        1.26    
    Test::Exception          0        0.43    
    Test::More               0        1.302086
    version                  0        0.9909  

configure_requires:

    Module                   Need     Have    
    ------------------------ -------- --------
    ExtUtils::MakeMaker      6.17     7.04_01 

opt_build_requires:

    Module                   Need     Have    
    ------------------------ -------- --------
    CPAN::Meta               0        2.150001
    CPAN::Meta::Requirements 2.120900 2.132   


------------------------------
ENVIRONMENT AND OTHER CONTEXT
------------------------------

Environment variables:

    LANG = en_US.UTF-8
    PATH = /usr/local/bin:/usr/bin:/bin:/usr/local/sbin:/usr/sbin:/sbin:/home/cpansand/bin/linux-gnu:/home/cpansand/bin/sh:/home/cpansand/bin:/usr/games:/home/cpansand/devel:/home/eserte/src/srezic-misc/scripts
    PERL5LIB = 
    PERL5OPT = 
    PERL5_CPANPLUS_IS_RUNNING = 17138
    PERL5_CPAN_IS_RUNNING = 17138
    PERL5_CPAN_IS_RUNNING_IN_RECURSION = 17123,17138
    PERLDOC = -MPod::Perldoc::ToTextOverstrike
    PERL_BATCH = yes
    PERL_CANARY_STABILITY_NOPROMPT = 1
    PERL_CPAN_REPORTER_CONFIG = /var/tmp/cpansmoker-1023/2017102915/cpanreporter_000_config.ini
    PERL_EXTUTILS_AUTOINSTALL = --defaultdeps
    SHELL = /usr/bin/zsh
    TERM = screen
    TMPDIR = /var/tmp/cpansmoker-1023/2017102915

Perl special variables (and OS-specific diagnostics, for MSWin32):

    $^X = /opt/perl-5.22.2t/bin/perl
    $UID/$EUID = 1023 / 1023
    $GID = 1023 1023
    $EGID = 1023 1023

Perl module toolchain versions installed:

    Module              Have    
    ------------------- --------
    CPAN                2.11    
    CPAN::Meta          2.150001
    Cwd                 3.56_01 
    ExtUtils::CBuilder  0.280221
    ExtUtils::Command   1.20    
    ExtUtils::Install   2.04    
    ExtUtils::MakeMaker 7.04_01 
    ExtUtils::Manifest  1.70    
    ExtUtils::ParseXS   3.28    
    File::Spec          3.56_01 
    JSON                2.94    
    JSON::PP            2.27300 
    Module::Build       0.4224  
    Module::Signature   0.81    
    Parse::CPAN::Meta   1.4414  
    Test::Harness       3.35    
    Test::More          1.302086
    YAML                1.23    
    YAML::Syck          1.30    
    version             0.9909  


--

Summary of my perl5 (revision 5 version 22 subversion 2) configuration:
   
  Platform:
    osname=linux, osvers=4.4.0-81-generic, archname=x86_64-linux-thread-multi
    uname='linux ubuntu16 4.4.0-81-generic #104-ubuntu smp wed jun 14 08:17:06 utc 2017 x86_64 x86_64 x86_64 gnulinux '
    config_args='-ds -e -Dprefix=/opt/perl-5.22.2t -Dusethreads -Dcf_email=srezic@cpan.org'
    hint=recommended, useposix=true, d_sigaction=define
    useithreads=define, usemultiplicity=define
    use64bitint=define, use64bitall=define, uselongdouble=undef
    usemymalloc=n, bincompat5005=undef
  Compiler:
    cc='cc', ccflags ='-D_REENTRANT -D_GNU_SOURCE -fwrapv -fno-strict-aliasing -pipe -fstack-protector-strong -I/usr/local/include -D_LARGEFILE_SOURCE -D_FILE_OFFSET_BITS=64',
    optimize='-O2',
    cppflags='-D_REENTRANT -D_GNU_SOURCE -fwrapv -fno-strict-aliasing -pipe -fstack-protector-strong -I/usr/local/include'
    ccversion='', gccversion='5.4.0 20160609', gccosandvers=''
    intsize=4, longsize=8, ptrsize=8, doublesize=8, byteorder=12345678, doublekind=3
    d_longlong=define, longlongsize=8, d_longdbl=define, longdblsize=16, longdblkind=3
    ivtype='long', ivsize=8, nvtype='double', nvsize=8, Off_t='off_t', lseeksize=8
    alignbytes=8, prototype=define
  Linker and Libraries:
    ld='cc', ldflags =' -fstack-protector-strong -L/usr/local/lib'
    libpth=/usr/local/lib /usr/lib/gcc/x86_64-linux-gnu/5/include-fixed /usr/include/x86_64-linux-gnu /usr/lib /lib/x86_64-linux-gnu /lib/../lib /usr/lib/x86_64-linux-gnu /usr/lib/../lib /lib
    libs=-lpthread -lnsl -lgdbm -ldb -ldl -lm -lcrypt -lutil -lc -lgdbm_compat
    perllibs=-lpthread -lnsl -ldl -lm -lcrypt -lutil -lc
    libc=libc-2.23.so, so=so, useshrplib=false, libperl=libperl.a
    gnulibc_version='2.23'
  Dynamic Linking:
    dlsrc=dl_dlopen.xs, dlext=so, d_dlsymun=undef, ccdlflags='-Wl,-E'
    cccdlflags='-fPIC', lddlflags='-shared -O2 -L/usr/local/lib -fstack-protector-strong'


Characteristics of this binary (from libperl): 
  Compile-time options: HAS_TIMES MULTIPLICITY PERLIO_LAYERS
                        PERL_DONT_CREATE_GVSV
                        PERL_HASH_FUNC_ONE_AT_A_TIME_HARD
                        PERL_IMPLICIT_CONTEXT PERL_MALLOC_WRAP
                        PERL_NEW_COPY_ON_WRITE PERL_PRESERVE_IVUV
                        USE_64_BIT_ALL USE_64_BIT_INT USE_ITHREADS
                        USE_LARGE_FILES USE_LOCALE USE_LOCALE_COLLATE
                        USE_LOCALE_CTYPE USE_LOCALE_NUMERIC USE_LOCALE_TIME
                        USE_PERLIO USE_PERL_ATOF USE_REENTRANT_API
  Built under linux
  Compiled at Jun 27 2017 20:04:14
  %ENV:
    PERL5LIB=""
    PERL5OPT=""
    PERL5_CPANPLUS_IS_RUNNING="17138"
    PERL5_CPAN_IS_RUNNING="17138"
    PERL5_CPAN_IS_RUNNING_IN_RECURSION="17123,17138"
    PERLDOC="-MPod::Perldoc::ToTextOverstrike"
    PERL_BATCH="yes"
    PERL_CANARY_STABILITY_NOPROMPT="1"
    PERL_CPAN_REPORTER_CONFIG="/var/tmp/cpansmoker-1023/2017102915/cpanreporter_000_config.ini"
    PERL_EXTUTILS_AUTOINSTALL="--defaultdeps"
  @INC:
    /opt/perl-5.22.2t/lib/site_perl/5.22.2/x86_64-linux-thread-multi
    /opt/perl-5.22.2t/lib/site_perl/5.22.2
    /opt/perl-5.22.2t/lib/5.22.2/x86_64-linux-thread-multi
    /opt/perl-5.22.2t/lib/5.22.2
    .