Dist-Zilla-PluginBundle-Author-DBR v1.2.5 Perl 5 v5.28.0 RC2 x86_64-linux

Status
Pass
From
Slaven Rezić (SREZIC)
Dist
Dist-Zilla-PluginBundle-Author-DBR v1.2.5
Platform
Perl 5 v5.28.0 RC2 x86_64-linux
Date
2018-06-10 08:44:13
ID
737f15e4-6c8a-11e8-8432-f81f34d7d05f
This distribution has been tested as part of the CPAN Testers
project, supporting the Perl programming language.  See
http://wiki.cpantesters.org/ for more information or email
questions to cpan-testers-discuss@perl.org


--
Dear Daniel,

This is a computer-generated report for Dist-Zilla-PluginBundle-Author-DBR-1.2.5
on perl 5.28.0, created by CPAN-Reporter-1.2018.

Thank you for uploading your work to CPAN.  Congratulations!
All tests were successful.

Sections of this report:

    * Tester comments
    * Program output
    * Prerequisites
    * Environment and other context

------------------------------
TESTER COMMENTS
------------------------------

Additional comments from tester:

none provided

------------------------------
PROGRAM OUTPUT
------------------------------

Output from './Build test':

t/00-check-deps.t ........ ok
t/00-load.t .............. ok
# Prerequisite Report:
#    Version Module                                          
#   -------- ------------------------------------------------
#       1.50 Carp                                            
#      6.012 Dist::Zilla                                     
#      1.009 Dist::Zilla::Plugin::Authority                  
#      6.012 Dist::Zilla::Plugin::AutoPrereqs                
#       0.05 Dist::Zilla::Plugin::CheckChangeLog             
#      0.011 Dist::Zilla::Plugin::CheckChangesHasContent     
#      0.029 Dist::Zilla::Plugin::CheckExtraTests            
#      0.020 Dist::Zilla::Plugin::CheckPrereqsIndexed        
#   0.121750 Dist::Zilla::Plugin::CheckVersionIncrement      
#      6.012 Dist::Zilla::Plugin::ConfirmRelease             
#       0.19 Dist::Zilla::Plugin::EOLTests                   
#       0.58 Dist::Zilla::Plugin::GithubMeta                 
#   1.101420 Dist::Zilla::Plugin::HasVersionTests            
#   1.200009 Dist::Zilla::Plugin::InstallGuide               
#      0.008 Dist::Zilla::Plugin::InstallRelease             
#      6.012 Dist::Zilla::Plugin::MetaJSON                   
#   2.001001 Dist::Zilla::Plugin::MetaProvides::Class        
#   2.004003 Dist::Zilla::Plugin::MetaProvides::Package      
#      6.012 Dist::Zilla::Plugin::MetaTests                  
#      6.012 Dist::Zilla::Plugin::MetaYAML                   
#      1.006 Dist::Zilla::Plugin::MinimumPerl                
#      6.012 Dist::Zilla::Plugin::ModuleBuild                
#      6.012 Dist::Zilla::Plugin::NextRelease                
#       0.15 Dist::Zilla::Plugin::NoTabsTests                
#      6.012 Dist::Zilla::Plugin::PkgVersion                 
#      6.012 Dist::Zilla::Plugin::PodCoverageTests           
#      6.012 Dist::Zilla::Plugin::PodSyntaxTests             
#      4.008 Dist::Zilla::Plugin::PodWeaver                  
#       0.35 Dist::Zilla::Plugin::ReadmeFromPod              
#      undef Dist::Zilla::Plugin::ReportPhase                
#   1.110730 Dist::Zilla::Plugin::ReportVersions             
#      0.047 Dist::Zilla::Plugin::Run::Release               
#      0.029 Dist::Zilla::Plugin::RunExtraTests              
#      0.3.2 Dist::Zilla::Plugin::SchwartzRatio              
#      0.6.0 Dist::Zilla::Plugin::ShareDir::Tarball          
#   1.001000 Dist::Zilla::Plugin::SpellingCommonMistakesTests
#   0.101628 Dist::Zilla::Plugin::TaskWeaver                 
#      0.012 Dist::Zilla::Plugin::Test::CPAN::Changes        
#      0.011 Dist::Zilla::Plugin::Test::ChangesHasContent    
#      0.014 Dist::Zilla::Plugin::Test::CheckDeps            
#       0.04 Dist::Zilla::Plugin::Test::CheckManifest        
#      2.058 Dist::Zilla::Plugin::Test::Compile              
#       0.03 Dist::Zilla::Plugin::Test::Legal                
#   2.000008 Dist::Zilla::Plugin::Test::MinimumVersion       
#      3.001 Dist::Zilla::Plugin::Test::Perl::Critic         
#   2.001000 Dist::Zilla::Plugin::Test::Portability          
#      0.027 Dist::Zilla::Plugin::Test::ReportPrereqs        
#      0.002 Dist::Zilla::Plugin::Test::UseAllModules        
#      6.012 Dist::Zilla::Plugin::TestRelease                
#      2.045 Dist::Zilla::PluginBundle::Git                  
#       1.00 Dist::Zilla::Role::PluginBundle::Merged         
#       7.34 ExtUtils::MakeMaker                             
#       3.74 File::Spec::Functions                           
#       1.50 List::Util                                      
#     0.4224 Module::Build                                   
#       0.43 MooseX::Declare                                 
#   0.093004 Pod::Weaver::Plugin::WikiDoc                    
#      1.010 Pod::Weaver::Section::Support                   
#       1.50 Scalar::Util                                    
#       0.25 Test::CPAN::Meta                                
#      0.010 Test::CheckDeps                                 
#   1.302136 Test::More                                      
#       0.17 Test::UseAllModules                             
#       1.11 strict                                          
#       0.18 true                                            
#       1.42 warnings                                        
t/00-report-prereqs.t .... ok
# Testing with Perl 5.028000, /opt/perl-5.28.0-RC2/bin/perl
#     Carp version is 1.50
#     Dist::Zilla version is 6.012
#     Dist::Zilla::Plugin::Authority version is 1.009
#     Dist::Zilla::Plugin::AutoPrereqs version is 6.012
#     Dist::Zilla::Plugin::CheckChangeLog version is 0.05
#     Dist::Zilla::Plugin::CheckChangesHasContent version is 0.011
#     Dist::Zilla::Plugin::CheckExtraTests version is 0.029
#     Dist::Zilla::Plugin::CheckPrereqsIndexed version is 0.020
#     Dist::Zilla::Plugin::CheckVersionIncrement version is 0.121750
#     Dist::Zilla::Plugin::ConfirmRelease version is 6.012
#     Dist::Zilla::Plugin::EOLTests version is 0.19
#     Dist::Zilla::Plugin::GithubMeta version is 0.58
#     Dist::Zilla::Plugin::HasVersionTests version is 1.101420
#     Dist::Zilla::Plugin::InstallGuide version is 1.200009
#     Dist::Zilla::Plugin::InstallRelease version is 0.008
#     Dist::Zilla::Plugin::MetaJSON version is 6.012
#     Dist::Zilla::Plugin::MetaProvides::Class version is 2.001001
#     Dist::Zilla::Plugin::MetaProvides::Package version is 2.004003
#     Dist::Zilla::Plugin::MetaTests version is 6.012
#     Dist::Zilla::Plugin::MetaYAML version is 6.012
#     Dist::Zilla::Plugin::MinimumPerl version is 1.006
#     Dist::Zilla::Plugin::ModuleBuild version is 6.012
#     Dist::Zilla::Plugin::NextRelease version is 6.012
#     Dist::Zilla::Plugin::NoTabsTests version is 0.15
#     Dist::Zilla::Plugin::PkgVersion version is 6.012
#     Dist::Zilla::Plugin::PodCoverageTests version is 6.012
#     Dist::Zilla::Plugin::PodSyntaxTests version is 6.012
#     Dist::Zilla::Plugin::PodWeaver version is 4.008
#     Dist::Zilla::Plugin::ReadmeFromPod version is 0.35
#     Dist::Zilla::Plugin::ReportPhase version is 0.03
#     Dist::Zilla::Plugin::ReportVersions version is 1.110730
#     Dist::Zilla::Plugin::Run::Release version is 0.047
#     Dist::Zilla::Plugin::RunExtraTests version is 0.029
#     Dist::Zilla::Plugin::SchwartzRatio version is 0.3.2
#     Dist::Zilla::Plugin::ShareDir::Tarball version is 0.6.0
#     Dist::Zilla::Plugin::SpellingCommonMistakesTests version is 1.001000
#     Dist::Zilla::Plugin::TaskWeaver version is 0.101628
#     Dist::Zilla::Plugin::Test::CPAN::Changes version is 0.012
#     Dist::Zilla::Plugin::Test::ChangesHasContent version is 0.011
#     Dist::Zilla::Plugin::Test::CheckDeps version is 0.014
#     Dist::Zilla::Plugin::Test::CheckManifest version is 0.04
#     Dist::Zilla::Plugin::Test::Compile version is 2.058
#     Dist::Zilla::Plugin::Test::Legal version is 0.03
#     Dist::Zilla::Plugin::Test::MinimumVersion version is 2.000008
#     Dist::Zilla::Plugin::Test::Perl::Critic version is 3.001
#     Dist::Zilla::Plugin::Test::Portability version is 2.001000
#     Dist::Zilla::Plugin::Test::ReportPrereqs version is 0.027
#     Dist::Zilla::Plugin::Test::UseAllModules version is 0.002
#     Dist::Zilla::Plugin::TestRelease version is 6.012
#     Dist::Zilla::PluginBundle::Git version is 2.045
#     Dist::Zilla::Role::PluginBundle::Merged version is 1.00
#     ExtUtils::MakeMaker version is 7.34
#     File::Spec::Functions version is 3.74
#     List::Util version is 1.5
#     Module::Build version is 0.4224
#     MooseX::Declare version is 0.43
#     Pod::Weaver::Plugin::WikiDoc version is 0.093004
#     Pod::Weaver::Section::Support version is 1.010
#     Scalar::Util version is 1.5
#     Test::CPAN::Meta version is 0.25
#     Test::CheckDeps version is 0.010
#     Test::More version is 1.302136
#     Test::UseAllModules version is 0.17
#     strict version is 1.11
#     true version is 0.18
#     warnings version is 1.42
t/000-report-versions.t .. ok
All tests successful.
Files=4, Tests=138,  3 wallclock secs ( 0.03 usr  0.02 sys +  2.24 cusr  0.21 csys =  2.50 CPU)
Result: PASS

------------------------------
PREREQUISITES
------------------------------

Prerequisite modules loaded:

requires:

    Module                                           Need   Have    
    ------------------------------------------------ ------ --------
    Dist::Zilla                                      0      6.012   
    Dist::Zilla::Plugin::Authority                   0      1.009   
    Dist::Zilla::Plugin::AutoPrereqs                 0      6.012   
    Dist::Zilla::Plugin::CheckChangeLog              0      0.05    
    Dist::Zilla::Plugin::CheckChangesHasContent      0      0.011   
    Dist::Zilla::Plugin::CheckExtraTests             0      0.029   
    Dist::Zilla::Plugin::CheckPrereqsIndexed         0      0.020   
    Dist::Zilla::Plugin::CheckVersionIncrement       0      0.121750
    Dist::Zilla::Plugin::ConfirmRelease              0      6.012   
    Dist::Zilla::Plugin::EOLTests                    0      0.19    
    Dist::Zilla::Plugin::GithubMeta                  0      0.58    
    Dist::Zilla::Plugin::HasVersionTests             0      1.101420
    Dist::Zilla::Plugin::InstallGuide                0      1.200009
    Dist::Zilla::Plugin::InstallRelease              0      0.008   
    Dist::Zilla::Plugin::MetaJSON                    0      6.012   
    Dist::Zilla::Plugin::MetaProvides::Class         0      2.001001
    Dist::Zilla::Plugin::MetaProvides::Package       0      2.004003
    Dist::Zilla::Plugin::MetaTests                   0      6.012   
    Dist::Zilla::Plugin::MetaYAML                    0      6.012   
    Dist::Zilla::Plugin::MinimumPerl                 0      1.006   
    Dist::Zilla::Plugin::ModuleBuild                 0      6.012   
    Dist::Zilla::Plugin::NextRelease                 0      6.012   
    Dist::Zilla::Plugin::NoTabsTests                 0      0.15    
    Dist::Zilla::Plugin::PkgVersion                  0      6.012   
    Dist::Zilla::Plugin::PodCoverageTests            0      6.012   
    Dist::Zilla::Plugin::PodSyntaxTests              0      6.012   
    Dist::Zilla::Plugin::PodWeaver                   0      4.008   
    Dist::Zilla::Plugin::ReadmeFromPod               0      0.35    
    Dist::Zilla::Plugin::ReportPhase                 0      0.03    
    Dist::Zilla::Plugin::ReportVersions              0      1.110730
    Dist::Zilla::Plugin::Run::Release                0      0.047   
    Dist::Zilla::Plugin::RunExtraTests               0      0.029   
    Dist::Zilla::Plugin::SchwartzRatio               0      0.3.2   
    Dist::Zilla::Plugin::ShareDir::Tarball           0      0.6.0   
    Dist::Zilla::Plugin::SpellingCommonMistakesTests 0      1.001000
    Dist::Zilla::Plugin::TaskWeaver                  0      0.101628
    Dist::Zilla::Plugin::Test::ChangesHasContent     0      0.011   
    Dist::Zilla::Plugin::Test::CheckDeps             0      0.014   
    Dist::Zilla::Plugin::Test::CheckManifest         0      0.04    
    Dist::Zilla::Plugin::Test::Compile               0      2.058   
    Dist::Zilla::Plugin::Test::CPAN::Changes         0      0.012   
    Dist::Zilla::Plugin::Test::Legal                 0      0.03    
    Dist::Zilla::Plugin::Test::MinimumVersion        0      2.000008
    Dist::Zilla::Plugin::Test::Perl::Critic          0      3.001   
    Dist::Zilla::Plugin::Test::Portability           0      2.001000
    Dist::Zilla::Plugin::Test::ReportPrereqs         0      0.027   
    Dist::Zilla::Plugin::Test::UseAllModules         0      0.002   
    Dist::Zilla::Plugin::TestRelease                 0      6.012   
    Dist::Zilla::PluginBundle::Git                   0      2.045   
    Dist::Zilla::Role::PluginBundle::Merged          0      1.00    
    MooseX::Declare                                  0      0.43    
    Pod::Weaver::Plugin::WikiDoc                     0      0.093004
    Pod::Weaver::Section::Support                    0      1.010   
    Test::CPAN::Meta                                 0      0.25    
    Test::UseAllModules                              0      0.17    
    true                                             0      0.18    

build_requires:

    Module                                           Need   Have    
    ------------------------------------------------ ------ --------
    Carp                                             0      1.50    
    ExtUtils::MakeMaker                              0      7.34    
    File::Spec::Functions                            0      3.74    
    List::Util                                       0      1.50    
    Module::Build                                    0.3601 0.4224  
    perl                                             5.004  5.028000
    Scalar::Util                                     0      1.50    
    strict                                           0      1.11    
    Test::CheckDeps                                  0.006  0.010   
    Test::More                                       0.94   1.302136
    Test::UseAllModules                              0      0.17    
    warnings                                         0      1.42    

configure_requires:

    Module                                           Need   Have    
    ------------------------------------------------ ------ --------
    ExtUtils::MakeMaker                              6.30   7.34    
    Module::Build                                    0.3601 0.4224  


------------------------------
ENVIRONMENT AND OTHER CONTEXT
------------------------------

Environment variables:

    LANG = C
    LC_ALL = de_DE.UTF-8
    PATH = /usr/local/bin:/usr/bin:/bin:/usr/local/sbin:/usr/sbin:/sbin:/home/cpansand/bin/linux-gnu:/home/cpansand/bin/sh:/home/cpansand/bin:/usr/games:/home/cpansand/devel:/home/eserte/src/srezic-misc/scripts
    PERL5LIB = 
    PERL5OPT = 
    PERL5_CPANPLUS_IS_RUNNING = 4691
    PERL5_CPAN_IS_RUNNING = 4691
    PERL5_CPAN_IS_RUNNING_IN_RECURSION = 10719,4691
    PERLDOC = -MPod::Perldoc::ToTextOverstrike
    PERL_BATCH = yes
    PERL_CANARY_STABILITY_NOPROMPT = 1
    PERL_CPAN_REPORTER_CONFIG = /var/tmp/cpansmoker-1023/2018060915/cpanreporter_000_config.ini
    PERL_EXTUTILS_AUTOINSTALL = --defaultdeps
    PERL_PARALLEL_SMOKER = yes
    PERL_USE_UNSAFE_INC = 1
    SHELL = /usr/bin/zsh
    TERM = screen
    TMPDIR = /var/tmp/cpansmoker-1023/2018060915

Perl special variables (and OS-specific diagnostics, for MSWin32):

    $^X = /opt/perl-5.28.0-RC2/bin/perl
    $UID/$EUID = 1023 / 1023
    $GID = 1023 1023
    $EGID = 1023 1023

Perl module toolchain versions installed:

    Module              Have    
    ------------------- --------
    CPAN                2.20    
    CPAN::Meta          2.150010
    Cwd                 3.74    
    ExtUtils::CBuilder  0.280230
    ExtUtils::Command   7.34    
    ExtUtils::Install   2.14    
    ExtUtils::MakeMaker 7.34    
    ExtUtils::Manifest  1.71    
    ExtUtils::ParseXS   3.39    
    File::Spec          3.74    
    JSON                2.97001 
    JSON::PP            2.97001 
    Module::Build       0.4224  
    Module::Signature   0.81    
    Parse::CPAN::Meta   2.150010
    Test::Harness       3.42    
    Test::More          1.302136
    YAML                1.26    
    YAML::Syck          1.30    
    version             0.9924  


--

Summary of my perl5 (revision 5 version 28 subversion 0) configuration:
   
  Platform:
    osname=linux
    osvers=4.9.0-3-amd64
    archname=x86_64-linux
    uname='linux debian9 4.9.0-3-amd64 #1 smp debian 4.9.30-2+deb9u5 (2017-09-19) x86_64 gnulinux '
    config_args='-ds -e -Dprefix=/opt/perl-5.28.0-RC2 -Dcf_email=srezic@cpan.org'
    hint=recommended
    useposix=true
    d_sigaction=define
    useithreads=undef
    usemultiplicity=undef
    use64bitint=define
    use64bitall=define
    uselongdouble=undef
    usemymalloc=n
    default_inc_excludes_dot=define
    bincompat5005=undef
  Compiler:
    cc='cc'
    ccflags ='-fwrapv -fno-strict-aliasing -pipe -fstack-protector-strong -I/usr/local/include -D_LARGEFILE_SOURCE -D_FILE_OFFSET_BITS=64 -D_FORTIFY_SOURCE=2'
    optimize='-O2'
    cppflags='-fwrapv -fno-strict-aliasing -pipe -fstack-protector-strong -I/usr/local/include'
    ccversion=''
    gccversion='6.3.0 20170516'
    gccosandvers=''
    intsize=4
    longsize=8
    ptrsize=8
    doublesize=8
    byteorder=12345678
    doublekind=3
    d_longlong=define
    longlongsize=8
    d_longdbl=define
    longdblsize=16
    longdblkind=3
    ivtype='long'
    ivsize=8
    nvtype='double'
    nvsize=8
    Off_t='off_t'
    lseeksize=8
    alignbytes=8
    prototype=define
  Linker and Libraries:
    ld='cc'
    ldflags =' -fstack-protector-strong -L/usr/local/lib'
    libpth=/usr/local/lib /usr/lib/gcc/x86_64-linux-gnu/6/include-fixed /usr/include/x86_64-linux-gnu /usr/lib /lib/x86_64-linux-gnu /lib/../lib /usr/lib/x86_64-linux-gnu /usr/lib/../lib /lib
    libs=-lpthread -lnsl -lgdbm -ldb -ldl -lm -lcrypt -lutil -lc -lgdbm_compat
    perllibs=-lpthread -lnsl -ldl -lm -lcrypt -lutil -lc
    libc=libc-2.24.so
    so=so
    useshrplib=false
    libperl=libperl.a
    gnulibc_version='2.24'
  Dynamic Linking:
    dlsrc=dl_dlopen.xs
    dlext=so
    d_dlsymun=undef
    ccdlflags='-Wl,-E'
    cccdlflags='-fPIC'
    lddlflags='-shared -O2 -L/usr/local/lib -fstack-protector-strong'


Characteristics of this binary (from libperl): 
  Compile-time options:
    HAS_TIMES
    PERLIO_LAYERS
    PERL_COPY_ON_WRITE
    PERL_DONT_CREATE_GVSV
    PERL_MALLOC_WRAP
    PERL_OP_PARENT
    PERL_PRESERVE_IVUV
    USE_64_BIT_ALL
    USE_64_BIT_INT
    USE_LARGE_FILES
    USE_LOCALE
    USE_LOCALE_COLLATE
    USE_LOCALE_CTYPE
    USE_LOCALE_NUMERIC
    USE_LOCALE_TIME
    USE_PERLIO
    USE_PERL_ATOF
  Locally applied patches:
    RC2
  Built under linux
  Compiled at Jun  6 2018 18:02:51
  %ENV:
    PERL5LIB=""
    PERL5OPT=""
    PERL5_CPANPLUS_IS_RUNNING="4691"
    PERL5_CPAN_IS_RUNNING="4691"
    PERL5_CPAN_IS_RUNNING_IN_RECURSION="10719,4691"
    PERLDOC="-MPod::Perldoc::ToTextOverstrike"
    PERL_BATCH="yes"
    PERL_CANARY_STABILITY_NOPROMPT="1"
    PERL_CPAN_REPORTER_CONFIG="/var/tmp/cpansmoker-1023/2018060915/cpanreporter_000_config.ini"
    PERL_EXTUTILS_AUTOINSTALL="--defaultdeps"
    PERL_PARALLEL_SMOKER="yes"
    PERL_USE_UNSAFE_INC="1"
  @INC:
    /opt/perl-5.28.0-RC2/lib/site_perl/5.28.0/x86_64-linux
    /opt/perl-5.28.0-RC2/lib/site_perl/5.28.0
    /opt/perl-5.28.0-RC2/lib/5.28.0/x86_64-linux
    /opt/perl-5.28.0-RC2/lib/5.28.0
    .