Test-Corpus-Audio-MPD v1.120990 Perl 5 v5.26.1 x86_64-linux

Status
Pass
From
Nigel Horne
Dist
Test-Corpus-Audio-MPD v1.120990
Platform
Perl 5 v5.26.1 x86_64-linux
Date
2018-12-26 10:24:39
ID
736c2c62-08f8-11e9-b413-b53b1b779a41
This distribution has been tested as part of the CPAN Testers
project, supporting the Perl programming language.  See
http://wiki.cpantesters.org/ for more information or email
questions to cpan-testers-discuss@perl.org


--
Dear Jerome Quelin,

This is a computer-generated report for Test-Corpus-Audio-MPD-1.120990
on perl 5.26.1, created by CPAN-Reporter-1.2018.

Thank you for uploading your work to CPAN.  Congratulations!
All tests were successful.

Sections of this report:

    * Tester comments
    * Program output
    * Prerequisites
    * Environment and other context

------------------------------
TESTER COMMENTS
------------------------------

Additional comments from tester:

this report is from an automated smoke testing program
and was not reviewed by a human for accuracy

------------------------------
PROGRAM OUTPUT
------------------------------

Output from './Build test':

# 
# 
# perl: v5.26.1 (wanted 5.008) on linux from /home/njh/perl5/perlbrew/perls/perl-5.26.1/bin/perl
# 
# Exporter                                      => 5.73       (want any version)
# File::Copy                                    => 2.32       (want any version)
# File::ShareDir::PathClass                     => 1.112440   (want any version)
# File::Temp                                    => 0.2308     (want any version)
# Module::Build                                 => 0.4224     (want 0.3601) 
# Path::Class                                   => 0.37       (want any version)
# Readonly                                      => 2.05       (want any version)
# Test::More                                    => 1.302136   (want 0.88)   
# base                                          => 2.26       (want any version)
# strict                                        => 1.11       (want any version)
# warnings                                      => 1.37       (want any version)
# 
# Thanks for using my code.  I hope it works for you.
# If not, please try and include this output in the bug report.
# That will help me reproduce the issue and solve you problem.
# 
t/release-has-version.t ....... skipped: these tests are for release candidate testing
t/00-compile.t ................ ok
t/000-report-versions-tiny.t .. ok
t/release-kwalitee.t .......... skipped: these tests are for release candidate testing
t/release-pod-coverage.t ...... skipped: these tests are for release candidate testing
t/release-minimum-version.t ... skipped: these tests are for release candidate testing
t/release-pod-syntax.t ........ skipped: these tests are for release candidate testing
All tests successful.
Files=7, Tests=2,  0 wallclock secs ( 0.02 usr  0.02 sys +  0.46 cusr  0.15 csys =  0.65 CPU)
Result: PASS

------------------------------
PREREQUISITES
------------------------------

Prerequisite modules loaded:

requires:

    Module                    Need   Have    
    ------------------------- ------ --------
    base                      0      2.26    
    Exporter                  0      5.73    
    File::Copy                0      2.32    
    File::ShareDir            1.00   1.116   
    File::ShareDir::PathClass 0      1.112440
    File::Temp                0      0.2308  
    Path::Class               0      0.37    
    perl                      5.008  5.026001
    Readonly                  0      2.05    
    strict                    0      1.11    
    warnings                  0      1.37    

build_requires:

    Module                    Need   Have    
    ------------------------- ------ --------
    Module::Build             0.3601 0.4224  
    Test::More                0.88   1.302136

configure_requires:

    Module                    Need   Have    
    ------------------------- ------ --------
    Module::Build             0.3601 0.4224  


------------------------------
ENVIRONMENT AND OTHER CONTEXT
------------------------------

Environment variables:

    AUTOMATED_TESTING = 1
    HARNESS_OPTIONS = j4
    LANG = en_GB.UTF-8
    LANGUAGE = en_GB:en
    PATH = /home/njh/perl5/perlbrew/bin:/home/njh/perl5/perlbrew/perls/perl-5.26.1/bin:/usr/bin:/bin:/home/njh/src/njh/smoker/bin
    PERL5LIB = /home/njh/.cpan/build/File-ShareDir-PathClass-1.112440-9/blib/arch:/home/njh/.cpan/build/File-ShareDir-PathClass-1.112440-9/blib/lib:/home/njh/.cpan/build/Path-Class-0.37-16/blib/arch:/home/njh/.cpan/build/Path-Class-0.37-16/blib/lib:/home/njh/.cpan/build/Proc-Daemon-0.23-9/blib/arch:/home/njh/.cpan/build/Proc-Daemon-0.23-9/blib/lib:/home/njh/.cpan/build/MooseX-SemiAffordanceAccessor-0.10-7/blib/arch:/home/njh/.cpan/build/MooseX-SemiAffordanceAccessor-0.10-7/blib/lib:/home/njh/.cpan/build/List-AllUtils-0.15-10/blib/arch:/home/njh/.cpan/build/List-AllUtils-0.15-10/blib/lib:/home/njh/.cpan/build/List-UtilsBy-0.11-7/blib/arch:/home/njh/.cpan/build/List-UtilsBy-0.11-7/blib/lib:/home/njh/.cpan/build/Getopt-Euclid-0.4.5-13/blib/arch:/home/njh/.cpan/build/Getopt-Euclid-0.4.5-13/blib/lib:/home/njh/.cpan/build/Audio-MPD-Common-2.003-37/blib/arch:/home/njh/.cpan/build/Audio-MPD-Common-2.003-37/blib/lib:/home/njh/.cpan/build/String-Formatter-0.102084-13/blib/arch:/home/njh/.cpan/build/String-Formatter-0.102084-13/blib/lib:/home/njh/.cpan/build/MooseX-Types-0.50-7/blib/arch:/home/njh/.cpan/build/MooseX-Types-0.50-7/blib/lib:/home/njh/.cpan/build/Sub-Exporter-ForMethods-0.100052-7/blib/arch:/home/njh/.cpan/build/Sub-Exporter-ForMethods-0.100052-7/blib/lib:/home/njh/.cpan/build/Carp-Clan-6.07-5/blib/arch:/home/njh/.cpan/build/Carp-Clan-6.07-5/blib/lib:/home/njh/.cpan/build/MooseX-Has-Sugar-1.000006-12/blib/arch:/home/njh/.cpan/build/MooseX-Has-Sugar-1.000006-12/blib/lib
    PERL5OPT = 
    PERL5_CPANPLUS_IS_RUNNING = 20721
    PERL5_CPAN_IS_RUNNING = 20721
    PERLBREW_HOME = /home/njh/.perlbrew
    PERLBREW_MANPATH = /home/njh/perl5/perlbrew/perls/perl-5.26.1/man
    PERLBREW_PATH = /home/njh/perl5/perlbrew/bin:/home/njh/perl5/perlbrew/perls/perl-5.26.1/bin
    PERLBREW_PERL = perl-5.26.1
    PERLBREW_ROOT = /home/njh/perl5/perlbrew
    PERLBREW_SHELLRC_VERSION = 0.82
    PERLBREW_VERSION = 0.82
    PERL_USE_UNSAFE_INC = 1
    SHELL = /bin/sh
    TEMP = /tmp/user/1000
    TMPDIR = /tmp/user/1000/testwrapper.20706

Perl special variables (and OS-specific diagnostics, for MSWin32):

    $^X = /home/njh/perl5/perlbrew/perls/perl-5.26.1/bin/perl
    $UID/$EUID = 1000 / 1000
    $GID = 1000 4 24 25 29 30 44 46 108 112 1000
    $EGID = 1000 4 24 25 29 30 44 46 108 112 1000

Perl module toolchain versions installed:

    Module              Have    
    ------------------- --------
    CPAN                2.18    
    CPAN::Meta          2.150010
    Cwd                 3.75    
    ExtUtils::CBuilder  0.280230
    ExtUtils::Command   7.34    
    ExtUtils::Install   2.14    
    ExtUtils::MakeMaker 7.34    
    ExtUtils::Manifest  1.71    
    ExtUtils::ParseXS   3.35    
    File::Spec          3.75    
    JSON                2.97001 
    JSON::PP            2.97001 
    Module::Build       0.4224  
    Module::Signature   n/a     
    Parse::CPAN::Meta   2.150010
    Test::Harness       3.39    
    Test::More          1.302136
    YAML                1.27    
    YAML::Syck          1.31    
    version             0.9918  


--

Summary of my perl5 (revision 5 version 26 subversion 1) configuration:
   
  Platform:
    osname=linux
    osvers=4.13.0-1-amd64
    archname=x86_64-linux
    uname='linux gateway 4.13.0-1-amd64 #1 smp debian 4.13.4-2 (2017-10-15) x86_64 gnulinux '
    config_args='-de -Dprefix=/home/njh/perl5/perlbrew/perls/perl-5.26.1 -Dusedevel -Accflags=-O2 -W -Wformat=2 -Wswitch -Wshadow -Wwrite-strings -Wuninitialized -Wall -pipe -fomit-frame-pointer -pedantic -D_FORTIFY_SOURCE=2 -Wpointer-arith -Wstrict-prototypes -fstack-protector -Wstack-protector -Wextra -Wbad-function-cast -Wcast-align -Wcast-qual -Wdisabled-optimization -Wendif-labels -Wfloat-equal -Wformat-nonliteral -Winline -Wmissing-declarations -Wmissing-prototypes -Wnested-externs -Wpointer-arith -Wundef -Wformat-security -ftree-vectorize -msse -mfpmath=sse -msse2 -mssse3 -msse4.1 -msse4.2 -fdiagnostics-color=auto -mtune=native -march=native -Aeval:scriptdir=/home/njh/perl5/perlbrew/perls/perl-5.26.1/bin'
    hint=recommended
    useposix=true
    d_sigaction=define
    useithreads=undef
    usemultiplicity=undef
    use64bitint=define
    use64bitall=define
    uselongdouble=undef
    usemymalloc=n
    default_inc_excludes_dot=define
    bincompat5005=undef
  Compiler:
    cc='cc'
    ccflags ='-O2 -W -Wformat=2 -Wswitch -Wshadow -Wwrite-strings -Wuninitialized -Wall -pipe -fomit-frame-pointer -pedantic -D_FORTIFY_SOURCE=2 -Wpointer-arith -Wstrict-prototypes -fstack-protector -Wstack-protector -Wextra -Wbad-function-cast -Wcast-align -Wcast-qual -Wdisabled-optimization -Wendif-labels -Wfloat-equal -Wformat-nonliteral -Winline -Wmissing-declarations -Wmissing-prototypes -Wnested-externs -Wpointer-arith -Wundef -Wformat-security -ftree-vectorize -msse -mfpmath=sse -msse2 -mssse3 -msse4.1 -msse4.2 -fdiagnostics-color=auto -mtune=native -march=native -fwrapv -fno-strict-aliasing -fstack-protector-strong -I/usr/local/include -D_LARGEFILE_SOURCE -D_FILE_OFFSET_BITS=64'
    optimize='-O2'
    cppflags='-O2 -W -Wformat=2 -Wswitch -Wshadow -Wwrite-strings -Wuninitialized -Wall -pipe -fomit-frame-pointer -pedantic -D_FORTIFY_SOURCE=2 -Wpointer-arith -Wstrict-prototypes -fstack-protector -Wstack-protector -Wextra -Wbad-function-cast -Wcast-align -Wcast-qual -Wdisabled-optimization -Wendif-labels -Wfloat-equal -Wformat-nonliteral -Winline -Wmissing-declarations -Wmissing-prototypes -Wnested-externs -Wpointer-arith -Wundef -Wformat-security -ftree-vectorize -msse -mfpmath=sse -msse2 -mssse3 -msse4.1 -msse4.2 -fdiagnostics-color=auto -mtune=native -march=native -fwrapv -fno-strict-aliasing -fstack-protector-strong -I/usr/local/include'
    ccversion=''
    gccversion='7.2.1 20171025'
    gccosandvers=''
    intsize=4
    longsize=8
    ptrsize=8
    doublesize=8
    byteorder=12345678
    doublekind=3
    d_longlong=define
    longlongsize=8
    d_longdbl=define
    longdblsize=16
    longdblkind=3
    ivtype='long'
    ivsize=8
    nvtype='double'
    nvsize=8
    Off_t='off_t'
    lseeksize=8
    alignbytes=8
    prototype=define
  Linker and Libraries:
    ld='cc'
    ldflags =' -fstack-protector-strong -L/usr/local/lib'
    libpth=/usr/local/lib /usr/lib/gcc/x86_64-linux-gnu/7/include-fixed /usr/include/x86_64-linux-gnu /usr/lib /lib/x86_64-linux-gnu /lib/../lib /usr/lib/x86_64-linux-gnu /usr/lib/../lib /lib
    libs=-lpthread -lnsl -lgdbm -ldb -ldl -lm -lcrypt -lutil -lc -lgdbm_compat
    perllibs=-lpthread -lnsl -ldl -lm -lcrypt -lutil -lc
    libc=libc-2.24.so
    so=so
    useshrplib=false
    libperl=libperl.a
    gnulibc_version='2.24'
  Dynamic Linking:
    dlsrc=dl_dlopen.xs
    dlext=so
    d_dlsymun=undef
    ccdlflags='-Wl,-E'
    cccdlflags='-fPIC'
    lddlflags='-shared -O2 -L/usr/local/lib -fstack-protector-strong'


Characteristics of this binary (from libperl): 
  Compile-time options:
    HAS_TIMES
    PERLIO_LAYERS
    PERL_COPY_ON_WRITE
    PERL_DONT_CREATE_GVSV
    PERL_MALLOC_WRAP
    PERL_OP_PARENT
    PERL_PRESERVE_IVUV
    PERL_USE_DEVEL
    USE_64_BIT_ALL
    USE_64_BIT_INT
    USE_LARGE_FILES
    USE_LOCALE
    USE_LOCALE_COLLATE
    USE_LOCALE_CTYPE
    USE_LOCALE_NUMERIC
    USE_LOCALE_TIME
    USE_PERLIO
    USE_PERL_ATOF
  Built under linux
  Compiled at Nov  3 2017 13:28:08
  %ENV:
    PERL5LIB="/home/njh/.cpan/build/File-ShareDir-PathClass-1.112440-9/blib/arch:/home/njh/.cpan/build/File-ShareDir-PathClass-1.112440-9/blib/lib:/home/njh/.cpan/build/Path-Class-0.37-16/blib/arch:/home/njh/.cpan/build/Path-Class-0.37-16/blib/lib:/home/njh/.cpan/build/Proc-Daemon-0.23-9/blib/arch:/home/njh/.cpan/build/Proc-Daemon-0.23-9/blib/lib:/home/njh/.cpan/build/MooseX-SemiAffordanceAccessor-0.10-7/blib/arch:/home/njh/.cpan/build/MooseX-SemiAffordanceAccessor-0.10-7/blib/lib:/home/njh/.cpan/build/List-AllUtils-0.15-10/blib/arch:/home/njh/.cpan/build/List-AllUtils-0.15-10/blib/lib:/home/njh/.cpan/build/List-UtilsBy-0.11-7/blib/arch:/home/njh/.cpan/build/List-UtilsBy-0.11-7/blib/lib:/home/njh/.cpan/build/Getopt-Euclid-0.4.5-13/blib/arch:/home/njh/.cpan/build/Getopt-Euclid-0.4.5-13/blib/lib:/home/njh/.cpan/build/Audio-MPD-Common-2.003-37/blib/arch:/home/njh/.cpan/build/Audio-MPD-Common-2.003-37/blib/lib:/home/njh/.cpan/build/String-Formatter-0.102084-13/blib/arch:/home/njh/.cpan/build/String-Formatter-0.102084-13/blib/lib:/home/njh/.cpan/build/MooseX-Types-0.50-7/blib/arch:/home/njh/.cpan/build/MooseX-Types-0.50-7/blib/lib:/home/njh/.cpan/build/Sub-Exporter-ForMethods-0.100052-7/blib/arch:/home/njh/.cpan/build/Sub-Exporter-ForMethods-0.100052-7/blib/lib:/home/njh/.cpan/build/Carp-Clan-6.07-5/blib/arch:/home/njh/.cpan/build/Carp-Clan-6.07-5/blib/lib:/home/njh/.cpan/build/MooseX-Has-Sugar-1.000006-12/blib/arch:/home/njh/.cpan/build/MooseX-Has-Sugar-1.000006-12/blib/lib"
    PERL5OPT=""
    PERL5_CPANPLUS_IS_RUNNING="20721"
    PERL5_CPAN_IS_RUNNING="20721"
    PERLBREW_HOME="/home/njh/.perlbrew"
    PERLBREW_MANPATH="/home/njh/perl5/perlbrew/perls/perl-5.26.1/man"
    PERLBREW_PATH="/home/njh/perl5/perlbrew/bin:/home/njh/perl5/perlbrew/perls/perl-5.26.1/bin"
    PERLBREW_PERL="perl-5.26.1"
    PERLBREW_ROOT="/home/njh/perl5/perlbrew"
    PERLBREW_SHELLRC_VERSION="0.82"
    PERLBREW_VERSION="0.82"
    PERL_USE_UNSAFE_INC="1"
  @INC:
    /home/njh/.cpan/build/File-ShareDir-PathClass-1.112440-9/blib/arch
    /home/njh/.cpan/build/File-ShareDir-PathClass-1.112440-9/blib/lib
    /home/njh/.cpan/build/Path-Class-0.37-16/blib/arch
    /home/njh/.cpan/build/Path-Class-0.37-16/blib/lib
    /home/njh/.cpan/build/Proc-Daemon-0.23-9/blib/arch
    /home/njh/.cpan/build/Proc-Daemon-0.23-9/blib/lib
    /home/njh/.cpan/build/MooseX-SemiAffordanceAccessor-0.10-7/blib/arch
    /home/njh/.cpan/build/MooseX-SemiAffordanceAccessor-0.10-7/blib/lib
    /home/njh/.cpan/build/List-AllUtils-0.15-10/blib/arch
    /home/njh/.cpan/build/List-AllUtils-0.15-10/blib/lib
    /home/njh/.cpan/build/List-UtilsBy-0.11-7/blib/arch
    /home/njh/.cpan/build/List-UtilsBy-0.11-7/blib/lib
    /home/njh/.cpan/build/Getopt-Euclid-0.4.5-13/blib/arch
    /home/njh/.cpan/build/Getopt-Euclid-0.4.5-13/blib/lib
    /home/njh/.cpan/build/Audio-MPD-Common-2.003-37/blib/arch
    /home/njh/.cpan/build/Audio-MPD-Common-2.003-37/blib/lib
    /home/njh/.cpan/build/String-Formatter-0.102084-13/blib/arch
    /home/njh/.cpan/build/String-Formatter-0.102084-13/blib/lib
    /home/njh/.cpan/build/MooseX-Types-0.50-7/blib/arch
    /home/njh/.cpan/build/MooseX-Types-0.50-7/blib/lib
    /home/njh/.cpan/build/Sub-Exporter-ForMethods-0.100052-7/blib/arch
    /home/njh/.cpan/build/Sub-Exporter-ForMethods-0.100052-7/blib/lib
    /home/njh/.cpan/build/Carp-Clan-6.07-5/blib/arch
    /home/njh/.cpan/build/Carp-Clan-6.07-5/blib/lib
    /home/njh/.cpan/build/MooseX-Has-Sugar-1.000006-12/blib/arch
    /home/njh/.cpan/build/MooseX-Has-Sugar-1.000006-12/blib/lib
    /home/njh/perl5/perlbrew/perls/perl-5.26.1/lib/site_perl/5.26.1/x86_64-linux
    /home/njh/perl5/perlbrew/perls/perl-5.26.1/lib/site_perl/5.26.1
    /home/njh/perl5/perlbrew/perls/perl-5.26.1/lib/5.26.1/x86_64-linux
    /home/njh/perl5/perlbrew/perls/perl-5.26.1/lib/5.26.1
    .