MongoDB vv2.2.2 Perl 5 v5.41.3 x86_64-linux
- Status
- Pass
- From
- Carlos Guevara
- Dist
-
MongoDB vv2.2.2
- Platform
- Perl 5 v5.41.3 x86_64-linux
- Date
- 2024-07-27 15:46:55
- ID
- 73501b8c-4c2f-11ef-92a4-f20f7f68040e
This distribution has been tested as part of the CPAN Testers
project, supporting the Perl programming language. See
http://wiki.cpantesters.org/ for more information or email
questions to cpan-testers-discuss@perl.org
--
Dear MongoDB Inc,
This is a computer-generated report for MongoDB-v2.2.2
on perl 5.41.3, created by CPAN-Reporter-1.2019.
Thank you for uploading your work to CPAN. Congratulations!
All tests were successful.
Sections of this report:
* Tester comments
* Program output
* Prerequisites
* Environment and other context
------------------------------
TESTER COMMENTS
------------------------------
Additional comments from tester:
this report is from an automated smoke testing program
and was not reviewed by a human for accuracy
------------------------------
PROGRAM OUTPUT
------------------------------
Output from '/usr/bin/make test':
PERL_DL_NONLAZY=1 "/home/cpan/bin/perl/bin/perl5.41.3" "-MExtUtils::Command::MM" "-MTest::Harness" "-e" "undef *Test::Harness::Switches; test_harness(0, 'blib/lib', 'blib/arch')" t/*.t t/deprecated/*.t t/examples/*.t t/unit/*.t
# Checking MongoDB test environment
# MongoDB driver version v2.2.2
# BSON::XS codec version v0.8.4
t/00-report-mongod.t ....................... skipped: no mongod on localhost:27017 and $ENV{MONGOD} not set
t/max_time_ms.t ............................ skipped: no mongod on localhost:27017 and $ENV{MONGOD} not set
t/using_profiler.t ......................... skipped: no mongod on localhost:27017 and $ENV{MONGOD} not set
t/changestreams.t .......................... skipped: no mongod on localhost:27017 and $ENV{MONGOD} not set
t/changestreams_spec.t ..................... skipped: no mongod on localhost:27017 and $ENV{MONGOD} not set
t/examples/changestream.t .................. skipped: no mongod on localhost:27017 and $ENV{MONGOD} not set
t/retryable-writes-spec.t .................. skipped: no mongod on localhost:27017 and $ENV{MONGOD} not set
t/retryable-writes-split-batch.t ........... skipped: no mongod on localhost:27017 and $ENV{MONGOD} not set
t/retryable-reads-spec.t ................... skipped: no mongod on localhost:27017 and $ENV{MONGOD} not set
t/sessions-spec.t .......................... skipped: no mongod on localhost:27017 and $ENV{MONGOD} not set
t/transactions-spec.t ...................... skipped: no mongod on localhost:27017 and $ENV{MONGOD} not set
t/transactions-convenient-api-spec.t ....... skipped: no mongod on localhost:27017 and $ENV{MONGOD} not set
t/connections-survive-step-down.t .......... skipped: no mongod on localhost:27017 and $ENV{MONGOD} not set
#
# Versions for all modules listed in MYMETA.json (including optional ones):
#
# === Configure Requires ===
#
# Module Want Have
# ------------------- ---- ----
# ExtUtils::MakeMaker 6.17 7.70
# Text::ParseWords any 3.31
#
# === Build Requires ===
#
# Module Want Have
# ------------------- ---- ----
# ExtUtils::MakeMaker any 7.70
#
# === Test Requires ===
#
# Module Want Have
# ------------------- ----- --------
# BSON::Decimal128 any v1.12.2
# Data::Dumper any 2.190
# ExtUtils::MakeMaker any 7.70
# File::Compare any 1.1008
# File::Spec any 3.92
# IO::File any 1.55
# JSON::MaybeXS any 1.004005
# Path::Tiny 0.058 0.146
# Storable any 3.33
# Test::Deep 0.111 1.204
# Test::Fatal any 0.017
# Test::More 0.96 1.302199
# lib any 0.65
# utf8 any 1.27
#
# === Test Recommends ===
#
# Module Want Have
# ------------- -------- --------
# CPAN::Meta 2.120900 2.150010
# Test::Harness 3.31 3.48
# Time::Moment 0.22 0.44
#
# === Runtime Requires ===
#
# Module Want Have
# ---------------------- -------- --------
# Authen::SASL::SASLprep any 1.100
# Authen::SCRAM::Client 0.011 0.011
# BSON 1.012000 v1.12.2
# BSON::Bytes any v1.12.2
# BSON::Code any v1.12.2
# BSON::DBRef any v1.12.2
# BSON::OID any v1.12.2
# BSON::Raw any v1.12.2
# BSON::Regex any v1.12.2
# BSON::Time any v1.12.2
# BSON::Timestamp any v1.12.2
# BSON::Types any v1.12.2
# BSON::XS 0.008000 v0.8.4
# Carp any 1.54
# Class::XSAccessor any 1.19
# Compress::Zlib any 2.212
# Digest::MD5 any 2.59
# Encode any 3.21
# Exporter 5.57 5.78
# IO::Socket any 1.55
# List::Util any 1.63
# MIME::Base64 any 3.16_01
# Math::BigInt any 2.003003
# Moo 2 2.005005
# Moo::Role any 2.005005
# Net::DNS any 1.45
# Safe::Isa 1.000007 1.000010
# Scalar::Util any 1.63
# Socket any 2.038
# Sub::Defer any 2.006008
# Sub::Quote any 2.006008
# Tie::IxHash any 1.23
# Time::HiRes any 1.9777
# Type::Library any 2.004000
# Type::Tiny::XS any 0.025
# Type::Utils any 2.004000
# Types::Standard any 2.004000
# UUID::URandom any 0.001
# boolean 0.25 0.46
# bytes any 1.09
# constant any 1.33
# if any 0.0610
# namespace::clean any 0.27
# overload any 1.37
# re any 0.47
# strict any 1.13
# version any 0.9932
# warnings any 1.70
#
# === Runtime Recommends ===
#
# Module Want Have
# --------------- -------- --------
# IO::Socket::IP 0.32 0.42
# IO::Socket::SSL 1.42 2.088
# Mozilla::CA 20130114 20240313
# Net::SSLeay 1.49 1.94
#
# === Runtime Suggests ===
#
# Module Want Have
# --------------- ---- -----
# IO::Socket::SSL 1.56 2.088
#
t/00-report-prereqs.t ...................... ok
t/auth_spec.t .............................. ok
t/bulk.t ................................... skipped: no mongod on localhost:27017 and $ENV{MONGOD} not set
t/bulk_write_pipeline.t .................... skipped: no mongod on localhost:27017 and $ENV{MONGOD} not set
t/bypass_doc_validation.t .................. skipped: no mongod on localhost:27017 and $ENV{MONGOD} not set
t/causal_consistency.t ..................... skipped: no mongod on localhost:27017 and $ENV{MONGOD} not set
t/collection.t ............................. skipped: no mongod on localhost:27017 and $ENV{MONGOD} not set
t/connection.t ............................. skipped: no mongod on localhost:27017 and $ENV{MONGOD} not set
t/connection_string_spec.t ................. ok
t/crud.t ................................... skipped: no mongod on localhost:27017 and $ENV{MONGOD} not set
t/crud_spec.t .............................. skipped: no mongod on localhost:27017 and $ENV{MONGOD} not set
t/cursor.t ................................. skipped: no mongod on localhost:27017 and $ENV{MONGOD} not set
t/database.t ............................... skipped: no mongod on localhost:27017 and $ENV{MONGOD} not set
t/dbref.t .................................. skipped: no mongod on localhost:27017 and $ENV{MONGOD} not set
t/deprecated/bson.t ........................ skipped: no mongod on localhost:27017 and $ENV{MONGOD} not set
t/deprecated/collection.t .................. skipped: no mongod on localhost:27017 and $ENV{MONGOD} not set
t/deprecated/cursor.t ...................... skipped: no mongod on localhost:27017 and $ENV{MONGOD} not set
t/deprecated/find_modifiers.t .............. skipped: no mongod on localhost:27017 and $ENV{MONGOD} not set
t/deprecated/parallel_scan.t ............... skipped: no mongod on localhost:27017 and $ENV{MONGOD} not set
t/deprecated/regexp_obj.t .................. skipped: no mongod on localhost:27017 and $ENV{MONGOD} not set
t/deprecated/types.t ....................... skipped: no mongod on localhost:27017 and $ENV{MONGOD} not set
t/deprecated/typewrappers.t ................ skipped: no mongod on localhost:27017 and $ENV{MONGOD} not set
t/enumerate_databases.t .................... skipped: no mongod on localhost:27017 and $ENV{MONGOD} not set
t/errors.t ................................. ok
t/examples/driver-examples.t ............... skipped: no mongod on localhost:27017 and $ENV{MONGOD} not set
t/examples/transaction.t ................... skipped: no mongod on localhost:27017 and $ENV{MONGOD} not set
t/find_modifiers.t ......................... skipped: no mongod on localhost:27017 and $ENV{MONGOD} not set
t/fsync.t .................................. skipped: no mongod on localhost:27017 and $ENV{MONGOD} not set
t/gridfs_spec.t ............................ skipped: no mongod on localhost:27017 and $ENV{MONGOD} not set
t/gridfsbucket.t ........................... skipped: no mongod on localhost:27017 and $ENV{MONGOD} not set
t/indexview.t .............................. skipped: no mongod on localhost:27017 and $ENV{MONGOD} not set
t/kill-cursor.t ............................ skipped: no mongod on localhost:27017 and $ENV{MONGOD} not set
t/max_staleness_spec.t ..................... ok
t/monitoring.t ............................. skipped: no mongod on localhost:27017 and $ENV{MONGOD} not set
t/monitoring_spec.t ........................ skipped: no mongod on localhost:27017 and $ENV{MONGOD} not set
t/oid_generation.t ......................... skipped: no mongod on localhost:27017 and $ENV{MONGOD} not set
t/op_msg.t ................................. skipped: no mongod on localhost:27017 and $ENV{MONGOD} not set
t/pre_encode_insert_update.t ............... ok
t/protocol_op_msg.t ........................ ok
t/read_write_concern_spec.t ................ ok
t/readpref.t ............................... skipped: no mongod on localhost:27017 and $ENV{MONGOD} not set
t/retryable-writes-command-construction.t .. skipped: no mongod on localhost:27017 and $ENV{MONGOD} not set
t/sdam_monitoring.t ........................ skipped: no mongod on localhost:27017 and $ENV{MONGOD} not set
t/sdam_spec.t .............................. ok
t/sessions-cursors.t ....................... skipped: no mongod on localhost:27017 and $ENV{MONGOD} not set
t/sessions-driver.t ........................ skipped: no mongod on localhost:27017 and $ENV{MONGOD} not set
t/sessions-end.t ........................... skipped: no mongod on localhost:27017 and $ENV{MONGOD} not set
t/sessions-unacknowledged-write.t .......... skipped: no mongod on localhost:27017 and $ENV{MONGOD} not set
t/ss_spec.t ................................ ok
t/transactions-convenient-api.t ............ skipped: no mongod on localhost:27017 and $ENV{MONGOD} not set
t/transactions-mongos-pinning.t ............ skipped: no mongod on localhost:27017 and $ENV{MONGOD} not set
t/unit/configuration.t ..................... ok
t/unit/link.t .............................. ok
t/unit/read_preference.t ................... ok
t/unit/uri.t ............................... ok
t/unit/uri_spec.t .......................... ok
t/unit/uri_srv.t ........................... ok
t/unit/write_concern.t ..................... ok
All tests successful.
Files=71, Tests=199, 555 wallclock secs ( 0.31 usr 0.11 sys + 34.73 cusr 5.79 csys = 40.94 CPU)
Result: PASS
------------------------------
PREREQUISITES
------------------------------
Prerequisite modules loaded:
requires:
Module Need Have
---------------------- -------- --------
Authen::SASL::SASLprep 0 1.100
Authen::SCRAM::Client 0.011 0.011
boolean 0.25 0.46
BSON 1.012000 v1.12.2
BSON::Bytes 0 v1.12.2
BSON::Code 0 v1.12.2
BSON::DBRef 0 v1.12.2
BSON::OID 0 v1.12.2
BSON::Raw 0 v1.12.2
BSON::Regex 0 v1.12.2
BSON::Time 0 v1.12.2
BSON::Timestamp 0 v1.12.2
BSON::Types 0 v1.12.2
BSON::XS 0.008000 v0.8.4
bytes 0 1.09
Carp 0 1.54
Class::XSAccessor 0 1.19
Compress::Zlib 0 2.212
constant 0 1.33
Digest::MD5 0 2.59
Encode 0 3.21
Exporter 5.57 5.78
if 0 0.0610
IO::Socket 0 1.55
List::Util 0 1.63
Math::BigInt 0 2.003003
MIME::Base64 0 3.16_01
Moo 2 2.005005
Moo::Role 0 2.005005
namespace::clean 0 0.27
Net::DNS 0 1.45
overload 0 1.37
perl 5.010001 5.041003
re 0 0.47
Safe::Isa 1.000007 1.000010
Scalar::Util 0 1.63
Socket 0 2.038
strict 0 1.13
Sub::Defer 0 2.006008
Sub::Quote 0 2.006008
Tie::IxHash 0 1.23
Time::HiRes 0 1.9777
Type::Library 0 2.004000
Type::Tiny::XS 0 0.025
Type::Utils 0 2.004000
Types::Standard 0 2.004000
UUID::URandom 0 0.001
version 0 0.9932
warnings 0 1.70
build_requires:
Module Need Have
---------------------- -------- --------
BSON::Decimal128 0 v1.12.2
Data::Dumper 0 2.190
ExtUtils::MakeMaker 0 7.70
File::Compare 0 1.1008
File::Spec 0 3.92
IO::File 0 1.55
JSON::MaybeXS 0 1.004005
lib 0 0.65
Path::Tiny 0.058 0.146
Storable 0 3.33
Test::Deep 0.111 1.204
Test::Fatal 0 0.017
Test::More 0.96 1.302199
utf8 0 1.27
configure_requires:
Module Need Have
---------------------- -------- --------
ExtUtils::MakeMaker 6.17 7.70
Text::ParseWords 0 3.31
------------------------------
ENVIRONMENT AND OTHER CONTEXT
------------------------------
Environment variables:
AUTOMATED_TESTING = 1
DATE_MANIP_TEST_DM5 = 1
LANG = C.UTF-8
LC_COLLATE = C
NONINTERACTIVE_TESTING = 1
NO_NETWORK_TESTING = 1
PATH = /home/cpan/bin/perl/bin:/usr/local/sbin:/usr/local/bin:/usr/sbin:/usr/bin:/sbin:/bin
PERL5LIB =
PERL5OPT =
PERL5_CPANPLUS_IS_RUNNING = 22579
PERL5_CPAN_IS_RUNNING = 22579
PERL_MM_USE_DEFAULT = 1
PERL_USE_UNSAFE_INC = 1
SHELL = /bin/bash
TERM = screen
Perl special variables (and OS-specific diagnostics, for MSWin32):
$^X = /home/cpan/bin/perl/bin/perl5.41.3
$UID/$EUID = 1001 / 1001
$GID = 1001 1001
$EGID = 1001 1001
Perl module toolchain versions installed:
Module Have
------------------- --------
CPAN 2.36
CPAN::Meta 2.150010
Cwd 3.92
ExtUtils::CBuilder 0.280240
ExtUtils::Command 7.70
ExtUtils::Install 2.22
ExtUtils::MakeMaker 7.70
ExtUtils::Manifest 1.75
ExtUtils::ParseXS 3.52
File::Spec 3.92
JSON 4.10
JSON::PP 4.16
Module::Build 0.4234
Module::Signature 0.88
Parse::CPAN::Meta 2.150010
Test2 1.302199
Test::Harness 3.48
Test::More 1.302199
YAML 1.31
YAML::Syck 1.34
version 0.9932
--
Summary of my perl5 (revision 5 version 41 subversion 3) configuration:
Commit id: a1f85d995e8797503b4272d0177e662c998792a2
Platform:
osname=linux
osvers=6.6.42-0-lts
archname=x86_64-linux
uname='linux cjg-alpine3 6.6.42-0-lts #1-alpine smp preempt_dynamic 2024-07-25 10:49:31 x86_64 linux '
config_args='-des -Dprefix=/home/cpan/bin/perl -Dscriptdir=/home/cpan/bin/perl/bin -Dusedevel -Duse64bitall'
hint=recommended
useposix=true
d_sigaction=define
useithreads=undef
usemultiplicity=undef
use64bitint=define
use64bitall=define
uselongdouble=undef
usemymalloc=n
default_inc_excludes_dot=define
Compiler:
cc='cc'
ccflags ='-D_GNU_SOURCE -fwrapv -fno-strict-aliasing -pipe -fstack-protector-strong -D_LARGEFILE_SOURCE -D_FILE_OFFSET_BITS=64'
optimize='-O2'
cppflags='-D_GNU_SOURCE -fwrapv -fno-strict-aliasing -pipe -fstack-protector-strong'
ccversion=''
gccversion='13.2.1 20240309'
gccosandvers=''
intsize=4
longsize=8
ptrsize=8
doublesize=8
byteorder=12345678
doublekind=3
d_longlong=define
longlongsize=8
d_longdbl=define
longdblsize=16
longdblkind=3
ivtype='long'
ivsize=8
nvtype='double'
nvsize=8
Off_t='off_t'
lseeksize=8
alignbytes=8
prototype=define
Linker and Libraries:
ld='cc'
ldflags =' -fstack-protector-strong -L/usr/local/lib'
libpth=/usr/lib /usr/local/lib /lib
libs=-lpthread -ldb -ldl -lm -lcrypt -lutil -lc
perllibs=-lpthread -ldl -lm -lcrypt -lutil -lc
libc=/usr/lib/libc.a
so=so
useshrplib=false
libperl=libperl.a
gnulibc_version=''
Dynamic Linking:
dlsrc=dl_dlopen.xs
dlext=so
d_dlsymun=undef
ccdlflags='-Wl,-E'
cccdlflags='-fPIC'
lddlflags='-shared -O2 -L/usr/local/lib -fstack-protector-strong'
Characteristics of this binary (from libperl):
Compile-time options:
HAS_LONG_DOUBLE
HAS_STRTOLD
HAS_TIMES
PERLIO_LAYERS
PERL_COPY_ON_WRITE
PERL_DONT_CREATE_GVSV
PERL_HASH_FUNC_SIPHASH13
PERL_HASH_USE_SBOX32
PERL_MALLOC_WRAP
PERL_OP_PARENT
PERL_PRESERVE_IVUV
PERL_USE_DEVEL
PERL_USE_SAFE_PUTENV
USE_64_BIT_ALL
USE_64_BIT_INT
USE_LARGE_FILES
USE_LOCALE
USE_LOCALE_COLLATE
USE_LOCALE_CTYPE
USE_LOCALE_NUMERIC
USE_LOCALE_TIME
USE_PERLIO
USE_PERL_ATOF
Built under linux
Compiled at Jul 26 2024 23:12:19
%ENV:
PERL5LIB=""
PERL5OPT=""
PERL5_CPANPLUS_IS_RUNNING="22579"
PERL5_CPAN_IS_RUNNING="22579"
PERL_MM_USE_DEFAULT="1"
PERL_USE_UNSAFE_INC="1"
@INC:
/home/cpan/bin/perl/lib/site_perl/5.41.3/x86_64-linux
/home/cpan/bin/perl/lib/site_perl/5.41.3
/home/cpan/bin/perl/lib/5.41.3/x86_64-linux
/home/cpan/bin/perl/lib/5.41.3
.