Forward-Routes v0.56 Perl 5 v5.27.9 x86_64-linux
- Status
- Pass
- From
- Slaven Rezić (SREZIC)
- Dist
-
Forward-Routes v0.56
- Platform
- Perl 5 v5.27.9 x86_64-linux
- Date
- 2018-02-27 16:29:57
- ID
- 730c3b14-1bdb-11e8-b027-c330f7fee4af
This distribution has been tested as part of the CPAN Testers
project, supporting the Perl programming language. See
http://wiki.cpantesters.org/ for more information or email
questions to cpan-testers-discuss@perl.org
--
Dear A.Vieth,
This is a computer-generated report for Forward-Routes-0.56
on perl 5.27.9, created by CPAN-Reporter-1.2018.
Thank you for uploading your work to CPAN. Congratulations!
All tests were successful.
Sections of this report:
* Tester comments
* Program output
* Prerequisites
* Environment and other context
------------------------------
TESTER COMMENTS
------------------------------
Additional comments from tester:
none provided
------------------------------
PROGRAM OUTPUT
------------------------------
Output from '/usr/bin/make test':
PERL_DL_NONLAZY=1 "/opt/perl-5.27.9/bin/perl5.27.9" "-MExtUtils::Command::MM" "-MTest::Harness" "-e" "undef *Test::Harness::Switches; test_harness(0, 'blib/lib', 'blib/arch')" t/*.t t/*/*.t
t/bridges.t ..................................................... ok
t/bridges_with_namespace_inheritance.t .......................... ok
t/constraints.t ................................................. ok
t/defaults.t .................................................... ok
t/empty.t ....................................................... ok
t/exceptions_unbalanced_parentheses.t ........................... ok
t/format_constraints.t .......................................... ok
t/match/method_captures.t ....................................... ok
t/match/method_is_bridge.t ...................................... ok
t/match/method_name.t ........................................... ok
t/match/method_namespace.t ...................................... ok
t/match/method_params.t ......................................... ok
t/match_with_missing_params.t ................................... ok
t/method_defaults.t ............................................. ok
t/method_namespace_to_name.t .................................... ok
t/method_singularize.t .......................................... ok
t/method_to.t ................................................... ok
t/nested_routes_block_style.t ................................... ok
t/nested_routes_default_precedence.t ............................ ok
t/nested_routes_naming.t ........................................ ok
t/nested_routes_with_app_namespace_and_namespace_inheritance.t .. ok
t/nested_routes_with_format_inheritance.t ....................... ok
t/nested_routes_with_method_inheritance.t ....................... ok
t/nested_routes_with_namespace_inheritance.t .................... ok
t/placeholders.t ................................................ ok
t/placeholders_optional.t ....................................... ok
t/placeholders_optional_and_defaults.t .......................... ok
t/request_method_constraints.t .................................. ok
t/resources.t ................................................... ok
t/resources_add_collection_route.t .............................. ok
t/resources_add_member_route.t .................................. ok
t/resources_nested.t ............................................ ok
t/resources_nesting_and_namespaces.t ............................ ok
t/resources_with_app_namespace_and_namespace_inheritance.t ...... ok
t/resources_with_custom_id_constraint.t ......................... ok
t/resources_with_custom_id_name.t ............................... ok
t/resources_with_custom_path_naming.t ........................... ok
t/resources_with_format_constraint.t ............................ ok
t/resources_with_multiple_customizations.t ...................... ok
t/resources_with_namespace_prefix.t ............................. ok
t/resources_with_only_option.t .................................. ok
t/routes.t ...................................................... ok
t/routes_embedded_options.t ..................................... ok
t/singular_resources.t .......................................... ok
t/singular_resources_add_member_route.t ......................... ok
t/singular_resources_nested.t ................................... ok
t/singular_resources_nesting_and_namespaces.t ................... ok
t/singular_resources_with_custom_path_naming.t .................. ok
t/singular_resources_with_format_constraint.t ................... ok
t/singular_resources_with_namespace_prefix.t .................... ok
t/singular_resources_with_only_option.t ......................... ok
All tests successful.
Files=51, Tests=1439, 2 wallclock secs ( 0.14 usr 0.16 sys + 1.84 cusr 0.39 csys = 2.53 CPU)
Result: PASS
------------------------------
PREREQUISITES
------------------------------
Prerequisite modules loaded:
requires:
Module Need Have
------------------- -------- --------
Carp 0 1.38
parent 0 0.236
perl 5.010001 5.027009
build_requires:
Module Need Have
------------------- -------- --------
ExtUtils::MakeMaker 0 7.32
------------------------------
ENVIRONMENT AND OTHER CONTEXT
------------------------------
Environment variables:
LANG = C
LC_ALL = de_DE.UTF-8
PATH = /usr/local/bin:/usr/bin:/bin:/usr/local/sbin:/usr/sbin:/sbin:/home/cpansand/bin/linux-gnu:/home/cpansand/bin/sh:/home/cpansand/bin:/usr/games:/home/cpansand/devel:/home/eserte/src/srezic-misc/scripts
PERL5LIB = /home/cpansand/.cpan/build/2018022715/downsexta-0/blib/arch:/home/cpansand/.cpan/build/2018022715/downsexta-0/blib/lib
PERL5OPT =
PERL5_CPANPLUS_IS_RUNNING = 30289
PERL5_CPAN_IS_RUNNING = 30289
PERL5_CPAN_IS_RUNNING_IN_RECURSION = 32503,30289
PERLDOC = -MPod::Perldoc::ToTextOverstrike
PERL_BATCH = yes
PERL_CANARY_STABILITY_NOPROMPT = 1
PERL_CPAN_REPORTER_CONFIG = /var/tmp/cpansmoker-1023/2018022700/cpanreporter_001_config.ini
PERL_EXTUTILS_AUTOINSTALL = --defaultdeps
PERL_PARALLEL_SMOKER = yes
PERL_USE_UNSAFE_INC = 1
SHELL = /usr/bin/zsh
TERM = screen
TMPDIR = /var/tmp/cpansmoker-1023/2018022700
Perl special variables (and OS-specific diagnostics, for MSWin32):
$^X = /opt/perl-5.27.9/bin/perl5.27.9
$UID/$EUID = 1023 / 1023
$GID = 1023 1023
$EGID = 1023 1023
Perl module toolchain versions installed:
Module Have
------------------- --------
CPAN 2.16
CPAN::Meta 2.150010
Cwd 3.74
ExtUtils::CBuilder 0.280230
ExtUtils::Command 7.32
ExtUtils::Install 2.14
ExtUtils::MakeMaker 7.32
ExtUtils::Manifest 1.70
ExtUtils::ParseXS 3.35
File::Spec 3.74
JSON 2.97001
JSON::PP 2.97001
Module::Build 0.4224
Module::Signature 0.81
Parse::CPAN::Meta 2.150010
Test::Harness 3.39
Test::More 1.302125
YAML 1.24
YAML::Syck 1.30
version 0.9918
--
Summary of my perl5 (revision 5 version 27 subversion 9) configuration:
Platform:
osname=linux
osvers=4.9.0-3-amd64
archname=x86_64-linux
uname='linux debian9 4.9.0-3-amd64 #1 smp debian 4.9.30-2+deb9u5 (2017-09-19) x86_64 gnulinux '
config_args='-ds -e -Dprefix=/opt/perl-5.27.9 -Dusedevel -Dusemallocwrap=no -Dcf_email=srezic@cpan.org'
hint=recommended
useposix=true
d_sigaction=define
useithreads=undef
usemultiplicity=undef
use64bitint=define
use64bitall=define
uselongdouble=undef
usemymalloc=n
default_inc_excludes_dot=define
bincompat5005=undef
Compiler:
cc='cc'
ccflags ='-fwrapv -fno-strict-aliasing -pipe -fstack-protector-strong -I/usr/local/include -D_LARGEFILE_SOURCE -D_FILE_OFFSET_BITS=64 -D_FORTIFY_SOURCE=2'
optimize='-O2'
cppflags='-fwrapv -fno-strict-aliasing -pipe -fstack-protector-strong -I/usr/local/include'
ccversion=''
gccversion='6.3.0 20170516'
gccosandvers=''
intsize=4
longsize=8
ptrsize=8
doublesize=8
byteorder=12345678
doublekind=3
d_longlong=define
longlongsize=8
d_longdbl=define
longdblsize=16
longdblkind=3
ivtype='long'
ivsize=8
nvtype='double'
nvsize=8
Off_t='off_t'
lseeksize=8
alignbytes=8
prototype=define
Linker and Libraries:
ld='cc'
ldflags =' -fstack-protector-strong -L/usr/local/lib'
libpth=/usr/local/lib /usr/lib/gcc/x86_64-linux-gnu/6/include-fixed /usr/include/x86_64-linux-gnu /usr/lib /lib/x86_64-linux-gnu /lib/../lib /usr/lib/x86_64-linux-gnu /usr/lib/../lib /lib
libs=-lpthread -lnsl -lgdbm -ldb -ldl -lm -lcrypt -lutil -lc -lgdbm_compat
perllibs=-lpthread -lnsl -ldl -lm -lcrypt -lutil -lc
libc=libc-2.24.so
so=so
useshrplib=false
libperl=libperl.a
gnulibc_version='2.24'
Dynamic Linking:
dlsrc=dl_dlopen.xs
dlext=so
d_dlsymun=undef
ccdlflags='-Wl,-E'
cccdlflags='-fPIC'
lddlflags='-shared -O2 -L/usr/local/lib -fstack-protector-strong'
Characteristics of this binary (from libperl):
Compile-time options:
HAS_TIMES
PERLIO_LAYERS
PERL_COPY_ON_WRITE
PERL_DONT_CREATE_GVSV
PERL_OP_PARENT
PERL_PRESERVE_IVUV
PERL_USE_DEVEL
USE_64_BIT_ALL
USE_64_BIT_INT
USE_LARGE_FILES
USE_LOCALE
USE_LOCALE_COLLATE
USE_LOCALE_CTYPE
USE_LOCALE_NUMERIC
USE_LOCALE_TIME
USE_PERLIO
USE_PERL_ATOF
Built under linux
Compiled at Feb 20 2018 21:05:34
%ENV:
PERL5LIB="/home/cpansand/.cpan/build/2018022715/downsexta-0/blib/arch:/home/cpansand/.cpan/build/2018022715/downsexta-0/blib/lib"
PERL5OPT=""
PERL5_CPANPLUS_IS_RUNNING="30289"
PERL5_CPAN_IS_RUNNING="30289"
PERL5_CPAN_IS_RUNNING_IN_RECURSION="32503,30289"
PERLDOC="-MPod::Perldoc::ToTextOverstrike"
PERL_BATCH="yes"
PERL_CANARY_STABILITY_NOPROMPT="1"
PERL_CPAN_REPORTER_CONFIG="/var/tmp/cpansmoker-1023/2018022700/cpanreporter_001_config.ini"
PERL_EXTUTILS_AUTOINSTALL="--defaultdeps"
PERL_PARALLEL_SMOKER="yes"
PERL_USE_UNSAFE_INC="1"
@INC:
/home/cpansand/.cpan/build/2018022715/downsexta-0/blib/arch
/home/cpansand/.cpan/build/2018022715/downsexta-0/blib/lib
/opt/perl-5.27.9/lib/site_perl/5.27.9/x86_64-linux
/opt/perl-5.27.9/lib/site_perl/5.27.9
/opt/perl-5.27.9/lib/5.27.9/x86_64-linux
/opt/perl-5.27.9/lib/5.27.9
.