Back
From: metabase:user:31d414ea-2aae-11df-837a-5e0a49663a4f
Subject: PASS WebService-Amazon-DynamoDB-0.005 v5.12.5 GNU/Linux
Date: 2015-02-24T02:25:50Z
This distribution has been tested as part of the CPAN Testers
project, supporting the Perl programming language. See
http://wiki.cpantesters.org/ for more information or email
questions to cpan-testers-discuss@perl.org
--
Dear Tom Molesworth,
This is a computer-generated report for WebService-Amazon-DynamoDB-0.005
on perl 5.12.5, created by CPAN-Reporter-1.2006.
Thank you for uploading your work to CPAN. Congratulations!
All tests were successful.
Sections of this report:
* Tester comments
* Program output
* Prerequisites
* Environment and other context
------------------------------
TESTER COMMENTS
------------------------------
Additional comments from tester:
this report is from an automated smoke testing program
and was not reviewed by a human for accuracy
------------------------------
PROGRAM OUTPUT
------------------------------
Output from '/usr/bin/make test':
Skip blib/lib/auto/share/dist/WebService-Amazon-DynamoDB/regions.json (unchanged)
Skip blib/lib/auto/share/dist/WebService-Amazon-DynamoDB/errors.json (unchanged)
PERL_DL_NONLAZY=1 "/home/david/cpantesting/perl-5.12.5/bin/perl" "-MExtUtils::Command::MM" "-MTest::Harness" "-e" "undef *Test::Harness::Switches; test_harness(0, 'blib/lib', 'blib/arch')" t/*.t
t/00-check-deps.t ............. ok
t/00-compile.t ................ ok
#
#
# Generated by Dist::Zilla::Plugin::ReportVersions::Tiny v1.10
# perl: 5.012005 (wanted 5.012000) on linux from /home/david/cpantesting/perl-5.12.5/bin/perl
#
# ExtUtils::MakeMaker => 7.04 (want 6.48)
# File::ShareDir::Install => 0.10 (want 0.06)
# File::Spec => 3.47 (want any version)
# Future => 0.30 (want 0.30)
# HTTP::Request => 6.00 (want any version)
# IO::Handle => 1.28 (want any version)
# IPC::Open3 => 1.05 (want any version)
# JSON::MaybeXS => 1.003003 (want any version)
# Mixin::Event::Dispatch => 1.006 (want 1.006)
# Module::Load => 0.16 (want any version)
# Test::CheckDeps => 0.010 (want 0.010)
# Test::Deep => 0.115 (want any version)
# Test::Fatal => 0.014 (want 0.010)
# Test::More => 1.001014 (want 0.98)
# Time::Moment => 0.22 (want any version)
# WebService::Amazon::IAM => 0.002 (want 0.002)
# WebService::Amazon::Signature => 0.002 (want 0.002)
# WebService::Async::UserAgent => 0.004 (want 0.002)
# curry => 1 (want any version)
# parent => 0.228 (want any version)
#
# Thanks for using my code. I hope it works for you.
# If not, please try and include this output in the bug report.
# That will help me reproduce the issue and solve your problem.
#
t/000-report-versions-tiny.t .. ok
All tests successful.
Files=3, Tests=25, 1 wallclock secs ( 0.01 usr 0.02 sys + 0.30 cusr 0.02 csys = 0.35 CPU)
Result: PASS
------------------------------
PREREQUISITES
------------------------------
Prerequisite modules loaded:
requires:
Module Need Have
----------------------------- -------- --------
curry 0 1.000000
Future 0.30 0.30
HTTP::Request 0 6.00
JSON::MaybeXS 0 1.003003
Mixin::Event::Dispatch 1.006 1.006
Module::Load 0 0.16
parent 0 0.228
perl 5.012000 5.012005
Time::Moment 0 0.22
WebService::Amazon::IAM 0.002 0.002
WebService::Amazon::Signature 0.002 0.002
WebService::Async::UserAgent 0.002 0.004
build_requires:
Module Need Have
----------------------------- -------- --------
ExtUtils::MakeMaker 0 7.04
File::Spec 0 3.47
IO::Handle 0 1.28
IPC::Open3 0 1.05
Test::CheckDeps 0.010 0.010
Test::Deep 0 0.115
Test::Fatal 0.010 0.014
Test::More 0.98 1.001014
configure_requires:
Module Need Have
----------------------------- -------- --------
ExtUtils::MakeMaker 6.48 7.04
File::ShareDir::Install 0.06 0.10
------------------------------
ENVIRONMENT AND OTHER CONTEXT
------------------------------
Environment variables:
AUTOMATED_TESTING = 1
PATH = /usr/local/bin:/usr/bin:/bin:/usr/games
PERL = 5.12.5
PERL5LIB =
PERL5OPT =
PERL5_CPANPLUS_IS_RUNNING = 3908
PERL5_CPAN_IS_RUNNING = 3908
PERLVER = 5.12.5
PERL_INLINE_DIRECTORY = /home/david/.Inline-5.12.5
PERL_MM_USE_DEFAULT = 1
SHELL = /bin/bash
TERM = screen
Perl special variables (and OS-specific diagnostics, for MSWin32):
$^X = /home/david/cpantesting/perl-5.12.5/bin/perl
$UID/$EUID = 1000 / 1000
$GID = 1000 1000
$EGID = 1000 1000
Perl module toolchain versions installed:
Module Have
------------------- --------
CPAN 1.94_56
CPAN::Meta 2.143240
Cwd 3.47
ExtUtils::CBuilder 0.280220
ExtUtils::Command 1.16
ExtUtils::Install 1.55
ExtUtils::MakeMaker 7.04
ExtUtils::Manifest 1.70
ExtUtils::ParseXS 3.24
File::Spec 3.47
JSON 2.90
JSON::PP 2.27203
Module::Build 0.4211
Module::Signature n/a
Parse::CPAN::Meta 1.4414
Test::Harness 3.35
Test::More 1.001014
YAML n/a
YAML::Syck n/a
version 0.9912
--
Summary of my perl5 (revision 5 version 12 subversion 5) configuration:
Platform:
osname=linux, osvers=2.6.32-5-xen-amd64, archname=x86_64-linux-thread-multi
uname='linux pigsty.barnyard.co.uk 2.6.32-5-xen-amd64 #1 smp sun may 6 08:57:29 utc 2012 x86_64 gnulinux '
config_args='-de -Dprefix=/home/david/cpantesting/perl-5.12.5 -Dusethreads -Duse64bitall'
hint=recommended, useposix=true, d_sigaction=define
useithreads=define, usemultiplicity=define
useperlio=define, d_sfio=undef, uselargefiles=define, usesocks=undef
use64bitint=define, use64bitall=define, uselongdouble=undef
usemymalloc=n, bincompat5005=undef
Compiler:
cc='cc', ccflags ='-D_REENTRANT -D_GNU_SOURCE -fno-strict-aliasing -pipe -fstack-protector -I/usr/local/include -D_LARGEFILE_SOURCE -D_FILE_OFFSET_BITS=64',
optimize='-O2',
cppflags='-D_REENTRANT -D_GNU_SOURCE -fno-strict-aliasing -pipe -fstack-protector -I/usr/local/include'
ccversion='', gccversion='4.1.2 20061115 (prerelease) (Debian 4.1.1-21)', gccosandvers=''
intsize=4, longsize=8, ptrsize=8, doublesize=8, byteorder=12345678
d_longlong=define, longlongsize=8, d_longdbl=define, longdblsize=16
ivtype='long', ivsize=8, nvtype='double', nvsize=8, Off_t='off_t', lseeksize=8
alignbytes=8, prototype=define
Linker and Libraries:
ld='cc', ldflags =' -fstack-protector -L/usr/local/lib'
libpth=/usr/local/lib /lib /usr/lib /lib64 /usr/lib64
libs=-lnsl -lgdbm -ldb -ldl -lm -lcrypt -lutil -lpthread -lc -lgdbm_compat
perllibs=-lnsl -ldl -lm -lcrypt -lutil -lpthread -lc
libc=/lib/libc-2.3.6.so, so=so, useshrplib=false, libperl=libperl.a
gnulibc_version='2.3.6'
Dynamic Linking:
dlsrc=dl_dlopen.xs, dlext=so, d_dlsymun=undef, ccdlflags='-Wl,-E'
cccdlflags='-fPIC', lddlflags='-shared -O2 -L/usr/local/lib -fstack-protector'
Characteristics of this binary (from libperl):
Compile-time options: MULTIPLICITY PERL_DONT_CREATE_GVSV
PERL_IMPLICIT_CONTEXT PERL_MALLOC_WRAP USE_64_BIT_ALL
USE_64_BIT_INT USE_ITHREADS USE_LARGE_FILES
USE_PERLIO USE_PERL_ATOF USE_REENTRANT_API
Built under linux
Compiled at Nov 15 2012 12:46:28
%ENV:
PERL="5.12.5"
PERL5LIB=""
PERL5OPT=""
PERL5_CPANPLUS_IS_RUNNING="3908"
PERL5_CPAN_IS_RUNNING="3908"
PERLVER="5.12.5"
PERL_INLINE_DIRECTORY="/home/david/.Inline-5.12.5"
PERL_MM_USE_DEFAULT="1"
@INC:
/home/david/cpantesting/perl-5.12.5/lib/site_perl/5.12.5/x86_64-linux-thread-multi
/home/david/cpantesting/perl-5.12.5/lib/site_perl/5.12.5
/home/david/cpantesting/perl-5.12.5/lib/5.12.5/x86_64-linux-thread-multi
/home/david/cpantesting/perl-5.12.5/lib/5.12.5
.