Back
From: metabase:user:00e8548a-0e72-11e3-8ee3-df0a9c418065
Subject: PASS IO-Iron-0.09 v5.14.4 Windows (Cygwin)
Date: 2014-04-22T16:25:27Z
This distribution has been tested as part of the CPAN Testers
project, supporting the Perl programming language. See
http://wiki.cpantesters.org/ for more information or email
questions to cpan-testers-discuss@perl.org
--
Dear Mikko Koivunalho,
This is a computer-generated report for IO-Iron-0.09
on perl 5.14.4, created by CPAN-Reporter-1.2011.
Thank you for uploading your work to CPAN. Congratulations!
All tests were successful.
Sections of this report:
* Tester comments
* Program output
* Prerequisites
* Environment and other context
------------------------------
TESTER COMMENTS
------------------------------
Additional comments from tester:
this report is from an automated smoke testing program
and was not reviewed by a human for accuracy
------------------------------
PROGRAM OUTPUT
------------------------------
Output from '/usr/bin/make test':
PERL_DL_NONLAZY=1 /usr/bin/perl.exe "-MExtUtils::Command::MM" "-MTest::Harness" "-e" "undef *Test::Harness::Switches; test_harness(0, 'blib/lib', 'blib/arch')" t/*.t t/Iron/*.t t/IronCache/*.t t/IronMQ/*.t t/IronWorker/*.t
t/boilerplate.t ............. ok
# Testing IO::Iron::IronMQ 0.09, Perl 5.014004, /usr/bin/perl
# test ReadIronMQConfig
# Current dir config filename: ./iron.json
# Extra config filename: t/.IronMQTestConfig.json
t/Iron/client_readconfig.t .. ok
# Testing IO::Iron 0.09, Perl 5.014004, /usr/bin/perl
t/Iron/load.t ............... ok
# Testing IO::Iron::IronCache 0.09, Perl 5.014004, /usr/bin/perl
t/IronCache/load.t .......... ok
# Testing IO::Iron::IronMQ 0.09, Perl 5.014004, /usr/bin/perl
t/IronMQ/load.t ............. ok
# Testing IO::Iron::IronWorker 0.09, Perl 5.014004, /usr/bin/perl
t/IronWorker/load.t ......... ok
t/release-kwalitee.t ........ skipped: these tests are for release candidate testing
t/release-pod-coverage.t .... skipped: these tests are for release candidate testing
t/release-pod-syntax.t ...... skipped: these tests are for release candidate testing
All tests successful.
Test Summary Report
-------------------
t/boilerplate.t (Wstat: 0 Tests: 3 Failed: 0)
TODO passed: 1-3
Files=9, Tests=91, 1 wallclock secs ( 0.05 usr 0.03 sys + 0.47 cusr 0.42 csys = 0.96 CPU)
Result: PASS
------------------------------
PREREQUISITES
------------------------------
Prerequisite modules loaded:
requires:
Module Need Have
------------------ ---- --------
Carp 0 1.3301
Carp::Assert 0 0.20
Carp::Assert::More 0 1.14
constant 0 1.27
Data::Dumper 0 2.151
Data::UUID 0 1.219
English 0 1.04
Exception::Class 0 1.37
Exporter 0 5.68
File::HomeDir 0 1.00
File::Slurp 0 9999.19
File::Spec 0 3.40
Hash::Util 0.06 0.11
JSON 0 2.90
Log::Any 0 0.15
Params::Validate 0 1.08
parent 0 0.228
REST::Client 0 271
Scalar::Util 0 1.38
strict 0 1.04
Try::Tiny 0 0.20
URI::Escape 0 3.31
warnings 0 1.12
build_requires:
Module Need Have
------------------ ---- --------
File::Copy 0 2.21
File::Remove 0 1.52
Test::More 0 1.001003
------------------------------
ENVIRONMENT AND OTHER CONTEXT
------------------------------
Environment variables:
AUTOMATED_TESTING = 1
COMSPEC = C:\Windows\system32\cmd.exe
LANG = en_US.UTF-8
NUMBER_OF_PROCESSORS = 4
PATH = /home/ryanw/perl5/perlbrew/bin:/usr/local/bin:/usr/bin:/cygdrive/c/Program Files/Common Files/Microsoft Shared/Windows Live:/cygdrive/c/Program Files (x86)/Common Files/Microsoft Shared/Windows Live:/cygdrive/c/Program Files (x86)/AMD APP/bin/x86_64:/cygdrive/c/Program Files (x86)/AMD APP/bin/x86:/cygdrive/c/Windows/system32:/cygdrive/c/Windows:/cygdrive/c/Windows/System32/Wbem:/cygdrive/c/Windows/System32/WindowsPowerShell/v1.0:/cygdrive/c/Program Files (x86)/ATI Technologies/ATI.ACE/Core-Static:/cygdrive/c/Program Files (x86)/Security Innovation/SI TSS/bin:/cygdrive/c/Program Files (x86)/Windows Live/Shared:/cygdrive/c/Program Files (x86)/WinMerge
PERL5LIB =
PERL5OPT =
PERL5_CPANPLUS_IS_RUNNING = 8776
PERL5_CPAN_IS_RUNNING = 8776
PERL5_CPAN_IS_RUNNING_IN_RECURSION = 10312,8776
PERLBREW_BASHRC_VERSION = 0.67
PERLBREW_HOME = /home/ryanw/.perlbrew
PERLBREW_ROOT = /home/ryanw/perl5/perlbrew
PERL_CR_SMOKER_CURRENT = IO-Iron-0.09
PERL_EXTUTILS_AUTOINSTALL = --defaultdeps
PERL_MM_USE_DEFAULT = 1
PROCESSOR_IDENTIFIER = Intel64 Family 6 Model 58 Stepping 9, GenuineIntel
SHELL = /bin/bash
TEMP = /tmp
TERM = xterm
Perl special variables (and OS-specific diagnostics, for MSWin32):
$^X = /usr/bin/perl
$UID/$EUID = 2855161 / 2855161
$GID = 10513 0 544 545 1013 1011 10513
$EGID = 10513 0 544 545 1013 1011 10513
Perl module toolchain versions installed:
Module Have
------------------- --------
CPAN 2.05
CPAN::Meta 2.140640
Cwd 3.40
ExtUtils::CBuilder 0.280216
ExtUtils::Command 1.17
ExtUtils::Install 1.56
ExtUtils::MakeMaker 6.96
ExtUtils::Manifest 1.60
ExtUtils::ParseXS 3.24
File::Spec 3.40
JSON 2.90
JSON::PP 2.27203
Module::Build 0.4205
Module::Signature n/a
Parse::CPAN::Meta 1.4414
Test::Harness 3.30
Test::More 1.001003
YAML 0.90
YAML::Syck 1.27
version 0.9908
--
Summary of my perl5 (revision 5 version 14 subversion 4) configuration:
Platform:
osname=cygwin, osvers=1.7.18(0.26353), archname=cygwin-thread-multi
uname='cygwin_nt-6.1 yaakov04 1.7.18(0.26353) 2013-03-07 19:25 x86_64 cygwin '
config_args='-d -e -Dprefix=/usr -Dmksymlinks -Dusethreads -Darchname=x86_64-cygwin-threads -Dlibperl=cygperl5_14.dll -Dcc=gcc -Dld=g++'
hint=recommended, useposix=true, d_sigaction=define
useithreads=define, usemultiplicity=define
useperlio=define, d_sfio=undef, uselargefiles=define, usesocks=undef
use64bitint=define, use64bitall=define, uselongdouble=undef
usemymalloc=n, bincompat5005=undef
Compiler:
cc='gcc', ccflags ='-DPERL_USE_SAFE_PUTENV -U__STRICT_ANSI__ -fno-strict-aliasing -pipe -fstack-protector',
optimize='-O3',
cppflags='-DPERL_USE_SAFE_PUTENV -U__STRICT_ANSI__ -fno-strict-aliasing -pipe -fstack-protector'
ccversion='', gccversion='4.8.0 20130307 (experimental)', gccosandvers=''
intsize=4, longsize=8, ptrsize=8, doublesize=8, byteorder=12345678
d_longlong=define, longlongsize=8, d_longdbl=define, longdblsize=16
ivtype='long', ivsize=8, nvtype='double', nvsize=8, Off_t='off_t', lseeksize=8
alignbytes=8, prototype=define
Linker and Libraries:
ld='g++', ldflags =' -Wl,--enable-auto-import -Wl,--export-all-symbols -Wl,--enable-auto-image-base -fstack-protector'
libpth=/usr/lib /lib
libs=-lgdbm -ldb -ldl -lcrypt -lgdbm_compat
perllibs=-ldl -lcrypt
libc=/usr/lib/libc.a, so=dll, useshrplib=true, libperl=cygperl5_14.dll
gnulibc_version=''
Dynamic Linking:
dlsrc=dl_dlopen.xs, dlext=dll, d_dlsymun=undef, ccdlflags=' '
cccdlflags=' ', lddlflags=' --shared -Wl,--enable-auto-import -Wl,--export-all-symbols -Wl,--enable-auto-image-base -fstack-protector'
Characteristics of this binary (from libperl):
Compile-time options: MULTIPLICITY PERL_DONT_CREATE_GVSV
PERL_IMPLICIT_CONTEXT PERL_PRESERVE_IVUV
PERL_USE_SAFE_PUTENV USE_64_BIT_ALL USE_64_BIT_INT
USE_ITHREADS USE_LARGE_FILES USE_PERLIO USE_PERL_ATOF
USE_REENTRANT_API
Locally applied patches:
Bug#55162 File::Spec::case_tolerant performance
CYG07 $vendorarch/auto/.rebase
CYG15 static Win32CORE
CYG17 cyg-1.7 paths-utf8
0c612ce82 Fix building static extensions on cygwin, -UUSEIMPORTLIB
1bac5ecc1 Fix 64-bit threading sv.c: S_anonymise_cv_maybe
Cygwin::sync_winenv added
Built under cygwin
Compiled at Mar 11 2013 18:25:23
%ENV:
PERL5LIB=""
PERL5OPT=""
PERL5_CPANPLUS_IS_RUNNING="8776"
PERL5_CPAN_IS_RUNNING="8776"
PERL5_CPAN_IS_RUNNING_IN_RECURSION="10312,8776"
PERLBREW_BASHRC_VERSION="0.67"
PERLBREW_HOME="/home/ryanw/.perlbrew"
PERLBREW_ROOT="/home/ryanw/perl5/perlbrew"
PERL_CR_SMOKER_CURRENT="IO-Iron-0.09"
PERL_EXTUTILS_AUTOINSTALL="--defaultdeps"
PERL_MM_USE_DEFAULT="1"
@INC:
/usr/lib/perl5/site_perl/5.14/x86_64-cygwin-threads
/usr/lib/perl5/site_perl/5.14
/usr/lib/perl5/vendor_perl/5.14/x86_64-cygwin-threads
/usr/lib/perl5/vendor_perl/5.14
/usr/lib/perl5/5.14/x86_64-cygwin-threads
/usr/lib/perl5/5.14
.