Back
From: metabase:user:30ae4450-2aae-11df-837a-5e0a49663a4f
Subject: PASS String-Sections-0.3.2 v5.16.2 GNU/Linux
Date: 2013-10-01T14:40:41Z
This distribution has been tested as part of the CPAN Testers
project, supporting the Perl programming language. See
http://wiki.cpantesters.org/ for more information or email
questions to cpan-testers-discuss@perl.org
--
Dear Kent Fredric,
This is a computer-generated report for String-Sections-0.3.2
on perl 5.16.2, created by CPAN-Reporter-1.2010.
Thank you for uploading your work to CPAN. Congratulations!
All tests were successful.
Sections of this report:
* Tester comments
* Program output
* Prerequisites
* Environment and other context
------------------------------
TESTER COMMENTS
------------------------------
Additional comments from tester:
this report is from an automated smoke testing program
and was not reviewed by a human for accuracy
------------------------------
PROGRAM OUTPUT
------------------------------
Output from './Build test':
t/00-compile.t .................................................. ok
#
#
# Generated by Dist::Zilla::Plugin::ReportVersions::Tiny v1.09
# perl: 5.016002 (wanted 5.010001) on linux from /home/c/perl5/perlbrew/perls/5.16.2i/bin/perl
#
# Carp => 1.26 (want any version)
# Data::Dump => 1.21 (want any version)
# Dist::Zilla::PluginBundle::Author::KENTNL => 1.7.4 (want v1.8.3)
# Dist::Zilla::PluginBundle::Author::KENTNL::Lite => 1.7.2 (want v1.3.0)
# File::Spec => 3.40 (want any version)
# FindBin => 1.51 (want any version)
# IO::Handle => 1.33 (want any version)
# IPC::Open3 => 1.12 (want any version)
# Module::Build => 0.4007 (want 0.4007)
# Moo => 1.002 (want 1.000008)
# Path::Tiny => 0.013 (want any version)
# Pod::Coverage::TrustPod => 0.100002 (want any version)
# Scalar::Util => 1.25 (want any version)
# Sub::Exporter::Progressive => 0.001008 (want any version)
# Test::CPAN::Changes => 0.20 (want 0.19)
# Test::CPAN::Meta => 0.23 (want any version)
# Test::Fatal => 0.010 (want any version)
# Test::Kwalitee => 1.01 (want 1.08)
# Test::More => 0.98 (want 0.98)
# Test::Pod => 1.45 (want 1.41)
# Test::Pod::Coverage => 1.08 (want 1.08)
# Types::Standard => 0.006 (want any version)
# lib => 0.63 (want any version)
# strict => 1.07 (want any version)
# version => 0.9901 (want 0.9901)
# warnings => 1.13 (want any version)
#
# Thanks for using my code. I hope it works for you.
# If not, please try and include this output in the bug report.
# That will help me reproduce the issue and solve your problem.
#
t/000-report-versions-tiny.t .................................... ok
t/01-String-Sections-Result/basic.t ............................. ok
t/01_parse_lines.t .............................................. ok
t/02-String-Sections/parse_filehandles/empty.t .................. ok
t/02-String-Sections/parse_filehandles/nosections.t ............. ok
t/02-String-Sections/parse_filehandles/onesection_full.t ........ ok
t/02-String-Sections/parse_filehandles/onesection_head.t ........ ok
t/02-String-Sections/parse_filehandles/prelude.t ................ ok
t/02-String-Sections/parse_filehandles/twosection_full.t ........ ok
t/02-String-Sections/parse_filehandles/twosection_secondhead.t .. ok
t/02-String-Sections/parse_list/empty.t ......................... ok
t/02-String-Sections/parse_list/nosections.t .................... ok
t/02-String-Sections/parse_list/onesection_full.t ............... ok
t/02-String-Sections/parse_list/onesection_head.t ............... ok
t/02-String-Sections/parse_list/prelude.t ....................... ok
t/02-String-Sections/parse_list/twosection_full.t ............... ok
t/02-String-Sections/parse_list/twosection_secondhead.t ......... ok
All tests successful.
Files=18, Tests=58, 5 wallclock secs ( 0.01 usr 0.11 sys + 2.66 cusr 0.76 csys = 3.54 CPU)
Result: PASS
------------------------------
PREREQUISITES
------------------------------
Prerequisite modules loaded:
requires:
Module Need Have
-------------------------- -------- --------
Carp 0 1.26
Moo 1.000008 1.002000
perl 5.010001 5.016002
Scalar::Util 0 1.25
strict 0 1.07
Types::Standard 0 0.006
warnings 0 1.13
build_requires:
Module Need Have
-------------------------- -------- --------
Data::Dump 0 1.21
File::Spec 0 3.40
FindBin 0 1.51
IO::Handle 0 1.33
IPC::Open3 0 1.12
lib 0 0.63
Module::Build 0.4007 0.4007
Path::Tiny 0 0.013
Sub::Exporter::Progressive 0 0.001008
Test::Fatal 0 0.010
Test::More 0.98 0.98
configure_requires:
Module Need Have
-------------------------- -------- --------
Module::Build 0.4007 0.4007
------------------------------
ENVIRONMENT AND OTHER CONTEXT
------------------------------
Environment variables:
AUTOMATED_TESTING = 1
LANG = ru_RU.utf8
PATH = /home/c/perl5/perlbrew/bin:/home/c/perl5/perlbrew/perls/5.16.2i/bin:/usr/local/bin:/usr/bin:/bin:/usr/local/games:/usr/games
PERL5LIB = /home/c/.cpan/build/Module-Build-0.4007-qo5pFQ/blib/arch:/home/c/.cpan/build/Module-Build-0.4007-qo5pFQ/blib/lib
PERL5OPT =
PERL5_CPANPLUS_IS_RUNNING = 16926
PERL5_CPAN_IS_RUNNING = 16926
PERL5_CPAN_IS_RUNNING_IN_RECURSION = 2247,16926
PERLBREW_MANPATH = /home/c/perl5/perlbrew/perls/5.16.2i/man
PERLBREW_PATH = /home/c/perl5/perlbrew/bin:/home/c/perl5/perlbrew/perls/5.16.2i/bin
PERLBREW_PERL = 5.16.2i
PERLBREW_ROOT = /home/c/perl5/perlbrew
PERLBREW_SKIP_INIT = 1
PERLBREW_VERSION = 0.58
PERL_CR_SMOKER_CURRENT = String-Sections-0.3.2
PERL_EXTUTILS_AUTOINSTALL = --defaultdeps
PERL_MM_USE_DEFAULT = 1
SHELL = /bin/bash
TERM = xterm
Perl special variables (and OS-specific diagnostics, for MSWin32):
$^X = /home/c/perl5/perlbrew/perls/5.16.2i/bin/perl
$UID/$EUID = 1000 / 1000
$GID = 1000 24 25 27 29 30 44 46 108 109 115 1000 1001
$EGID = 1000 24 25 27 29 30 44 46 108 109 115 1000 1001
Perl module toolchain versions installed:
Module Have
------------------- --------
CPAN 2.00
CPAN::Meta 2.120921
Cwd 3.40
ExtUtils::CBuilder 0.280206
ExtUtils::Command 1.17
ExtUtils::Install 1.58
ExtUtils::MakeMaker 6.63_02
ExtUtils::Manifest 1.61
ExtUtils::ParseXS 3.16
File::Spec 3.40
JSON 2.53
JSON::PP 2.27200
Module::Build 0.4007
Module::Signature 0.70
Parse::CPAN::Meta 1.4404
Test::Harness 3.28
Test::More 0.98
YAML 0.84
YAML::Syck 1.22
version 0.9901
--
Summary of my perl5 (revision 5 version 16 subversion 2) configuration:
Platform:
osname=linux, osvers=2.6.32-5-686, archname=i686-linux-thread-multi
uname='linux deb1 2.6.32-5-686 #1 smp sun sep 23 09:49:36 utc 2012 i686 gnulinux '
config_args='-de -Dprefix=/home/c/perl5/perlbrew/perls/5.16.2i -Dusethreads -Aeval:scriptdir=/home/c/perl5/perlbrew/perls/5.16.2i/bin'
hint=recommended, useposix=true, d_sigaction=define
useithreads=define, usemultiplicity=define
useperlio=define, d_sfio=undef, uselargefiles=define, usesocks=undef
use64bitint=undef, use64bitall=undef, uselongdouble=undef
usemymalloc=n, bincompat5005=undef
Compiler:
cc='cc', ccflags ='-D_REENTRANT -D_GNU_SOURCE -fno-strict-aliasing -pipe -fstack-protector -I/usr/local/include -D_LARGEFILE_SOURCE -D_FILE_OFFSET_BITS=64',
optimize='-O2',
cppflags='-D_REENTRANT -D_GNU_SOURCE -fno-strict-aliasing -pipe -fstack-protector -I/usr/local/include'
ccversion='', gccversion='4.4.5', gccosandvers=''
intsize=4, longsize=4, ptrsize=4, doublesize=8, byteorder=1234
d_longlong=define, longlongsize=8, d_longdbl=define, longdblsize=12
ivtype='long', ivsize=4, nvtype='double', nvsize=8, Off_t='off_t', lseeksize=8
alignbytes=4, prototype=define
Linker and Libraries:
ld='cc', ldflags =' -fstack-protector -L/usr/local/lib'
libpth=/usr/local/lib /lib/../lib /usr/lib/../lib /lib /usr/lib /usr/lib/i486-linux-gnu /usr/lib64
libs=-lnsl -lgdbm -ldb -ldl -lm -lcrypt -lutil -lpthread -lc -lgdbm_compat
perllibs=-lnsl -ldl -lm -lcrypt -lutil -lpthread -lc
libc=/lib/libc-2.11.3.so, so=so, useshrplib=false, libperl=libperl.a
gnulibc_version='2.11.3'
Dynamic Linking:
dlsrc=dl_dlopen.xs, dlext=so, d_dlsymun=undef, ccdlflags='-Wl,-E'
cccdlflags='-fPIC', lddlflags='-shared -O2 -L/usr/local/lib -fstack-protector'
Characteristics of this binary (from libperl):
Compile-time options: HAS_TIMES MULTIPLICITY PERLIO_LAYERS
PERL_DONT_CREATE_GVSV PERL_IMPLICIT_CONTEXT
PERL_MALLOC_WRAP PERL_PRESERVE_IVUV USE_ITHREADS
USE_LARGE_FILES USE_LOCALE USE_LOCALE_COLLATE
USE_LOCALE_CTYPE USE_LOCALE_NUMERIC USE_PERLIO
USE_PERL_ATOF USE_REENTRANT_API
Built under linux
Compiled at Jan 26 2013 16:12:36
%ENV:
PERL5LIB="/home/c/.cpan/build/Module-Build-0.4007-qo5pFQ/blib/arch:/home/c/.cpan/build/Module-Build-0.4007-qo5pFQ/blib/lib"
PERL5OPT=""
PERL5_CPANPLUS_IS_RUNNING="16926"
PERL5_CPAN_IS_RUNNING="16926"
PERL5_CPAN_IS_RUNNING_IN_RECURSION="2247,16926"
PERLBREW_MANPATH="/home/c/perl5/perlbrew/perls/5.16.2i/man"
PERLBREW_PATH="/home/c/perl5/perlbrew/bin:/home/c/perl5/perlbrew/perls/5.16.2i/bin"
PERLBREW_PERL="5.16.2i"
PERLBREW_ROOT="/home/c/perl5/perlbrew"
PERLBREW_SKIP_INIT="1"
PERLBREW_VERSION="0.58"
PERL_CR_SMOKER_CURRENT="String-Sections-0.3.2"
PERL_EXTUTILS_AUTOINSTALL="--defaultdeps"
PERL_MM_USE_DEFAULT="1"
@INC:
/home/c/.cpan/build/Module-Build-0.4007-qo5pFQ/blib/arch
/home/c/.cpan/build/Module-Build-0.4007-qo5pFQ/blib/lib
/home/c/perl5/perlbrew/perls/5.16.2i/lib/site_perl/5.16.2/i686-linux-thread-multi
/home/c/perl5/perlbrew/perls/5.16.2i/lib/site_perl/5.16.2
/home/c/perl5/perlbrew/perls/5.16.2i/lib/5.16.2/i686-linux-thread-multi
/home/c/perl5/perlbrew/perls/5.16.2i/lib/5.16.2
.