Report for Net-Google-DataAPI-0.2805

Back
From: metabase:user:31d414ea-2aae-11df-837a-5e0a49663a4f
Subject: PASS Net-Google-DataAPI-0.2805 v5.16.3 GNU/Linux
Date: 2017-01-30T13:17:26Z

This distribution has been tested as part of the CPAN Testers
project, supporting the Perl programming language.  See
http://wiki.cpantesters.org/ for more information or email
questions to cpan-testers-discuss@perl.org


--
Dear Nobuo Danjou,

This is a computer-generated report for Net-Google-DataAPI-0.2805
on perl 5.16.3, created by CPAN-Reporter-1.2018.

Thank you for uploading your work to CPAN.  Congratulations!
All tests were successful.

Sections of this report:

    * Tester comments
    * Program output
    * Prerequisites
    * Environment and other context

------------------------------
TESTER COMMENTS
------------------------------

Additional comments from tester:

this report is from an automated smoke testing program
and was not reviewed by a human for accuracy

------------------------------
PROGRAM OUTPUT
------------------------------

Output from '/usr/bin/make test':

PERL_DL_NONLAZY=1 "/home/david/cpantesting/perl-5.16.3/bin/perl" "-MExtUtils::Command::MM" "-MTest::Harness" "-e" "undef *Test::Harness::Switches; test_harness(0, 'inc', 'blib/lib', 'blib/arch')" t/*.t t/01_role/01_service/*.t t/01_role/02_entry/*.t t/01_role/03_has_content/*.t t/02_feedurl/*.t t/03_entry_has/*.t t/04_auth/*.t
t/00_compile.t ......................................... ok
t/01_role/01_service/01_instanciate.t .................. ok
t/01_role/01_service/02_namespace.t .................... ok
Any::Moose is deprecated. Please use Moo instead at t/01_role/01_service/03_request.t line 11.
t/01_role/01_service/03_request.t ...................... ok
Any::Moose is deprecated. Please use Moo instead at t/01_role/01_service/04_methods.t line 9.
t/01_role/01_service/04_methods.t ...................... ok
t/01_role/01_service/05_debug.t ........................ ok
t/01_role/01_service/06_pass_through.t ................. ok
t/01_role/01_service/07_max_line_length.t .............. ok
t/01_role/01_service/08_max_line_length_custom_size.t .. ok
t/01_role/02_entry/01_instanciate.t .................... ok
Any::Moose is deprecated. Please use Moo instead at t/01_role/02_entry/02_update.t line 10.
t/01_role/02_entry/02_update.t ......................... ok
t/01_role/03_has_content/01_basic.t .................... ok
t/02_feedurl/01_basic.t ................................ ok
t/02_feedurl/02_add.t .................................. ok
t/02_feedurl/03_list.t ................................. ok
t/02_feedurl/04_delete.t ............................... ok
Any::Moose is deprecated. Please use Moo instead at t/02_feedurl/05_error.t line 10.
t/02_feedurl/05_error.t ................................ ok
Any::Moose is deprecated. Please use Moo instead at t/03_entry_has/01_basic.t line 116.
t/03_entry_has/01_basic.t .............................. ok
Any::Moose is deprecated. Please use Moo instead at t/03_entry_has/02_error.t line 8.
t/03_entry_has/02_error.t .............................. ok
t/04_auth/01_authsub.t ................................. ok
t/04_auth/02_oauth.t ................................... ok
t/04_auth/03_multiple.t ................................ ok
t/04_auth/04_oauth2.t .................................. ok
t/05_types.t ........................................... ok
All tests successful.
Files=24, Tests=423, 10 wallclock secs ( 0.08 usr  0.08 sys +  2.34 cusr  0.33 csys =  2.83 CPU)
Result: PASS

------------------------------
PREREQUISITES
------------------------------

Prerequisite modules loaded:

requires:

    Module                      Need     Have      
    --------------------------- -------- ----------
    Any::Moose                  0.04     0.27      
    Carp                        0        1.26      
    Digest::SHA1                0        2.13      
    Lingua::EN::Inflect::Number 0        1.12      
    LWP::Protocol::https        0        6.06      
    LWP::UserAgent              0        6.16      
    Mouse                       0.51     v2.4.7    
    Net::Google::AuthSub        0.5      0.5       
    Net::OAuth                  0        0.28      
    Net::OAuth2                 0.60     0.63      
    perl                        5.008001 5.016003  
    Text::Glob                  0        0.10      
    URI                         0        1.71      
    XML::Atom                   0        0.41      
    XML::LibXML                 0        2.0128    

build_requires:

    Module                      Need     Have      
    --------------------------- -------- ----------
    ExtUtils::MakeMaker         6.59     7.24      
    Test::Exception             0        0.43      
    Test::MockModule            0        0.11      
    Test::MockObject            0        1.20161202
    Test::More                  0.88     1.302075  
    Test::Warn                  0        0.32      
    UNIVERSAL::can              0        1.20140328
    UNIVERSAL::isa              0        1.20150614

configure_requires:

    Module                      Need     Have      
    --------------------------- -------- ----------
    ExtUtils::MakeMaker         6.59     7.24      


------------------------------
ENVIRONMENT AND OTHER CONTEXT
------------------------------

Environment variables:

    AUTOMATED_TESTING = 1
    NONINTERACTIVE_TESTING = 1
    PATH = /usr/local/bin:/usr/bin:/bin:/usr/local/games:/usr/games
    PERL = 5.16.3
    PERL5LIB = 
    PERL5OPT = 
    PERL5_CPANPLUS_IS_RUNNING = 30510
    PERL5_CPAN_IS_RUNNING = 30510
    PERLVER = 5.16.3
    PERL_INLINE_DIRECTORY = /home/david/.Inline-5.16.3
    PERL_MM_USE_DEFAULT = 1
    SHELL = /bin/bash
    TERM = screen

Perl special variables (and OS-specific diagnostics, for MSWin32):

    $^X = /home/david/cpantesting/perl-5.16.3/bin/perl
    $UID/$EUID = 1000 / 1000
    $GID = 1000 1000
    $EGID = 1000 1000

Perl module toolchain versions installed:

    Module              Have    
    ------------------- --------
    CPAN                1.9800  
    CPAN::Meta          2.143240
    Cwd                 3.39_02 
    ExtUtils::CBuilder  0.280206
    ExtUtils::Command   7.24    
    ExtUtils::Install   1.58    
    ExtUtils::MakeMaker 7.24    
    ExtUtils::Manifest  1.70    
    ExtUtils::ParseXS   3.30    
    File::Spec          3.39_02 
    JSON                2.90    
    JSON::PP            2.27400 
    Module::Build       0.4220  
    Module::Signature   n/a     
    Parse::CPAN::Meta   1.4414  
    Test::Harness       3.36    
    Test::More          1.302075
    YAML                1.18    
    YAML::Syck          n/a     
    version             0.99    


--

Summary of my perl5 (revision 5 version 16 subversion 3) configuration:
   
  Platform:
    osname=linux, osvers=3.16.0-4-amd64, archname=x86_64-linux-thread-multi
    uname='linux pigsty.barnyard.co.uk 3.16.0-4-amd64 #1 smp debian 3.16.36-1+deb8u1 (2016-09-03) x86_64 gnulinux '
    config_args='-de -Duse64bitall -Dusethreads -Dprefix=/home/david/cpantesting/perl-5.16.3'
    hint=recommended, useposix=true, d_sigaction=define
    useithreads=define, usemultiplicity=define
    useperlio=define, d_sfio=undef, uselargefiles=define, usesocks=undef
    use64bitint=define, use64bitall=define, uselongdouble=undef
    usemymalloc=n, bincompat5005=undef
  Compiler:
    cc='cc', ccflags ='-D_REENTRANT -D_GNU_SOURCE -fno-strict-aliasing -pipe -fstack-protector -I/usr/local/include -D_LARGEFILE_SOURCE -D_FILE_OFFSET_BITS=64',
    optimize='-O2',
    cppflags='-D_REENTRANT -D_GNU_SOURCE -fno-strict-aliasing -pipe -fstack-protector -I/usr/local/include'
    ccversion='', gccversion='4.9.2', gccosandvers=''
    intsize=4, longsize=8, ptrsize=8, doublesize=8, byteorder=12345678
    d_longlong=define, longlongsize=8, d_longdbl=define, longdblsize=16
    ivtype='long', ivsize=8, nvtype='double', nvsize=8, Off_t='off_t', lseeksize=8
    alignbytes=8, prototype=define
  Linker and Libraries:
    ld='cc', ldflags =' -fstack-protector -L/usr/local/lib'
    libpth=/usr/local/lib /lib/x86_64-linux-gnu /lib/../lib /usr/lib/x86_64-linux-gnu /usr/lib/../lib /lib /usr/lib
    libs=-lnsl -ldb -ldl -lm -lcrypt -lutil -lpthread -lc
    perllibs=-lnsl -ldl -lm -lcrypt -lutil -lpthread -lc
    libc=libc-2.19.so, so=so, useshrplib=false, libperl=libperl.a
    gnulibc_version='2.19'
  Dynamic Linking:
    dlsrc=dl_dlopen.xs, dlext=so, d_dlsymun=undef, ccdlflags='-Wl,-E'
    cccdlflags='-fPIC', lddlflags='-shared -O2 -L/usr/local/lib -fstack-protector'


Characteristics of this binary (from libperl): 
  Compile-time options: HAS_TIMES MULTIPLICITY PERLIO_LAYERS
                        PERL_DONT_CREATE_GVSV PERL_IMPLICIT_CONTEXT
                        PERL_MALLOC_WRAP PERL_PRESERVE_IVUV USE_64_BIT_ALL
                        USE_64_BIT_INT USE_ITHREADS USE_LARGE_FILES
                        USE_LOCALE USE_LOCALE_COLLATE USE_LOCALE_CTYPE
                        USE_LOCALE_NUMERIC USE_PERLIO USE_PERL_ATOF
                        USE_REENTRANT_API
  Locally applied patches:
	Devel::PatchPerl 1.44
  Built under linux
  Compiled at Oct 12 2016 15:07:59
  %ENV:
    PERL="5.16.3"
    PERL5LIB=""
    PERL5OPT=""
    PERL5_CPANPLUS_IS_RUNNING="30510"
    PERL5_CPAN_IS_RUNNING="30510"
    PERLVER="5.16.3"
    PERL_INLINE_DIRECTORY="/home/david/.Inline-5.16.3"
    PERL_MM_USE_DEFAULT="1"
  @INC:
    /home/david/cpantesting/perl-5.16.3/lib/site_perl/5.16.3/x86_64-linux-thread-multi
    /home/david/cpantesting/perl-5.16.3/lib/site_perl/5.16.3
    /home/david/cpantesting/perl-5.16.3/lib/5.16.3/x86_64-linux-thread-multi
    /home/david/cpantesting/perl-5.16.3/lib/5.16.3
    .