MARC-Convert-Wikidata-Object v0.13 Perl 5 v5.40.0 x86_64-linux

Status
Pass
From
Slaven Rezić
Dist
MARC-Convert-Wikidata-Object v0.13
Platform
Perl 5 v5.40.0 x86_64-linux
Date
2025-04-02 18:58:19
ID
713a7566-0ff4-11f0-b8d6-13406e8775ea
This distribution has been tested as part of the CPAN Testers
project, supporting the Perl programming language.  See
http://wiki.cpantesters.org/ for more information or email
questions to cpan-testers-discuss@perl.org


--
Dear Michal Josef Spacek,

This is a computer-generated report for MARC-Convert-Wikidata-Object-0.13
on perl 5.40.0, created by CPAN-Reporter-1.2019.

Thank you for uploading your work to CPAN.  Congratulations!
All tests were successful.

Sections of this report:

    * Tester comments
    * Program output
    * Prerequisites
    * Environment and other context

------------------------------
TESTER COMMENTS
------------------------------

Additional comments from tester:

none provided

------------------------------
PROGRAM OUTPUT
------------------------------

Output from '/usr/bin/make test':

PERL_DL_NONLAZY=1 "/opt/perl-5.40.0/bin/perl" "-MExtUtils::Command::MM" "-MTest::Harness" "-e" "undef *Test::Harness::Switches; test_harness(0, 'inc', 'blib/lib', 'blib/arch')" t/MARC-Convert-Wikidata-Object-ExternalId/*.t t/MARC-Convert-Wikidata-Object-ISBN/*.t t/MARC-Convert-Wikidata-Object-Kramerius/*.t t/MARC-Convert-Wikidata-Object-People/*.t t/MARC-Convert-Wikidata-Object-PublicationDate/*.t t/MARC-Convert-Wikidata-Object-Publisher/*.t t/MARC-Convert-Wikidata-Object-Series/*.t t/MARC-Convert-Wikidata-Object-Work/*.t t/MARC-Convert-Wikidata-Object/*.t
t/MARC-Convert-Wikidata-Object-ExternalId/01-use.t .......................... ok
t/MARC-Convert-Wikidata-Object-ExternalId/02-version.t ...................... ok
t/MARC-Convert-Wikidata-Object-ExternalId/03-new.t .......................... ok
t/MARC-Convert-Wikidata-Object-ExternalId/04-deprecated.t ................... ok
t/MARC-Convert-Wikidata-Object-ExternalId/05-name.t ......................... ok
t/MARC-Convert-Wikidata-Object-ExternalId/06-value.t ........................ ok
t/MARC-Convert-Wikidata-Object-ISBN/01-use.t ................................ ok
t/MARC-Convert-Wikidata-Object-ISBN/02-version.t ............................ ok
t/MARC-Convert-Wikidata-Object-ISBN/03-new.t ................................ ok
t/MARC-Convert-Wikidata-Object-ISBN/04-collective.t ......................... ok
t/MARC-Convert-Wikidata-Object-ISBN/05-cover.t .............................. ok
t/MARC-Convert-Wikidata-Object-ISBN/06-isbn.t ............................... ok
t/MARC-Convert-Wikidata-Object-ISBN/07-type.t ............................... ok
t/MARC-Convert-Wikidata-Object-ISBN/08-valid.t .............................. ok
t/MARC-Convert-Wikidata-Object-Kramerius/01-use.t ........................... ok
t/MARC-Convert-Wikidata-Object-Kramerius/02-version.t ....................... ok
t/MARC-Convert-Wikidata-Object-Kramerius/03-new.t ........................... ok
t/MARC-Convert-Wikidata-Object-Kramerius/04-kramerius_id.t .................. ok
t/MARC-Convert-Wikidata-Object-Kramerius/05-object_id.t ..................... ok
t/MARC-Convert-Wikidata-Object-Kramerius/06-url.t ........................... ok
t/MARC-Convert-Wikidata-Object-People/01-use.t .............................. ok
t/MARC-Convert-Wikidata-Object-People/02-version.t .......................... ok
t/MARC-Convert-Wikidata-Object-People/03-new.t .............................. ok
t/MARC-Convert-Wikidata-Object-People/04-date_of_birth.t .................... ok
t/MARC-Convert-Wikidata-Object-People/05-date_of_death.t .................... ok
t/MARC-Convert-Wikidata-Object-People/06-external_ids.t ..................... ok
t/MARC-Convert-Wikidata-Object-People/07-full_name.t ........................ ok
t/MARC-Convert-Wikidata-Object-People/08-name.t ............................. ok
t/MARC-Convert-Wikidata-Object-People/09-surname.t .......................... ok
t/MARC-Convert-Wikidata-Object-People/10-work_period_start.t ................ ok
t/MARC-Convert-Wikidata-Object-People/11-work_period_end.t .................. ok
t/MARC-Convert-Wikidata-Object-PublicationDate/01-use.t ..................... ok
t/MARC-Convert-Wikidata-Object-PublicationDate/02-version.t ................. ok
t/MARC-Convert-Wikidata-Object-PublicationDate/03-new.t ..................... ok
t/MARC-Convert-Wikidata-Object-PublicationDate/04-copyright.t ............... ok
t/MARC-Convert-Wikidata-Object-PublicationDate/05-date.t .................... ok
t/MARC-Convert-Wikidata-Object-PublicationDate/06-earliest_date.t ........... ok
t/MARC-Convert-Wikidata-Object-PublicationDate/07-end_time.t ................ ok
t/MARC-Convert-Wikidata-Object-PublicationDate/08-latest_date.t ............. ok
t/MARC-Convert-Wikidata-Object-PublicationDate/09-precision.t ............... ok
t/MARC-Convert-Wikidata-Object-PublicationDate/10-sourcing_circumstances.t .. ok
t/MARC-Convert-Wikidata-Object-PublicationDate/11-start_time.t .............. ok
t/MARC-Convert-Wikidata-Object-Publisher/01-use.t ........................... ok
t/MARC-Convert-Wikidata-Object-Publisher/02-version.t ....................... ok
t/MARC-Convert-Wikidata-Object-Publisher/03-new.t ........................... ok
t/MARC-Convert-Wikidata-Object-Publisher/04-external_ids.t .................. ok
t/MARC-Convert-Wikidata-Object-Publisher/05-id.t ............................ ok
t/MARC-Convert-Wikidata-Object-Publisher/06-name.t .......................... ok
t/MARC-Convert-Wikidata-Object-Publisher/07-place.t ......................... ok
t/MARC-Convert-Wikidata-Object-Series/01-use.t .............................. ok
t/MARC-Convert-Wikidata-Object-Series/02-version.t .......................... ok
t/MARC-Convert-Wikidata-Object-Series/03-new.t .............................. ok
t/MARC-Convert-Wikidata-Object-Series/04-issn.t ............................. ok
t/MARC-Convert-Wikidata-Object-Series/05-name.t ............................. ok
t/MARC-Convert-Wikidata-Object-Series/06-publisher.t ........................ ok
t/MARC-Convert-Wikidata-Object-Series/07-series_ordinal.t ................... ok
t/MARC-Convert-Wikidata-Object-Work/01-use.t ................................ ok
t/MARC-Convert-Wikidata-Object-Work/02-version.t ............................ ok
t/MARC-Convert-Wikidata-Object-Work/03-new.t ................................ ok
t/MARC-Convert-Wikidata-Object/01-use.t ..................................... ok
t/MARC-Convert-Wikidata-Object/02-version.t ................................. ok
t/MARC-Convert-Wikidata-Object/03-new.t ..................................... ok
t/MARC-Convert-Wikidata-Object/04-authors.t ................................. ok
t/MARC-Convert-Wikidata-Object/05-authors_of_afterword.t .................... ok
t/MARC-Convert-Wikidata-Object/06-authors_of_introduction.t ................. ok
t/MARC-Convert-Wikidata-Object/07-compilers.t ............................... ok
t/MARC-Convert-Wikidata-Object/08-cover.t ................................... ok
t/MARC-Convert-Wikidata-Object/09-covers.t .................................. ok
t/MARC-Convert-Wikidata-Object/10-cycles.t .................................. ok
t/MARC-Convert-Wikidata-Object/11-directors.t ............................... ok
t/MARC-Convert-Wikidata-Object/12-dml.t ..................................... ok
t/MARC-Convert-Wikidata-Object/12-end_time.t ................................ ok
t/MARC-Convert-Wikidata-Object/13-edition_number.t .......................... ok
t/MARC-Convert-Wikidata-Object/14-editors.t ................................. ok
t/MARC-Convert-Wikidata-Object/15-external_ids.t ............................ ok
t/MARC-Convert-Wikidata-Object/16-full_name.t ............................... ok
t/MARC-Convert-Wikidata-Object/17-illustrators.t ............................ ok
t/MARC-Convert-Wikidata-Object/18-isbns.t ................................... ok
t/MARC-Convert-Wikidata-Object/19-issn.t .................................... ok
t/MARC-Convert-Wikidata-Object/20-krameriuses.t ............................. ok
t/MARC-Convert-Wikidata-Object/21-languages.t ............................... ok
t/MARC-Convert-Wikidata-Object/22-narrators.t ............................... ok
t/MARC-Convert-Wikidata-Object/23-number_of_pages.t ......................... ok
t/MARC-Convert-Wikidata-Object/24-photographers.t ........................... ok
t/MARC-Convert-Wikidata-Object/25-publication_date.t ........................ ok
t/MARC-Convert-Wikidata-Object/26-publishers.t .............................. ok
t/MARC-Convert-Wikidata-Object/27-series.t .................................. ok
t/MARC-Convert-Wikidata-Object/28-start_time.t .............................. ok
t/MARC-Convert-Wikidata-Object/29-subtitles.t ............................... ok
t/MARC-Convert-Wikidata-Object/30-title.t ................................... ok
t/MARC-Convert-Wikidata-Object/31-translators.t ............................. ok
All tests successful.
Files=91, Tests=308, 10 wallclock secs ( 0.21 usr  0.11 sys +  7.97 cusr  1.49 csys =  9.78 CPU)
Result: PASS

------------------------------
PREREQUISITES
------------------------------

Prerequisite modules loaded:

requires:

    Module              Need     Have    
    ------------------- -------- --------
    Business::ISBN      0        3.009   
    Error::Pure         0        0.34    
    List::MoreUtils     0        0.430   
    List::Util          0        1.68    
    Mo                  0        0.40    
    Mo::utils           0.26     0.29    
    Mo::utils::Date     0.04     0.04    
    perl                5.006002 5.040000
    Readonly            0        2.05    

build_requires:

    Module              Need     Have    
    ------------------- -------- --------
    ExtUtils::MakeMaker 6.59     7.70    
    Test::More          0        1.302207
    Test::NoWarnings    0        1.06    
    Unicode::UTF8       0        0.62    

configure_requires:

    Module              Need     Have    
    ------------------- -------- --------
    ExtUtils::MakeMaker 6.59     7.70    


------------------------------
ENVIRONMENT AND OTHER CONTEXT
------------------------------

Environment variables:

    LANG = en_US.UTF-8
    PATH = /usr/local/bin:/usr/bin:/bin:/usr/local/sbin:/usr/sbin:/sbin:/home/cpansand/bin/linux-gnu:/home/cpansand/bin/sh:/home/cpansand/bin:/usr/games:/home/cpansand/devel:/home/eserte/src/srezic-misc/scripts
    PERL5LIB = 
    PERL5OPT = 
    PERL5_CPANPLUS_IS_RUNNING = 399744
    PERL5_CPAN_IS_RUNNING = 399744
    PERL5_CPAN_IS_RUNNING_IN_RECURSION = 375645,399744
    PERLDOC = -MPod::Perldoc::ToTextOverstrike
    PERL_BATCH = yes
    PERL_CANARY_STABILITY_NOPROMPT = 1
    PERL_CPAN_REPORTER_CONFIG = /var/tmp/cpansmoker-1023/2025040218/cpanreporter_000_config.ini
    PERL_EXTUTILS_AUTOINSTALL = --defaultdeps
    PERL_USE_UNSAFE_INC = 1
    SHELL = /usr/bin/zsh
    TERM = screen
    TMPDIR = /var/tmp/cpansmoker-1023/2025040218

Perl special variables (and OS-specific diagnostics, for MSWin32):

    $^X = /opt/perl-5.40.0/bin/perl
    $UID/$EUID = 1023 / 1023
    $GID = 1023 1023
    $EGID = 1023 1023

Perl module toolchain versions installed:

    Module              Have    
    ------------------- --------
    CPAN                2.37    
    CPAN::Meta          2.150010
    Cwd                 3.90    
    ExtUtils::CBuilder  0.280240
    ExtUtils::Command   7.70    
    ExtUtils::Install   2.22    
    ExtUtils::MakeMaker 7.70    
    ExtUtils::Manifest  1.75    
    ExtUtils::ParseXS   3.51    
    File::Spec          3.90    
    JSON                4.10    
    JSON::PP            4.16    
    Module::Build       0.4234  
    Module::Signature   n/a     
    Parse::CPAN::Meta   2.150010
    Test2               1.302207
    Test::Harness       3.50    
    Test::More          1.302207
    YAML                1.31    
    YAML::Syck          1.34    
    version             0.9930  


--

Summary of my perl5 (revision 5 version 40 subversion 0) configuration:
   
  Platform:
    osname=linux
    osvers=5.14.0-427.24.1.el9_4.x86_64
    archname=x86_64-linux
    uname='linux rockylinux9-2gb-ash-1-cloud3.cloud 5.14.0-427.24.1.el9_4.x86_64 #1 smp preempt_dynamic mon jul 8 17:47:19 utc 2024 x86_64 x86_64 x86_64 gnulinux '
    config_args='-ds -e -Dprefix=/opt/perl-5.40.0 -Uinstallusrbinperl -Dcf_email=srezic@cpan.org'
    hint=recommended
    useposix=true
    d_sigaction=define
    useithreads=undef
    usemultiplicity=undef
    use64bitint=define
    use64bitall=define
    uselongdouble=undef
    usemymalloc=n
    default_inc_excludes_dot=define
  Compiler:
    cc='cc'
    ccflags ='-fwrapv -fno-strict-aliasing -pipe -fstack-protector-strong -I/usr/local/include -D_LARGEFILE_SOURCE -D_FILE_OFFSET_BITS=64 -D_FORTIFY_SOURCE=2'
    optimize='-O2'
    cppflags='-fwrapv -fno-strict-aliasing -pipe -fstack-protector-strong -I/usr/local/include'
    ccversion=''
    gccversion='11.4.1 20231218 (Red Hat 11.4.1-3)'
    gccosandvers=''
    intsize=4
    longsize=8
    ptrsize=8
    doublesize=8
    byteorder=12345678
    doublekind=3
    d_longlong=define
    longlongsize=8
    d_longdbl=define
    longdblsize=16
    longdblkind=3
    ivtype='long'
    ivsize=8
    nvtype='double'
    nvsize=8
    Off_t='off_t'
    lseeksize=8
    alignbytes=8
    prototype=define
  Linker and Libraries:
    ld='cc'
    ldflags =' -fstack-protector-strong -L/usr/local/lib'
    libpth=/usr/local/lib /usr/lib /usr/lib64 /usr/local/lib64
    libs=-lpthread -ldb -ldl -lm -lcrypt -lutil -lc
    perllibs=-lpthread -ldl -lm -lcrypt -lutil -lc
    libc=/lib/../lib64/libc.so.6
    so=so
    useshrplib=false
    libperl=libperl.a
    gnulibc_version='2.34'
  Dynamic Linking:
    dlsrc=dl_dlopen.xs
    dlext=so
    d_dlsymun=undef
    ccdlflags='-Wl,-E'
    cccdlflags='-fPIC'
    lddlflags='-shared -O2 -L/usr/local/lib -fstack-protector-strong'


Characteristics of this binary (from libperl): 
  Compile-time options:
    HAS_LONG_DOUBLE
    HAS_STRTOLD
    HAS_TIMES
    PERLIO_LAYERS
    PERL_COPY_ON_WRITE
    PERL_DONT_CREATE_GVSV
    PERL_HASH_FUNC_SIPHASH13
    PERL_HASH_USE_SBOX32
    PERL_MALLOC_WRAP
    PERL_OP_PARENT
    PERL_PRESERVE_IVUV
    PERL_USE_SAFE_PUTENV
    USE_64_BIT_ALL
    USE_64_BIT_INT
    USE_LARGE_FILES
    USE_LOCALE
    USE_LOCALE_COLLATE
    USE_LOCALE_CTYPE
    USE_LOCALE_NUMERIC
    USE_LOCALE_TIME
    USE_PERLIO
    USE_PERL_ATOF
  Built under linux
  Compiled at Jul 13 2024 17:20:22
  %ENV:
    PERL5LIB=""
    PERL5OPT=""
    PERL5_CPANPLUS_IS_RUNNING="399744"
    PERL5_CPAN_IS_RUNNING="399744"
    PERL5_CPAN_IS_RUNNING_IN_RECURSION="375645,399744"
    PERLDOC="-MPod::Perldoc::ToTextOverstrike"
    PERL_BATCH="yes"
    PERL_CANARY_STABILITY_NOPROMPT="1"
    PERL_CPAN_REPORTER_CONFIG="/var/tmp/cpansmoker-1023/2025040218/cpanreporter_000_config.ini"
    PERL_EXTUTILS_AUTOINSTALL="--defaultdeps"
    PERL_USE_UNSAFE_INC="1"
  @INC:
    /opt/perl-5.40.0/lib/site_perl/5.40.0/x86_64-linux
    /opt/perl-5.40.0/lib/site_perl/5.40.0
    /opt/perl-5.40.0/lib/5.40.0/x86_64-linux
    /opt/perl-5.40.0/lib/5.40.0
    .