WWW-Mechanize-Firefox v0.80 Perl 5 v5.41.10 x86_64-linux-ld
- Status
- Pass
- From
- Andreas J. König (ANDK)
- Dist
-
WWW-Mechanize-Firefox v0.80
- Platform
- Perl 5 v5.41.10 x86_64-linux-ld
- Date
- 2025-04-15 13:06:27
- ID
- 711b16d4-19fa-11f0-abbf-e4d06ecbbf27
This distribution has been tested as part of the CPAN Testers
project, supporting the Perl programming language. See
http://wiki.cpantesters.org/ for more information or email
questions to cpan-testers-discuss@perl.org
--
Dear Max Maischein,
This is a computer-generated report for WWW-Mechanize-Firefox-0.80
on perl 5.41.10, created by CPAN-Reporter-1.2020.
Thank you for uploading your work to CPAN. Congratulations!
All tests were successful.
Sections of this report:
* Tester comments
* Program output
* Prerequisites
* Environment and other context
------------------------------
TESTER COMMENTS
------------------------------
Additional comments from tester:
this report is from an automated smoke testing program
and was not reviewed by a human for accuracy
------------------------------
PROGRAM OUTPUT
------------------------------
Output from '/usr/bin/make test':
PERL_DL_NONLAZY=1 "/tmp/basesmoker-reloperl-9UT2/bin/perl" "-MExtUtils::Command::MM" "-MTest::Harness" "-e" "undef *Test::Harness::Switches; test_harness(0, 'blib/lib', 'blib/arch')" t/00-load.t t/01-mech-destroy.t t/47-mech-memleak2.t t/47-mech-ref-memleak.t t/47-mech-simplest.t t/48-mech-launch.t t/49-mech-get-file.t t/49-mech-nav.t t/49-mech-reuse.t t/50-allow-js.t t/50-app-new.t t/50-app-profile.t t/50-click-coordinates-js.t t/50-click-coordinates.t t/50-click.t t/50-follow-link.t t/50-form-with-fields.t t/50-form2.t t/50-load-and-load.t t/50-mech-activateTab.t t/50-mech-bufsize.t t/50-mech-closeTab.t t/50-mech-content.t t/50-mech-ct.t t/50-mech-encoding.t t/50-mech-error.t t/50-mech-event.t t/50-mech-forms.t t/50-mech-get-nocache.t t/50-mech-get.t t/50-mech-multi-event.t t/50-mech-new-dsl.t t/50-mech-new-with-tab.t t/50-mech-new.t t/50-mech-post.t t/50-mech-save-dialog.t t/50-mech-set-fields-875912.t t/50-mech-status.t t/50-popup.t t/50-rt65615.t t/50-tick.t t/51-click_button.t t/51-click_js.t t/51-form-number-blakew.t t/51-mech-field.t t/51-mech-form-with-fields.t t/51-mech-links.t t/51-mech-navigation.t t/51-mech-sandbox.t t/51-mech-set-content.t t/51-mech-submit.t t/52-frame-document.t t/52-frame-event.t t/52-mech-api-find_link-frames.t t/52-mech-api-find_link.t t/52-mech-xpath.t t/52-selector-frames.t t/52-selector-noframes.t t/52-selector-relative.t t/53-mech-capture-js-error.t t/55-basic-auth.t t/60-mech-cookies.t t/60-mech-custom-headers.t t/65-is_visible.t t/65-mech-meta.t t/65-set_visible.t t/70-download-url.t t/70-mech-png.t t/70-real-status.t t/70-rt70106-reload.t t/70-rt71216.t t/70-tag-team.t t/70-two-instances.t t/70-urlbar.t t/75-save_url-cookies.t t/rt65615.t t/rt78706.t t/rt84418.t t/rt88100-continuation.t t/select.t t/mechanize/autocheck.t t/mechanize/content.t
# Testing WWW::Mechanize::Firefox 0.80, Perl 5.041010
# AutoLoader 5.74
# Carp 1.54
# Clone 0.47
# Config 5.041010
# Cwd 3.92
# Encode 3.21
# Encode::Alias 2.25
# Encode::Config 2.05
# Encode::Encoding 2.08
# Encode::MIME::Name 1.03
# Exporter 5.79
# Exporter::Heavy 5.79
# Fcntl 1.19
# File::Basename 2.86
# File::Spec 3.93
# File::Spec::Unix 3.93
# Firefox::Application 0.80
# HTML::Selector::XPath 0.28
# HTTP::Cookies 6.11
# HTTP::Cookies::MozRepl 0.80
# HTTP::Cookies::Netscape 6.11
# HTTP::Date 6.06
# HTTP::Headers 7.00
# HTTP::Headers::Util 7.00
# HTTP::Message 7.00
# HTTP::Request 7.00
# HTTP::Request::Common 7.00
# HTTP::Response 7.00
# HTTP::Status 7.00
# JSON 4.10
# JSON::XS 4.03
# List::Util 1.6801
# MIME::Base64 3.16_01
# MozRepl::RemoteObject 0.40
# MozRepl::RemoteObject::Methods 0.40
# Scalar::Util 1.6801
# Storable 3.36
# Test::Builder 1.302209
# Test::Builder::Formatter 1.302209
# Test::Builder::Module 1.302209
# Test::Builder::TodoDiag 1.302209
# Test::More 1.302209
# Test2::API 1.302209
# Test2::API::Context 1.302209
# Test2::API::Instance 1.302209
# Test2::API::Stack 1.302209
# Test2::Event 1.302209
# Test2::Event::Bail 1.302209
# Test2::Event::Diag 1.302209
# Test2::Event::Exception 1.302209
# Test2::Event::Fail 1.302209
# Test2::Event::Note 1.302209
# Test2::Event::Ok 1.302209
# Test2::Event::Pass 1.302209
# Test2::Event::Plan 1.302209
# Test2::Event::Skip 1.302209
# Test2::Event::Subtest 1.302209
# Test2::Event::V2 1.302209
# Test2::Event::Waiting 1.302209
# Test2::EventFacet 1.302209
# Test2::EventFacet::About 1.302209
# Test2::EventFacet::Amnesty 1.302209
# Test2::EventFacet::Assert 1.302209
# Test2::EventFacet::Control 1.302209
# Test2::EventFacet::Error 1.302209
# Test2::EventFacet::Hub 1.302209
# Test2::EventFacet::Info 1.302209
# Test2::EventFacet::Meta 1.302209
# Test2::EventFacet::Parent 1.302209
# Test2::EventFacet::Plan 1.302209
# Test2::EventFacet::Trace 1.302209
# Test2::Formatter 1.302209
# Test2::Formatter::TAP 1.302209
# Test2::Hub 1.302209
# Test2::Hub::Interceptor 1.302209
# Test2::Hub::Interceptor::Terminator 1.302209
# Test2::Hub::Subtest 1.302209
# Test2::Util 1.302209
# Test2::Util::ExternalMeta 1.302209
# Test2::Util::Facets2Legacy 1.302209
# Test2::Util::HashBase 1.302209
# Test2::Util::Trace 1.302209
# Time::HiRes 1.9777
# Time::Local 1.35
# Types::Serialiser 1.01
# URI 5.31
# URI::Escape 5.31
# WWW::Mechanize::Firefox 0.80
# WWW::Mechanize::Link 2.19
# XSLoader 0.32
# attributes 0.36
# bytes 1.09
# common::sense 3.75
# constant 1.33
# mro 1.29
# overload 1.40
# overloading 0.02
# parent 0.244
# re 0.47
# strict 1.13
# vars 1.05
# warnings 1.74
# warnings::register 1.06
t/00-load.t ....................... ok
t/01-mech-destroy.t ............... skipped: Couldn't connect to MozRepl: Failed to connect to , problem connecting to "localhost", port 4242: Connection refused at /home/sand/src/perl/repoperls/installed-perls/host/k93jammy/v5.41.10/5674/lib/site_perl/5.41.10/MozRepl/Client.pm line 144
t/47-mech-memleak2.t .............. skipped: Couldn't connect to MozRepl: Failed to connect to , problem connecting to "localhost", port 4242: Connection refused at /home/sand/src/perl/repoperls/installed-perls/host/k93jammy/v5.41.10/5674/lib/site_perl/5.41.10/MozRepl/Client.pm line 144
t/47-mech-ref-memleak.t ........... skipped: Couldn't connect to MozRepl: Failed to connect to , problem connecting to "localhost", port 4242: Connection refused at /home/sand/src/perl/repoperls/installed-perls/host/k93jammy/v5.41.10/5674/lib/site_perl/5.41.10/MozRepl/Client.pm line 144
t/47-mech-simplest.t .............. skipped: Couldn't connect to MozRepl: Failed to connect to , problem connecting to "localhost", port 4242: Connection refused at /home/sand/src/perl/repoperls/installed-perls/host/k93jammy/v5.41.10/5674/lib/site_perl/5.41.10/MozRepl/Client.pm line 144
t/48-mech-launch.t ................ skipped: Couldn't connect to MozRepl: file not found: C:/Programme/Mozilla Firefox/firefox at /home/sand/src/perl/repoperls/installed-perls/host/k93jammy/v5.41.10/5674/lib/site_perl/5.41.10/MozRepl/RemoteObject.pm line 463.
t/49-mech-get-file.t .............. skipped: Couldn't connect to MozRepl: Failed to connect to , problem connecting to "localhost", port 4242: Connection refused at /home/sand/src/perl/repoperls/installed-perls/host/k93jammy/v5.41.10/5674/lib/site_perl/5.41.10/MozRepl/Client.pm line 144
t/49-mech-nav.t ................... skipped: Couldn't connect to MozRepl: Failed to connect to , problem connecting to "localhost", port 4242: Connection refused at /home/sand/src/perl/repoperls/installed-perls/host/k93jammy/v5.41.10/5674/lib/site_perl/5.41.10/MozRepl/Client.pm line 144
t/49-mech-reuse.t ................. skipped: Couldn't connect to MozRepl: Failed to connect to , problem connecting to "localhost", port 4242: Connection refused at /home/sand/src/perl/repoperls/installed-perls/host/k93jammy/v5.41.10/5674/lib/site_perl/5.41.10/MozRepl/Client.pm line 144
t/50-allow-js.t ................... skipped: Couldn't connect to MozRepl: Failed to connect to , problem connecting to "localhost", port 4242: Connection refused at /home/sand/src/perl/repoperls/installed-perls/host/k93jammy/v5.41.10/5674/lib/site_perl/5.41.10/MozRepl/Client.pm line 144
t/50-app-new.t .................... skipped: Couldn't connect to MozRepl: Failed to connect to , problem connecting to "localhost", port 4242: Connection refused at /home/sand/src/perl/repoperls/installed-perls/host/k93jammy/v5.41.10/5674/lib/site_perl/5.41.10/MozRepl/Client.pm line 144
t/50-app-profile.t ................ skipped: Couldn't connect to MozRepl: Failed to connect to , problem connecting to "localhost", port 4242: Connection refused at /home/sand/src/perl/repoperls/installed-perls/host/k93jammy/v5.41.10/5674/lib/site_perl/5.41.10/MozRepl/Client.pm line 144
"my" variable $type masks earlier declaration in same scope at t/50-click-coordinates-js.t line 45.
t/50-click-coordinates-js.t ....... skipped: Couldn't connect to MozRepl: Failed to connect to , problem connecting to "localhost", port 4242: Connection refused at /home/sand/src/perl/repoperls/installed-perls/host/k93jammy/v5.41.10/5674/lib/site_perl/5.41.10/MozRepl/Client.pm line 144
t/50-click-coordinates.t .......... skipped: ISMAP seems unsupported from Javascript. Need to investigate further.
t/50-click.t ...................... skipped: Couldn't connect to MozRepl: Failed to connect to , problem connecting to "localhost", port 4242: Connection refused at /home/sand/src/perl/repoperls/installed-perls/host/k93jammy/v5.41.10/5674/lib/site_perl/5.41.10/MozRepl/Client.pm line 144
t/50-follow-link.t ................ skipped: Couldn't connect to MozRepl: Failed to connect to , problem connecting to "localhost", port 4242: Connection refused at /home/sand/src/perl/repoperls/installed-perls/host/k93jammy/v5.41.10/5674/lib/site_perl/5.41.10/MozRepl/Client.pm line 144
t/50-form-with-fields.t ........... skipped: Couldn't connect to MozRepl: Failed to connect to , problem connecting to "localhost", port 4242: Connection refused at /home/sand/src/perl/repoperls/installed-perls/host/k93jammy/v5.41.10/5674/lib/site_perl/5.41.10/MozRepl/Client.pm line 144
t/50-form2.t ...................... skipped: Couldn't connect to MozRepl: Failed to connect to , problem connecting to "localhost", port 4242: Connection refused at /home/sand/src/perl/repoperls/installed-perls/host/k93jammy/v5.41.10/5674/lib/site_perl/5.41.10/MozRepl/Client.pm line 144
t/50-load-and-load.t .............. skipped: Couldn't connect to MozRepl: Failed to connect to , problem connecting to "localhost", port 4242: Connection refused at /home/sand/src/perl/repoperls/installed-perls/host/k93jammy/v5.41.10/5674/lib/site_perl/5.41.10/MozRepl/Client.pm line 144
t/50-mech-activateTab.t ........... skipped: Couldn't connect to MozRepl: Failed to connect to , problem connecting to "localhost", port 4242: Connection refused at /home/sand/src/perl/repoperls/installed-perls/host/k93jammy/v5.41.10/5674/lib/site_perl/5.41.10/MozRepl/Client.pm line 144
t/50-mech-bufsize.t ............... skipped: Couldn't connect to MozRepl: Failed to connect to , problem connecting to "localhost", port 4242: Connection refused at /home/sand/src/perl/repoperls/installed-perls/host/k93jammy/v5.41.10/5674/lib/site_perl/5.41.10/MozRepl/Client.pm line 144
t/50-mech-closeTab.t .............. skipped: Couldn't connect to MozRepl: Failed to connect to , problem connecting to "localhost", port 4242: Connection refused at /home/sand/src/perl/repoperls/installed-perls/host/k93jammy/v5.41.10/5674/lib/site_perl/5.41.10/MozRepl/Client.pm line 144
t/50-mech-content.t ............... skipped: Couldn't connect to MozRepl: Failed to connect to , problem connecting to "localhost", port 4242: Connection refused at /home/sand/src/perl/repoperls/installed-perls/host/k93jammy/v5.41.10/5674/lib/site_perl/5.41.10/MozRepl/Client.pm line 144
t/50-mech-ct.t .................... skipped: Couldn't connect to MozRepl: Failed to connect to , problem connecting to "localhost", port 4242: Connection refused at /home/sand/src/perl/repoperls/installed-perls/host/k93jammy/v5.41.10/5674/lib/site_perl/5.41.10/MozRepl/Client.pm line 144
t/50-mech-encoding.t .............. skipped: Couldn't connect to MozRepl: Failed to connect to , problem connecting to "localhost", port 4242: Connection refused at /home/sand/src/perl/repoperls/installed-perls/host/k93jammy/v5.41.10/5674/lib/site_perl/5.41.10/MozRepl/Client.pm line 144
t/50-mech-error.t ................. skipped: Couldn't connect to MozRepl: Failed to connect to , problem connecting to "localhost", port 4242: Connection refused at /home/sand/src/perl/repoperls/installed-perls/host/k93jammy/v5.41.10/5674/lib/site_perl/5.41.10/MozRepl/Client.pm line 144
t/50-mech-event.t ................. skipped: Couldn't connect to MozRepl: Failed to connect to , problem connecting to "localhost", port 4242: Connection refused at /home/sand/src/perl/repoperls/installed-perls/host/k93jammy/v5.41.10/5674/lib/site_perl/5.41.10/MozRepl/Client.pm line 144
t/50-mech-forms.t ................. skipped: Couldn't connect to MozRepl: Failed to connect to , problem connecting to "localhost", port 4242: Connection refused at /home/sand/src/perl/repoperls/installed-perls/host/k93jammy/v5.41.10/5674/lib/site_perl/5.41.10/MozRepl/Client.pm line 144
t/50-mech-get-nocache.t ........... skipped: Couldn't connect to MozRepl: Failed to connect to , problem connecting to "localhost", port 4242: Connection refused at /home/sand/src/perl/repoperls/installed-perls/host/k93jammy/v5.41.10/5674/lib/site_perl/5.41.10/MozRepl/Client.pm line 144
t/50-mech-get.t ................... skipped: Couldn't connect to MozRepl: Failed to connect to , problem connecting to "localhost", port 4242: Connection refused at /home/sand/src/perl/repoperls/installed-perls/host/k93jammy/v5.41.10/5674/lib/site_perl/5.41.10/MozRepl/Client.pm line 144
t/50-mech-multi-event.t ........... skipped: Couldn't connect to MozRepl: Failed to connect to , problem connecting to "localhost", port 4242: Connection refused at /home/sand/src/perl/repoperls/installed-perls/host/k93jammy/v5.41.10/5674/lib/site_perl/5.41.10/MozRepl/Client.pm line 144
t/50-mech-new-dsl.t ............... skipped: Couldn't connect to MozRepl: Failed to connect to , problem connecting to "localhost", port 4242: Connection refused at /home/sand/src/perl/repoperls/installed-perls/host/k93jammy/v5.41.10/5674/lib/site_perl/5.41.10/MozRepl/Client.pm line 144
t/50-mech-new-with-tab.t .......... skipped: Couldn't connect to MozRepl: Failed to connect to , problem connecting to "localhost", port 4242: Connection refused at /home/sand/src/perl/repoperls/installed-perls/host/k93jammy/v5.41.10/5674/lib/site_perl/5.41.10/MozRepl/Client.pm line 144
t/50-mech-new.t ................... skipped: Couldn't connect to MozRepl: Failed to connect to , problem connecting to "localhost", port 4242: Connection refused at /home/sand/src/perl/repoperls/installed-perls/host/k93jammy/v5.41.10/5674/lib/site_perl/5.41.10/MozRepl/Client.pm line 144
t/50-mech-post.t .................. skipped: Couldn't connect to MozRepl: Failed to connect to , problem connecting to "localhost", port 4242: Connection refused at /home/sand/src/perl/repoperls/installed-perls/host/k93jammy/v5.41.10/5674/lib/site_perl/5.41.10/MozRepl/Client.pm line 144
t/50-mech-save-dialog.t ........... skipped: Couldn't connect to MozRepl: Failed to connect to , problem connecting to "localhost", port 4242: Connection refused at /home/sand/src/perl/repoperls/installed-perls/host/k93jammy/v5.41.10/5674/lib/site_perl/5.41.10/MozRepl/Client.pm line 144
t/50-mech-set-fields-875912.t ..... skipped: Couldn't connect to MozRepl: Failed to connect to , problem connecting to "localhost", port 4242: Connection refused at /home/sand/src/perl/repoperls/installed-perls/host/k93jammy/v5.41.10/5674/lib/site_perl/5.41.10/MozRepl/Client.pm line 144
t/50-mech-status.t ................ skipped: Couldn't connect to MozRepl: Failed to connect to , problem connecting to "localhost", port 4242: Connection refused at /home/sand/src/perl/repoperls/installed-perls/host/k93jammy/v5.41.10/5674/lib/site_perl/5.41.10/MozRepl/Client.pm line 144
t/50-popup.t ...................... skipped: Opening windows are not yet tracked
t/50-rt65615.t .................... skipped: Couldn't connect to MozRepl: Failed to connect to , problem connecting to "localhost", port 4242: Connection refused at /home/sand/src/perl/repoperls/installed-perls/host/k93jammy/v5.41.10/5674/lib/site_perl/5.41.10/MozRepl/Client.pm line 144
t/50-tick.t ....................... skipped: Couldn't connect to MozRepl: Failed to connect to , problem connecting to "localhost", port 4242: Connection refused at /home/sand/src/perl/repoperls/installed-perls/host/k93jammy/v5.41.10/5674/lib/site_perl/5.41.10/MozRepl/Client.pm line 144
t/51-click_button.t ............... skipped: Couldn't connect to MozRepl: Failed to connect to , problem connecting to "localhost", port 4242: Connection refused at /home/sand/src/perl/repoperls/installed-perls/host/k93jammy/v5.41.10/5674/lib/site_perl/5.41.10/MozRepl/Client.pm line 144
t/51-click_js.t ................... skipped: Couldn't connect to MozRepl: Failed to connect to , problem connecting to "localhost", port 4242: Connection refused at /home/sand/src/perl/repoperls/installed-perls/host/k93jammy/v5.41.10/5674/lib/site_perl/5.41.10/MozRepl/Client.pm line 144
t/51-form-number-blakew.t ......... skipped: Couldn't connect to MozRepl: Failed to connect to , problem connecting to "localhost", port 4242: Connection refused at /home/sand/src/perl/repoperls/installed-perls/host/k93jammy/v5.41.10/5674/lib/site_perl/5.41.10/MozRepl/Client.pm line 144
t/51-mech-field.t ................. skipped: Couldn't connect to MozRepl: Failed to connect to , problem connecting to "localhost", port 4242: Connection refused at /home/sand/src/perl/repoperls/installed-perls/host/k93jammy/v5.41.10/5674/lib/site_perl/5.41.10/MozRepl/Client.pm line 144
t/51-mech-form-with-fields.t ...... skipped: Couldn't connect to MozRepl: Failed to connect to , problem connecting to "localhost", port 4242: Connection refused at /home/sand/src/perl/repoperls/installed-perls/host/k93jammy/v5.41.10/5674/lib/site_perl/5.41.10/MozRepl/Client.pm line 144
t/51-mech-links.t ................. skipped: Couldn't connect to MozRepl: Failed to connect to , problem connecting to "localhost", port 4242: Connection refused at /home/sand/src/perl/repoperls/installed-perls/host/k93jammy/v5.41.10/5674/lib/site_perl/5.41.10/MozRepl/Client.pm line 144
t/51-mech-navigation.t ............ skipped: Couldn't connect to MozRepl: Failed to connect to , problem connecting to "localhost", port 4242: Connection refused at /home/sand/src/perl/repoperls/installed-perls/host/k93jammy/v5.41.10/5674/lib/site_perl/5.41.10/MozRepl/Client.pm line 144
t/51-mech-sandbox.t ............... skipped: Couldn't connect to MozRepl: Failed to connect to , problem connecting to "localhost", port 4242: Connection refused at /home/sand/src/perl/repoperls/installed-perls/host/k93jammy/v5.41.10/5674/lib/site_perl/5.41.10/MozRepl/Client.pm line 144
t/51-mech-set-content.t ........... skipped: Couldn't connect to MozRepl: Failed to connect to , problem connecting to "localhost", port 4242: Connection refused at /home/sand/src/perl/repoperls/installed-perls/host/k93jammy/v5.41.10/5674/lib/site_perl/5.41.10/MozRepl/Client.pm line 144
t/51-mech-submit.t ................ skipped: Couldn't connect to MozRepl: Failed to connect to , problem connecting to "localhost", port 4242: Connection refused at /home/sand/src/perl/repoperls/installed-perls/host/k93jammy/v5.41.10/5674/lib/site_perl/5.41.10/MozRepl/Client.pm line 144
t/52-frame-document.t ............. skipped: Couldn't connect to MozRepl: Failed to connect to , problem connecting to "localhost", port 4242: Connection refused at /home/sand/src/perl/repoperls/installed-perls/host/k93jammy/v5.41.10/5674/lib/site_perl/5.41.10/MozRepl/Client.pm line 144
t/52-frame-event.t ................ skipped: Couldn't connect to MozRepl: Failed to connect to , problem connecting to "localhost", port 4242: Connection refused at /home/sand/src/perl/repoperls/installed-perls/host/k93jammy/v5.41.10/5674/lib/site_perl/5.41.10/MozRepl/Client.pm line 144
t/52-mech-api-find_link-frames.t .. skipped: Couldn't connect to MozRepl: Failed to connect to , problem connecting to "localhost", port 4242: Connection refused at /home/sand/src/perl/repoperls/installed-perls/host/k93jammy/v5.41.10/5674/lib/site_perl/5.41.10/MozRepl/Client.pm line 144
t/52-mech-api-find_link.t ......... skipped: Couldn't connect to MozRepl: Failed to connect to , problem connecting to "localhost", port 4242: Connection refused at /home/sand/src/perl/repoperls/installed-perls/host/k93jammy/v5.41.10/5674/lib/site_perl/5.41.10/MozRepl/Client.pm line 144
t/52-mech-xpath.t ................. skipped: Couldn't connect to MozRepl: Failed to connect to , problem connecting to "localhost", port 4242: Connection refused at /home/sand/src/perl/repoperls/installed-perls/host/k93jammy/v5.41.10/5674/lib/site_perl/5.41.10/MozRepl/Client.pm line 144
t/52-selector-frames.t ............ skipped: Couldn't connect to MozRepl: Failed to connect to , problem connecting to "localhost", port 4242: Connection refused at /home/sand/src/perl/repoperls/installed-perls/host/k93jammy/v5.41.10/5674/lib/site_perl/5.41.10/MozRepl/Client.pm line 144
t/52-selector-noframes.t .......... skipped: Couldn't connect to MozRepl: Failed to connect to , problem connecting to "localhost", port 4242: Connection refused at /home/sand/src/perl/repoperls/installed-perls/host/k93jammy/v5.41.10/5674/lib/site_perl/5.41.10/MozRepl/Client.pm line 144
t/52-selector-relative.t .......... skipped: Couldn't connect to MozRepl: Failed to connect to , problem connecting to "localhost", port 4242: Connection refused at /home/sand/src/perl/repoperls/installed-perls/host/k93jammy/v5.41.10/5674/lib/site_perl/5.41.10/MozRepl/Client.pm line 144
t/53-mech-capture-js-error.t ...... skipped: Couldn't connect to MozRepl: Failed to connect to , problem connecting to "localhost", port 4242: Connection refused at /home/sand/src/perl/repoperls/installed-perls/host/k93jammy/v5.41.10/5674/lib/site_perl/5.41.10/MozRepl/Client.pm line 144
t/55-basic-auth.t ................. skipped: presetting auth does not work yet
t/60-mech-cookies.t ............... skipped: Couldn't connect to MozRepl: Failed to connect to , problem connecting to "localhost", port 4242: Connection refused at /home/sand/src/perl/repoperls/installed-perls/host/k93jammy/v5.41.10/5674/lib/site_perl/5.41.10/MozRepl/Client.pm line 144
t/60-mech-custom-headers.t ........ skipped: Couldn't connect to MozRepl: Failed to connect to , problem connecting to "localhost", port 4242: Connection refused at /home/sand/src/perl/repoperls/installed-perls/host/k93jammy/v5.41.10/5674/lib/site_perl/5.41.10/MozRepl/Client.pm line 144
t/65-is_visible.t ................. skipped: Couldn't connect to MozRepl: Failed to connect to , problem connecting to "localhost", port 4242: Connection refused at /home/sand/src/perl/repoperls/installed-perls/host/k93jammy/v5.41.10/5674/lib/site_perl/5.41.10/MozRepl/Client.pm line 144
t/65-mech-meta.t .................. skipped: Couldn't connect to MozRepl: Failed to connect to , problem connecting to "localhost", port 4242: Connection refused at /home/sand/src/perl/repoperls/installed-perls/host/k93jammy/v5.41.10/5674/lib/site_perl/5.41.10/MozRepl/Client.pm line 144
t/65-set_visible.t ................ skipped: Couldn't connect to MozRepl: Failed to connect to , problem connecting to "localhost", port 4242: Connection refused at /home/sand/src/perl/repoperls/installed-perls/host/k93jammy/v5.41.10/5674/lib/site_perl/5.41.10/MozRepl/Client.pm line 144
t/70-download-url.t ............... skipped: Couldn't connect to MozRepl: Failed to connect to , problem connecting to "localhost", port 4242: Connection refused at /home/sand/src/perl/repoperls/installed-perls/host/k93jammy/v5.41.10/5674/lib/site_perl/5.41.10/MozRepl/Client.pm line 144
t/70-mech-png.t ................... skipped: Couldn't connect to MozRepl: Failed to connect to , problem connecting to "localhost", port 4242: Connection refused at /home/sand/src/perl/repoperls/installed-perls/host/k93jammy/v5.41.10/5674/lib/site_perl/5.41.10/MozRepl/Client.pm line 144
t/70-real-status.t ................ skipped: Couldn't connect to MozRepl: Failed to connect to , problem connecting to "localhost", port 4242: Connection refused at /home/sand/src/perl/repoperls/installed-perls/host/k93jammy/v5.41.10/5674/lib/site_perl/5.41.10/MozRepl/Client.pm line 144
t/70-rt70106-reload.t ............. skipped: Couldn't connect to MozRepl: Failed to connect to , problem connecting to "localhost", port 4242: Connection refused at /home/sand/src/perl/repoperls/installed-perls/host/k93jammy/v5.41.10/5674/lib/site_perl/5.41.10/MozRepl/Client.pm line 144
t/70-rt71216.t .................... skipped: Couldn't connect to MozRepl: Failed to connect to , problem connecting to "localhost", port 4242: Connection refused at /home/sand/src/perl/repoperls/installed-perls/host/k93jammy/v5.41.10/5674/lib/site_perl/5.41.10/MozRepl/Client.pm line 144
t/70-tag-team.t ................... skipped: Couldn't connect to MozRepl: Failed to connect to , problem connecting to "localhost", port 4242: Connection refused at /home/sand/src/perl/repoperls/installed-perls/host/k93jammy/v5.41.10/5674/lib/site_perl/5.41.10/MozRepl/Client.pm line 144
t/70-two-instances.t .............. skipped: Couldn't connect to MozRepl: Failed to connect to , problem connecting to "localhost", port 4242: Connection refused at /home/sand/src/perl/repoperls/installed-perls/host/k93jammy/v5.41.10/5674/lib/site_perl/5.41.10/MozRepl/Client.pm line 144
t/70-urlbar.t ..................... skipped: Couldn't connect to MozRepl: Failed to connect to , problem connecting to "localhost", port 4242: Connection refused at /home/sand/src/perl/repoperls/installed-perls/host/k93jammy/v5.41.10/5674/lib/site_perl/5.41.10/MozRepl/Client.pm line 144
t/75-save_url-cookies.t ........... skipped: Couldn't connect to MozRepl: Failed to connect to , problem connecting to "localhost", port 4242: Connection refused at /home/sand/src/perl/repoperls/installed-perls/host/k93jammy/v5.41.10/5674/lib/site_perl/5.41.10/MozRepl/Client.pm line 144
t/mechanize/autocheck.t ........... skipped: Couldn't connect to MozRepl: Failed to connect to , problem connecting to "localhost", port 4242: Connection refused at /home/sand/src/perl/repoperls/installed-perls/host/k93jammy/v5.41.10/5674/lib/site_perl/5.41.10/MozRepl/Client.pm line 144
t/mechanize/content.t ............. skipped: Couldn't connect to MozRepl: Failed to connect to , problem connecting to "localhost", port 4242: Connection refused at /home/sand/src/perl/repoperls/installed-perls/host/k93jammy/v5.41.10/5674/lib/site_perl/5.41.10/MozRepl/Client.pm line 144
t/rt65615.t ....................... skipped: Couldn't connect to MozRepl: Failed to connect to , problem connecting to "localhost", port 4242: Connection refused at /home/sand/src/perl/repoperls/installed-perls/host/k93jammy/v5.41.10/5674/lib/site_perl/5.41.10/MozRepl/Client.pm line 144
t/rt78706.t ....................... skipped: Couldn't connect to MozRepl: Failed to connect to , problem connecting to "localhost", port 4242: Connection refused at /home/sand/src/perl/repoperls/installed-perls/host/k93jammy/v5.41.10/5674/lib/site_perl/5.41.10/MozRepl/Client.pm line 144
t/rt84418.t ....................... skipped: Couldn't connect to MozRepl: Failed to connect to , problem connecting to "localhost", port 4242: Connection refused at /home/sand/src/perl/repoperls/installed-perls/host/k93jammy/v5.41.10/5674/lib/site_perl/5.41.10/MozRepl/Client.pm line 144
t/rt88100-continuation.t .......... skipped: Couldn't connect to MozRepl: Failed to connect to , problem connecting to "localhost", port 4242: Connection refused at /home/sand/src/perl/repoperls/installed-perls/host/k93jammy/v5.41.10/5674/lib/site_perl/5.41.10/MozRepl/Client.pm line 144
t/select.t ........................ skipped: Couldn't connect to MozRepl: Failed to connect to , problem connecting to "localhost", port 4242: Connection refused at /home/sand/src/perl/repoperls/installed-perls/host/k93jammy/v5.41.10/5674/lib/site_perl/5.41.10/MozRepl/Client.pm line 144
All tests successful.
Files=82, Tests=1, 15 wallclock secs ( 0.15 usr 0.10 sys + 12.28 cusr 2.33 csys = 14.86 CPU)
Result: PASS
------------------------------
PREREQUISITES
------------------------------
Prerequisite modules loaded:
requires:
Module Need Have
----------------------- ----- --------
Cwd 0 3.92
File::Basename 0 2.86
HTML::Selector::XPath 0 0.28
HTTP::Cookies 0 6.11
HTTP::Date 0 6.06
HTTP::Request::Common 0 7.00
HTTP::Response 0 7.00
MIME::Base64 0 3.16_01
MozRepl::RemoteObject 0.39 0.40
Object::Import 0 1.006
parent 0 0.244
perl 5.006 5.041010
Scalar::Util 1.14 1.68_01
Shell::Command 0 0.06
URI 0 5.31
URI::data 0 5.31
WWW::Mechanize 0 2.19
WWW::Mechanize::Link 0 2.19
build_requires:
Module Need Have
----------------------- ----- --------
Data::Dumper 0 2.191
ExtUtils::MakeMaker 0 7.72
Image::Info 0 1.45
Test::Deep 0 1.204
Test::HTTP::LocalServer 0.61 0.76
Test::More 0 1.302209
URI 0 5.31
URI::file 0 5.31
configure_requires:
Module Need Have
----------------------- ----- --------
ExtUtils::MakeMaker 0 7.72
------------------------------
ENVIRONMENT AND OTHER CONTEXT
------------------------------
Environment variables:
AUTOMATED_TESTING = 1
LANG = en_US.UTF-8
LC_ADDRESS = de_DE.UTF-8
LC_IDENTIFICATION = de_DE.UTF-8
LC_MEASUREMENT = de_DE.UTF-8
LC_MONETARY = de_DE.UTF-8
LC_NAME = de_DE.UTF-8
LC_NUMERIC = de_DE.UTF-8
LC_PAPER = de_DE.UTF-8
LC_TELEPHONE = de_DE.UTF-8
LC_TIME = de_DE.UTF-8
PATH = /home/sand/bin:/usr/local/bin:/usr/local/sbin:/usr/sbin:/usr/bin:/sbin:/bin:/usr/games:/usr/local/games:/snap/bin:/usr/local/perl/bin:/usr/X11/bin
PERL = /tmp/basesmoker-reloperl-9UT2/bin/perl
PERL5LIB = /tmp/loop_over_bdir-3593637-VVSC4F/Captive-Portal-4.10-0/blib/arch:/tmp/loop_over_bdir-3593637-VVSC4F/Captive-Portal-4.10-0/blib/lib:/tmp/loop_over_bdir-3593637-VVSC4F/Net-OpenVPN-DDNS-0.1-0/blib/arch:/tmp/loop_over_bdir-3593637-VVSC4F/Net-OpenVPN-DDNS-0.1-0/blib/lib
PERL5OPT =
PERL5_CPANPLUS_IS_RUNNING = 3593645
PERL5_CPAN_IS_RUNNING = 3593645
PERL_CANARY_STABILITY_NOPROMPT = 1
PERL_MM_USE_DEFAULT = 1
PERL_USE_UNSAFE_INC = 1
SHELL = /usr/bin/zsh
TERM = screen
Perl special variables (and OS-specific diagnostics, for MSWin32):
$^X = /tmp/basesmoker-reloperl-9UT2/bin/perl
$UID/$EUID = 1005 / 1005
$GID = 1005 1005
$EGID = 1005 1005
Perl module toolchain versions installed:
Module Have
------------------- --------
CPAN 2.38
CPAN::Meta 2.150010
Cwd 3.92
ExtUtils::CBuilder 0.280240
ExtUtils::Command 7.72
ExtUtils::Install 2.22
ExtUtils::MakeMaker 7.72
ExtUtils::Manifest 1.75
ExtUtils::ParseXS 3.57
File::Spec 3.93
JSON 4.10
JSON::PP 4.16
Module::Build 0.4234
Module::Signature 0.89
Parse::CPAN::Meta 2.150010
Test2 1.302209
Test::Harness 3.50
Test::More 1.302209
YAML 1.31
YAML::Syck 1.34
version 0.9933
--
Summary of my perl5 (revision 5 version 41 subversion 10) configuration:
Commit id: 6a1cf63fc3f0e8d25b8f3837f9ca46b3bbc65885
Platform:
osname=linux
osvers=6.8.0-52-generic
archname=x86_64-linux-ld
uname='linux k93jammy 6.8.0-52-generic #53~22.04.1-ubuntu smp preempt_dynamic wed jan 15 19:18:46 utc 2 x86_64 x86_64 x86_64 gnulinux '
config_args='-Dprefix=/home/sand/src/perl/repoperls/installed-perls/host/k93jammy/v5.41.10/5674 -Dmyhostname=k93jammy -Dinstallusrbinperl=n -Uversiononly -Dusedevel -des -Ui_db -Dlibswanted=cl pthread socket inet nsl gdbm dbm malloc dl ld sun m crypt sec util c cposix posix ucb BSD gdbm_compat -Uuseithreads -Duselongdouble -DEBUGGING=-g'
hint=recommended
useposix=true
d_sigaction=define
useithreads=undef
usemultiplicity=undef
use64bitint=define
use64bitall=define
uselongdouble=define
usemymalloc=n
default_inc_excludes_dot=define
Compiler:
cc='cc'
ccflags ='-fwrapv -fno-strict-aliasing -pipe -fstack-protector-strong -I/usr/local/include -D_LARGEFILE_SOURCE -D_FILE_OFFSET_BITS=64'
optimize='-O2 -g'
cppflags='-fwrapv -fno-strict-aliasing -pipe -fstack-protector-strong -I/usr/local/include'
ccversion=''
gccversion='11.4.0'
gccosandvers=''
intsize=4
longsize=8
ptrsize=8
doublesize=8
byteorder=12345678
doublekind=3
d_longlong=define
longlongsize=8
d_longdbl=define
longdblsize=16
longdblkind=3
ivtype='long'
ivsize=8
nvtype='long double'
nvsize=16
Off_t='off_t'
lseeksize=8
alignbytes=16
prototype=define
Linker and Libraries:
ld='cc'
ldflags =' -fstack-protector-strong -L/usr/local/lib'
libpth=/usr/local/lib /usr/lib/x86_64-linux-gnu /usr/lib /usr/lib64
libs=-lpthread -lnsl -ldl -lm -lcrypt -lutil -lc
perllibs=-lpthread -lnsl -ldl -lm -lcrypt -lutil -lc
libc=/lib/x86_64-linux-gnu/libc.so.6
so=so
useshrplib=false
libperl=libperl.a
gnulibc_version='2.35'
Dynamic Linking:
dlsrc=dl_dlopen.xs
dlext=so
d_dlsymun=undef
ccdlflags='-Wl,-E'
cccdlflags='-fPIC'
lddlflags='-shared -O2 -g -L/usr/local/lib -fstack-protector-strong'
Characteristics of this binary (from libperl):
Compile-time options:
HAS_LONG_DOUBLE
HAS_STRTOLD
HAS_TIMES
PERLIO_LAYERS
PERL_COPY_ON_WRITE
PERL_DONT_CREATE_GVSV
PERL_HASH_FUNC_SIPHASH13
PERL_HASH_USE_SBOX32
PERL_MALLOC_WRAP
PERL_OP_PARENT
PERL_PRESERVE_IVUV
PERL_USE_DEVEL
PERL_USE_SAFE_PUTENV
USE_64_BIT_ALL
USE_64_BIT_INT
USE_LARGE_FILES
USE_LOCALE
USE_LOCALE_COLLATE
USE_LOCALE_CTYPE
USE_LOCALE_NUMERIC
USE_LOCALE_TIME
USE_LONG_DOUBLE
USE_PERLIO
USE_PERL_ATOF
Built under linux
Compiled at Mar 25 2025 14:46:27
%ENV:
PERL="/tmp/basesmoker-reloperl-9UT2/bin/perl"
PERL5LIB="/tmp/loop_over_bdir-3593637-VVSC4F/Captive-Portal-4.10-0/blib/arch:/tmp/loop_over_bdir-3593637-VVSC4F/Captive-Portal-4.10-0/blib/lib:/tmp/loop_over_bdir-3593637-VVSC4F/Net-OpenVPN-DDNS-0.1-0/blib/arch:/tmp/loop_over_bdir-3593637-VVSC4F/Net-OpenVPN-DDNS-0.1-0/blib/lib"
PERL5OPT=""
PERL5_CPANPLUS_IS_RUNNING="3593645"
PERL5_CPAN_IS_RUNNING="3593645"
PERL_CANARY_STABILITY_NOPROMPT="1"
PERL_MM_USE_DEFAULT="1"
PERL_USE_UNSAFE_INC="1"
@INC:
/tmp/loop_over_bdir-3593637-VVSC4F/Captive-Portal-4.10-0/blib/arch
/tmp/loop_over_bdir-3593637-VVSC4F/Captive-Portal-4.10-0/blib/lib
/tmp/loop_over_bdir-3593637-VVSC4F/Net-OpenVPN-DDNS-0.1-0/blib/arch
/tmp/loop_over_bdir-3593637-VVSC4F/Net-OpenVPN-DDNS-0.1-0/blib/lib
/home/sand/src/perl/repoperls/installed-perls/host/k93jammy/v5.41.10/5674/lib/site_perl/5.41.10/x86_64-linux-ld
/home/sand/src/perl/repoperls/installed-perls/host/k93jammy/v5.41.10/5674/lib/site_perl/5.41.10
/home/sand/src/perl/repoperls/installed-perls/host/k93jammy/v5.41.10/5674/lib/5.41.10/x86_64-linux-ld
/home/sand/src/perl/repoperls/installed-perls/host/k93jammy/v5.41.10/5674/lib/5.41.10
.