Report for Test-NewVersion-0.003

Back
From: metabase:user:314402c4-2aae-11df-837a-5e0a49663a4f
Subject: PASS Test-NewVersion-0.003 v5.21.9 FreeBSD
Date: 2015-03-13T03:10:02Z

This distribution has been tested as part of the CPAN Testers
project, supporting the Perl programming language.  See
http://wiki.cpantesters.org/ for more information or email
questions to cpan-testers-discuss@perl.org


--
Dear Karen Etheridge,

This is a computer-generated report for Test-NewVersion-0.003
on perl 5.21.9, created by CPAN-Reporter-1.2011.

Thank you for uploading your work to CPAN.  Congratulations!
All tests were successful.

Sections of this report:

    * Tester comments
    * Program output
    * Prerequisites
    * Environment and other context

------------------------------
TESTER COMMENTS
------------------------------

Additional comments from tester:

none provided

------------------------------
PROGRAM OUTPUT
------------------------------

Output from './Build test':


# Versions for all modules listed in MYMETA.json (including optional ones):
# 
# === Configure Requires ===
# 
#     Module               Want  Have
#     ------------------- ----- -----
#     Module::Build::Tiny 0.039 0.039
# 
# === Test Requires ===
# 
#     Module               Want         Have
#     ------------------- ----- ------------
#     Data::Dumper          any        2.157
#     ExtUtils::MakeMaker   any         7.04
#     File::Spec            any         3.53
#     File::pushd           any        1.009
#     Path::Tiny            any        0.065
#     Test::Deep            any        0.115
#     Test::More            any 1.301001_098
#     Test::Tester        0.108 1.301001_098
#     Test::Warnings        any        0.020
#     if                    any       0.0603
#     lib                   any         0.63
# 
# === Test Recommends ===
# 
#     Module         Want     Have
#     ---------- -------- --------
#     CPAN::Meta 2.120900 2.150001
# 
# === Runtime Requires ===
# 
#     Module               Want         Have
#     ---------------- -------- ------------
#     CPAN::Meta       2.120920     2.150001
#     Encode                any         2.71
#     Exporter              any         5.72
#     File::Find            any         1.29
#     File::Spec            any         3.53
#     HTTP::Headers         any         6.05
#     HTTP::Tiny            any        0.054
#     JSON::MaybeXS         any     1.003003
#     List::Util            any         1.41
#     Module::Metadata      any     1.000026
#     Test::Builder        0.88 1.301001_098
#     parent                any        0.231
#     strict                any         1.09
#     version               any       0.9909
#     warnings              any         1.31
# 
t/00-report-prereqs.t .. ok
t/01-basic.t ........... ok
t/03-pod.t ............. ok
t/04-blib.t ............ ok
All tests successful.
Files=4, Tests=7,  2 wallclock secs ( 0.05 usr  0.02 sys +  1.21 cusr  0.12 csys =  1.41 CPU)
Result: PASS

------------------------------
PREREQUISITES
------------------------------

Prerequisite modules loaded:

requires:

    Module              Need     Have        
    ------------------- -------- ------------
    CPAN::Meta          2.120920 2.150001    
    Encode              0        2.71        
    Exporter            0        5.72        
    File::Find          0        1.29        
    File::Spec          0        3.53        
    HTTP::Headers       0        6.05        
    HTTP::Tiny          0        0.054       
    JSON::MaybeXS       0        1.003003    
    List::Util          0        1.41        
    Module::Metadata    0        1.000026    
    parent              0        0.231       
    perl                5.006    5.021009    
    strict              0        1.09        
    Test::Builder       0.88     1.301001_098
    version             0        0.9909      
    warnings            0        1.31        

build_requires:

    Module              Need     Have        
    ------------------- -------- ------------
    Data::Dumper        0        2.157       
    ExtUtils::MakeMaker 0        7.04        
    File::pushd         0        1.009       
    File::Spec          0        3.53        
    if                  0        0.0603      
    lib                 0        0.63        
    Path::Tiny          0        0.065       
    perl                5.006    5.021009    
    Test::Deep          0        0.115       
    Test::More          0        1.301001_098
    Test::Tester        0.108    1.301001_098
    Test::Warnings      0        0.020       

configure_requires:

    Module              Need     Have        
    ------------------- -------- ------------
    Module::Build::Tiny 0.039    0.039       
    perl                5.006    5.021009    


------------------------------
ENVIRONMENT AND OTHER CONTEXT
------------------------------

Environment variables:

    DBIC_NO_WARN_BAD_PERL = 1
    LC_ALL = de_DE.ISO8859-1
    PATH = /usr/local/bin:/usr/bin:/bin:/usr/local/sbin:/usr/sbin:/sbin:/home/cpansand/bin/freebsd10.0:/home/cpansand/bin/sh:/home/cpansand/bin:/usr/games:/home/cpansand/devel:/home/eserte/src/srezic-misc/scripts
    PERL5LIB = 
    PERL5OPT = 
    PERL5_CPANPLUS_IS_RUNNING = 38732
    PERL5_CPAN_IS_RUNNING = 38732
    PERL5_CPAN_IS_RUNNING_IN_RECURSION = 38696,38732
    PERLDOC = -MPod::Perldoc::ToTextOverstrike
    PERL_BATCH = yes
    PERL_CPAN_REPORTER_CONFIG = /var/tmp/cpansmoker-1023/C8sovLz3PI_config.ini
    PERL_EXTUTILS_AUTOINSTALL = --defaultdeps
    PERL_HTML_DISPLAY_CLASS = HTML::Display::Mozilla
    SHELL = /usr/local/bin/zsh
    TERM = screen
    TMPDIR = /var/tmp/cpansmoker-1023

Perl special variables (and OS-specific diagnostics, for MSWin32):

    $^X = /usr/perl5.21.9p/bin/perl5.21.9
    $UID/$EUID = 1023 / 1023
    $GID = 1023 1023
    $EGID = 1023 1023

Perl module toolchain versions installed:

    Module              Have        
    ------------------- ------------
    CPAN                2.05        
    CPAN::Meta          2.150001    
    Cwd                 3.54        
    ExtUtils::CBuilder  0.280221    
    ExtUtils::Command   1.20        
    ExtUtils::Install   2.04        
    ExtUtils::MakeMaker 7.04        
    ExtUtils::Manifest  1.70        
    ExtUtils::ParseXS   3.27        
    File::Spec          3.53        
    JSON                2.90        
    JSON::PP            2.27300     
    Module::Build       0.4211      
    Module::Signature   n/a         
    Parse::CPAN::Meta   1.4414      
    Test::Harness       3.35        
    Test::More          1.301001_098
    YAML                1.14        
    YAML::Syck          1.29        
    version             0.9909      


--

Summary of my perl5 (revision 5 version 21 subversion 9) configuration:
   
  Platform:
    osname=freebsd, osvers=10.1-release, archname=amd64-freebsd
    uname='freebsd cvrsnica-freebsd-101.herceg.de 10.1-release freebsd 10.1-release #0 r274401: tue nov 11 21:02:49 utc 2014 root@releng1.nyi.freebsd.org:usrobjusrsrcsysgeneric amd64 '
    config_args='-ds -e -Dprefix=/usr/perl5.21.9p -Dusedevel -Dusemallocwrap=no'
    hint=recommended, useposix=true, d_sigaction=define
    useithreads=undef, usemultiplicity=undef
    use64bitint=define, use64bitall=define, uselongdouble=undef
    usemymalloc=n, bincompat5005=undef
  Compiler:
    cc='cc', ccflags ='-DHAS_FPSETMASK -DHAS_FLOATINGPOINT_H -fno-strict-aliasing -pipe -fstack-protector -I/usr/local/include -D_FORTIFY_SOURCE=2',
    optimize='-O',
    cppflags='-DHAS_FPSETMASK -DHAS_FLOATINGPOINT_H -fno-strict-aliasing -pipe -fstack-protector -I/usr/local/include'
    ccversion='', gccversion='4.2.1 Compatible FreeBSD Clang 3.4.1 (tags/RELEASE_34/dot1-final 208032)', gccosandvers=''
    intsize=4, longsize=8, ptrsize=8, doublesize=8, byteorder=12345678, doublekind=3
    d_longlong=define, longlongsize=8, d_longdbl=define, longdblsize=16, longdblkind=3
    ivtype='long', ivsize=8, nvtype='double', nvsize=8, Off_t='off_t', lseeksize=8
    alignbytes=8, prototype=define
  Linker and Libraries:
    ld='cc', ldflags ='-pthread -Wl,-E  -fstack-protector -L/usr/local/lib'
    libpth=/usr/lib /usr/local/lib /usr/include/clang/3.4.1 /usr/lib
    libs=-lpthread -lgdbm -lm -lcrypt -lutil -lc
    perllibs=-lpthread -lm -lcrypt -lutil -lc
    libc=, so=so, useshrplib=false, libperl=libperl.a
    gnulibc_version=''
  Dynamic Linking:
    dlsrc=dl_dlopen.xs, dlext=so, d_dlsymun=undef, ccdlflags=' '
    cccdlflags='-DPIC -fPIC', lddlflags='-shared  -L/usr/local/lib -fstack-protector'


Characteristics of this binary (from libperl): 
  Compile-time options: HAS_TIMES PERLIO_LAYERS PERL_DONT_CREATE_GVSV
                        PERL_HASH_FUNC_ONE_AT_A_TIME_HARD
                        PERL_NEW_COPY_ON_WRITE PERL_PRESERVE_IVUV
                        PERL_USE_DEVEL USE_64_BIT_ALL USE_64_BIT_INT
                        USE_LARGE_FILES USE_LOCALE USE_LOCALE_COLLATE
                        USE_LOCALE_CTYPE USE_LOCALE_NUMERIC USE_LOCALE_TIME
                        USE_PERLIO USE_PERL_ATOF
  Built under freebsd
  Compiled at Feb 21 2015 09:35:35
  %ENV:
    PERL5LIB=""
    PERL5OPT=""
    PERL5_CPANPLUS_IS_RUNNING="38732"
    PERL5_CPAN_IS_RUNNING="38732"
    PERL5_CPAN_IS_RUNNING_IN_RECURSION="38696,38732"
    PERLDOC="-MPod::Perldoc::ToTextOverstrike"
    PERL_BATCH="yes"
    PERL_CPAN_REPORTER_CONFIG="/var/tmp/cpansmoker-1023/C8sovLz3PI_config.ini"
    PERL_EXTUTILS_AUTOINSTALL="--defaultdeps"
    PERL_HTML_DISPLAY_CLASS="HTML::Display::Mozilla"
  @INC:
    /usr/perl5.21.9p/lib/site_perl/5.21.9/amd64-freebsd
    /usr/perl5.21.9p/lib/site_perl/5.21.9
    /usr/perl5.21.9p/lib/5.21.9/amd64-freebsd
    /usr/perl5.21.9p/lib/5.21.9
    .