Report for Array-GroupBy-v0.0.4

Back
From: metabase:user:cd035d39-6d5b-1014-ab3a-39c0c09612a1
Subject: PASS Array-GroupBy-v0.0.4 v5.18.2 GNU/Linux
Date: 2014-04-15T21:39:35Z

This distribution has been tested as part of the CPAN Testers
project, supporting the Perl programming language.  See
http://wiki.cpantesters.org/ for more information or email
questions to cpan-testers-discuss@perl.org


--
Dear Sam Brain,

This is a computer-generated report for Array-GroupBy-v0.0.4
on perl 5.18.2, created by CPAN-Reporter-1.2011.

Thank you for uploading your work to CPAN.  Congratulations!
All tests were successful.

Sections of this report:

    * Tester comments
    * Program output
    * Prerequisites
    * Environment and other context

------------------------------
TESTER COMMENTS
------------------------------

Additional comments from tester:

this report is from an automated smoke testing program
and was not reviewed by a human for accuracy

------------------------------
PROGRAM OUTPUT
------------------------------

Output from './Build test':

# Testing Array::GroupBy 0.0.4
t/00.load.t ....... ok
t/1.t ............. ok
t/2.t ............. ok
t/3.t ............. ok
t/4.t ............. ok
t/5.t ............. ok
t/6.t ............. ok
t/7.t ............. skipped: Moose needed
t/perlcritic.t .... skipped: Test::Perl::Critic required to criticise code
t/pod-coverage.t .. skipped: Test::Pod::Coverage 1.04 required for testing POD coverage
t/pod.t ........... skipped: Test::Pod 1.14 required for testing POD
All tests successful.
Files=11, Tests=55, 20 wallclock secs ( 0.86 usr  0.13 sys +  7.33 cusr  0.63 csys =  8.95 CPU)
Result: PASS

------------------------------
PREREQUISITES
------------------------------

Prerequisite modules loaded:

requires:

    Module           Need Have    
    ---------------- ---- --------
    Carp             1.25 1.33    
    List::Util       1.23 1.38    
    Params::Validate 1    1.08    
    Test::More       0    1.001003
    version          0    0.9908  

configure_requires:

    Module           Need Have    
    ---------------- ---- --------
    Module::Build    0.38 0.4205  


------------------------------
ENVIRONMENT AND OTHER CONTEXT
------------------------------

Environment variables:

    AUTOMATED_TESTING = 1
    LC_CTYPE = de_AT.utf8
    PATH = /srv/smoker/bin:/usr/lib/ccache:/srv/smoker/perl5/perlbrew/bin:/srv/smoker/perl5/perlbrew/perls/perl-5.18.1/bin:/usr/local/bin:/usr/bin:/bin:/usr/local/games:/usr/games
    PERL5LIB = /srv/smoker/cpan/build/Params-Validate-1.08-y0LFgv/blib/arch:/srv/smoker/cpan/build/Params-Validate-1.08-y0LFgv/blib/lib:/srv/smoker/cpan/build/Module-Implementation-0.07-AJLh_d/blib/arch:/srv/smoker/cpan/build/Module-Implementation-0.07-AJLh_d/blib/lib:/srv/smoker/cpan/build/Module-Runtime-0.014-Ul0XTm/blib/arch:/srv/smoker/cpan/build/Module-Runtime-0.014-Ul0XTm/blib/lib:/srv/smoker/cpan/build/Test-Requires-0.07-Kw3IH5/blib/arch:/srv/smoker/cpan/build/Test-Requires-0.07-Kw3IH5/blib/lib
    PERL5OPT = 
    PERL5_CPANPLUS_IS_RUNNING = 5402
    PERL5_CPAN_IS_RUNNING = 5402
    PERL5_CPAN_IS_RUNNING_IN_RECURSION = 11634,5402
    PERLBREW_BASHRC_VERSION = 0.67
    PERLBREW_HOME = /srv/smoker/.perlbrew
    PERLBREW_MANPATH = /srv/smoker/perl5/perlbrew/perls/perl-5.18.1/man
    PERLBREW_PATH = /srv/smoker/perl5/perlbrew/bin:/srv/smoker/perl5/perlbrew/perls/perl-5.18.1/bin
    PERLBREW_PERL = perl-5.18.1
    PERLBREW_ROOT = /srv/smoker/perl5/perlbrew
    PERLBREW_VERSION = 0.67
    PERL_CR_SMOKER_CURRENT = Array-To-Moose-v0.0.7
    PERL_EXTUTILS_AUTOINSTALL = --defaultdeps
    PERL_MM_USE_DEFAULT = 1
    SHELL = /bin/bash
    TERM = screen-256color
    TMPDIR = /srv/smoker/tmp

Perl special variables (and OS-specific diagnostics, for MSWin32):

    $^X = /srv/smoker/perl5/perlbrew/perls/perl-5.18.1/bin/perl
    $UID/$EUID = 1111 / 1111
    $GID = 65534 65534
    $EGID = 65534 65534

Perl module toolchain versions installed:

    Module              Have    
    ------------------- --------
    CPAN                2.00    
    CPAN::Meta          2.140640
    Cwd                 3.40    
    ExtUtils::CBuilder  0.280216
    ExtUtils::Command   1.18    
    ExtUtils::Install   1.64    
    ExtUtils::MakeMaker 6.94    
    ExtUtils::Manifest  1.63    
    ExtUtils::ParseXS   3.24    
    File::Spec          3.40    
    JSON                2.90    
    JSON::PP            2.27203 
    Module::Build       0.4205  
    Module::Signature   n/a     
    Parse::CPAN::Meta   1.4414  
    Test::Harness       3.30    
    Test::More          1.001003
    YAML                n/a     
    YAML::Syck          n/a     
    version             0.9908  


--

Summary of my perl5 (revision 5 version 18 subversion 2) configuration:
   
  Platform:
    osname=linux, osvers=3.10.25+, archname=armv6l-linux
    uname='linux smoker 3.10.25+ #5 preempt mon jan 6 14:26:08 cet 2014 armv6l gnulinux '
    config_args='-de -Dprefix=/srv/smoker/perl5/perlbrew/perls/perl-5.18.1 -Aeval:scriptdir=/srv/smoker/perl5/perlbrew/perls/perl-5.18.1/bin'
    hint=recommended, useposix=true, d_sigaction=define
    useithreads=undef, usemultiplicity=undef
    useperlio=define, d_sfio=undef, uselargefiles=define, usesocks=undef
    use64bitint=undef, use64bitall=undef, uselongdouble=undef
    usemymalloc=n, bincompat5005=undef
  Compiler:
    cc='cc', ccflags ='-fno-strict-aliasing -pipe -fstack-protector -I/usr/local/include -D_LARGEFILE_SOURCE -D_FILE_OFFSET_BITS=64',
    optimize='-O2',
    cppflags='-fno-strict-aliasing -pipe -fstack-protector -I/usr/local/include'
    ccversion='', gccversion='4.8.2', gccosandvers=''
    intsize=4, longsize=4, ptrsize=4, doublesize=8, byteorder=1234
    d_longlong=define, longlongsize=8, d_longdbl=define, longdblsize=8
    ivtype='long', ivsize=4, nvtype='double', nvsize=8, Off_t='off_t', lseeksize=8
    alignbytes=8, prototype=define
  Linker and Libraries:
    ld='cc', ldflags =' -fstack-protector -L/usr/local/lib'
    libpth=/usr/local/lib /lib/arm-linux-gnueabihf /lib /usr/lib/arm-linux-gnueabihf /usr/lib
    libs=-lnsl -ldl -lm -lcrypt -lutil -lc
    perllibs=-lnsl -ldl -lm -lcrypt -lutil -lc
    libc=, so=so, useshrplib=false, libperl=libperl.a
    gnulibc_version='2.17'
  Dynamic Linking:
    dlsrc=dl_dlopen.xs, dlext=so, d_dlsymun=undef, ccdlflags='-Wl,-E'
    cccdlflags='-fPIC', lddlflags='-shared -O2 -L/usr/local/lib -fstack-protector'


Characteristics of this binary (from libperl): 
  Compile-time options: HAS_TIMES PERLIO_LAYERS PERL_DONT_CREATE_GVSV
                        PERL_HASH_FUNC_ONE_AT_A_TIME_HARD PERL_MALLOC_WRAP
                        PERL_PRESERVE_IVUV PERL_SAWAMPERSAND USE_LARGE_FILES
                        USE_LOCALE USE_LOCALE_COLLATE USE_LOCALE_CTYPE
                        USE_LOCALE_NUMERIC USE_PERLIO USE_PERL_ATOF
  Built under linux
  Compiled at Jan  7 2014 17:31:27
  %ENV:
    PERL5LIB="/srv/smoker/cpan/build/Params-Validate-1.08-y0LFgv/blib/arch:/srv/smoker/cpan/build/Params-Validate-1.08-y0LFgv/blib/lib:/srv/smoker/cpan/build/Module-Implementation-0.07-AJLh_d/blib/arch:/srv/smoker/cpan/build/Module-Implementation-0.07-AJLh_d/blib/lib:/srv/smoker/cpan/build/Module-Runtime-0.014-Ul0XTm/blib/arch:/srv/smoker/cpan/build/Module-Runtime-0.014-Ul0XTm/blib/lib:/srv/smoker/cpan/build/Test-Requires-0.07-Kw3IH5/blib/arch:/srv/smoker/cpan/build/Test-Requires-0.07-Kw3IH5/blib/lib"
    PERL5OPT=""
    PERL5_CPANPLUS_IS_RUNNING="5402"
    PERL5_CPAN_IS_RUNNING="5402"
    PERL5_CPAN_IS_RUNNING_IN_RECURSION="11634,5402"
    PERLBREW_BASHRC_VERSION="0.67"
    PERLBREW_HOME="/srv/smoker/.perlbrew"
    PERLBREW_MANPATH="/srv/smoker/perl5/perlbrew/perls/perl-5.18.1/man"
    PERLBREW_PATH="/srv/smoker/perl5/perlbrew/bin:/srv/smoker/perl5/perlbrew/perls/perl-5.18.1/bin"
    PERLBREW_PERL="perl-5.18.1"
    PERLBREW_ROOT="/srv/smoker/perl5/perlbrew"
    PERLBREW_VERSION="0.67"
    PERL_CR_SMOKER_CURRENT="Array-To-Moose-v0.0.7"
    PERL_EXTUTILS_AUTOINSTALL="--defaultdeps"
    PERL_MM_USE_DEFAULT="1"
  @INC:
    /srv/smoker/cpan/build/Params-Validate-1.08-y0LFgv/blib/arch
    /srv/smoker/cpan/build/Params-Validate-1.08-y0LFgv/blib/lib
    /srv/smoker/cpan/build/Module-Implementation-0.07-AJLh_d/blib/arch
    /srv/smoker/cpan/build/Module-Implementation-0.07-AJLh_d/blib/lib
    /srv/smoker/cpan/build/Module-Runtime-0.014-Ul0XTm/blib/arch
    /srv/smoker/cpan/build/Module-Runtime-0.014-Ul0XTm/blib/lib
    /srv/smoker/cpan/build/Test-Requires-0.07-Kw3IH5/blib/arch
    /srv/smoker/cpan/build/Test-Requires-0.07-Kw3IH5/blib/lib
    /srv/smoker/perl5/perlbrew/perls/perl-5.18.1/lib/site_perl/5.18.2/armv6l-linux
    /srv/smoker/perl5/perlbrew/perls/perl-5.18.1/lib/site_perl/5.18.2
    /srv/smoker/perl5/perlbrew/perls/perl-5.18.1/lib/5.18.2/armv6l-linux
    /srv/smoker/perl5/perlbrew/perls/perl-5.18.1/lib/5.18.2
    /srv/smoker/perl5/perlbrew/perls/perl-5.18.1/lib/site_perl/5.18.1/armv6l-linux
    /srv/smoker/perl5/perlbrew/perls/perl-5.18.1/lib/site_perl/5.18.1
    /srv/smoker/perl5/perlbrew/perls/perl-5.18.1/lib/site_perl
    .