Report for Module-Setup-0.09

Back
From: metabase:user:314402c4-2aae-11df-837a-5e0a49663a4f
Subject: PASS Module-Setup-0.09 v5.12.4 RC2 FreeBSD
Date: 2011-06-20T04:33:25Z

This distribution has been tested as part of the CPAN Testers
project, supporting the Perl programming language.  See
http://wiki.cpantesters.org/ for more information or email
questions to cpan-testers-discuss@perl.org


--
Dear Kazuhiro Osawa,

This is a computer-generated report for Module-Setup-0.09
on perl 5.12.4, created by CPAN-Reporter-1.1902.

Thank you for uploading your work to CPAN.  Congratulations!
All tests were successful.

Sections of this report:

    * Tester comments
    * Program output
    * Prerequisites
    * Environment and other context

------------------------------
TESTER COMMENTS
------------------------------

Additional comments from tester:

none provided

------------------------------
PROGRAM OUTPUT
------------------------------

Output from '/usr/bin/make test':

PERL_DL_NONLAZY=1 /usr/home/cpansand/var/ctps/5124RC2/install/perl-v5.12.4-RC2/bin/perl "-MExtUtils::Command::MM" "-e" "test_harness(0, 'inc', 'blib/lib', 'blib/arch')" t/*.t t/*/*.t
t/00_compile.t .................................... ok
t/010_core/detect-flavor-tests-error.t ............ ok
t/010_core/detect_module_and_flavor_name_error.t .. ok
t/010_core/dialog.t ............................... ok
t/010_core/distribute.t ........................... ok
t/010_core/flavor.t ............................... ok
t/010_core/load_argv.t ............................ ok
t/010_core/path.t ................................. ok
t/010_core/select-flavor.t ........................ ok
t/010_core/setup_base_dir.t ....................... ok
t/010_core/setup_options.t ........................ ok
t/010_core/setup_options_code.t ................... ok
t/010_core/stdout-log.t ........................... ok
t/010_core/system.t ............................... ok
t/010_core/test_util.t ............................ ok
t/020_run/additional.t ............................ ok
t/020_run/binary.t ................................ ok
t/020_run/direct.t ................................ ok
t/020_run/dupe-flavor.t ........................... ok
t/020_run/dupe.t .................................. ok
t/020_run/empty_dir.t ............................. ok
t/020_run/fail_flavor.t ........................... ok
t/020_run/hasnt-flavorclass.t ..................... ok
t/020_run/init.t .................................. ok
t/020_run/nullflavors.t ........................... ok
t/020_run/pack-additional.t ....................... ok
t/020_run/pack.t .................................. ok
t/020_run/simple.t ................................ ok
t/030_plugin/append_template_file.t ............... ok
t/030_plugin/append_template_file2.t .............. ok
t/030_plugin/illegalplugin.t ...................... ok
t/030_plugin/illegalpluginconfig.t ................ ok
t/030_plugin/localplugin.t ........................ ok
t/030_plugin/plain.t .............................. ok
t/030_plugin/site_github.t ........................ ok
t/030_plugin/template.t ........................... ok
cannot remove path when cwd is /var/tmp/cpansmoker-1023/2KBu6UP0m5/Test-Makefile3_3 for /var/tmp/cpansmoker-1023/2KBu6UP0m5:  at /home/cpansand/var/ctps/5124RC2/install/perl-v5.12.4-RC2/lib/5.12.4/File/Temp.pm line 2445
t/030_plugin/test_makefile.t ...................... ok
error: pathspec 'commit' did not match any file(s) known to git.
cannot remove path when cwd is /var/tmp/cpansmoker-1023/ss0QwpYuvV/VC-Git3_2 for /var/tmp/cpansmoker-1023/ss0QwpYuvV:  at /home/cpansand/var/ctps/5124RC2/install/perl-v5.12.4-RC2/lib/5.12.4/File/Temp.pm line 2445
t/030_plugin/vc_git.t ............................. ok
Name "Module::Setup::Flavor::Default::setup_config" used only once: possible typo at t/030_plugin/vc_svk.t line 17.
t/030_plugin/vc_svk.t ............................. ok
t/030_plugin/vc_svn.t ............................. ok
t/040_flavor/coderepos.t .......................... ok
t/040_flavor/default-setup_config.t ............... ok
t/040_flavor/default.t ............................ ok
t/040_flavor/github.t ............................. ok
t/050_helper/basic-callback.t ..................... ok
t/050_helper/basic-foo.t .......................... ok
t/050_helper/basic.t .............................. ok
All tests successful.
Files=47, Tests=467, 26 wallclock secs ( 0.26 usr  0.11 sys + 18.03 cusr  2.17 csys = 20.57 CPU)
Result: PASS

------------------------------
PREREQUISITES
------------------------------

Prerequisite modules loaded:

requires:

    Module                       Need Have   
    ---------------------------- ---- -------
    Class::Trigger               0    0.14   
    Cwd                          0    3.33   
    ExtUtils::MakeMaker          0    6.56   
    File::Basename               0    2.78   
    File::Find::Rule             0    0.32   
    File::HomeDir                0    0.97   
    File::Path                   0    2.08_01
    File::Temp                   0.2  0.22   
    Filter::Util::Call           0    1.08   
    Getopt::Long                 0    2.38   
    IO::Scalar                   0    2.110  
    LWP::UserAgent               0    6.02   
    Module::Collect              0.06 0.06   
    Module::Install::AuthorTests 0    0.002  
    Module::Install::Repository  0    0.06   
    Path::Class                  0    0.24   
    Pod::Usage                   0    1.36   
    Scalar::Util                 0    1.23   
    Storable                     0    2.25   
    Template                     2.2  2.22   
    Test::More                   0    0.98   
    Test::Requires               0    0.06   
    Text::Patch                  0    1.8    
    YAML                         0    0.73   

configure_requires:

    Module                       Need Have   
    ---------------------------- ---- -------
    ExtUtils::MakeMaker          6.42 6.56   


------------------------------
ENVIRONMENT AND OTHER CONTEXT
------------------------------

Environment variables:

    DBIC_NO_WARN_BAD_PERL = 1
    PATH = /usr/local/bin:/usr/X11R6/bin:/usr/X11/bin:/usr/perl5.8.0/bin:/usr/bin:/bin:/usr/local/sbin:/usr/sbin:/sbin:/usr/local/pilot/bin:/home/cpansand/bin/freebsd8.0:/home/cpansand/bin/sh:/home/cpansand/bin:/usr/X386/bin:/usr/games:/home/cpansand/devel:/usr/home/e/eserte/src/perl/CPAN-Testers-ParallelSmoker/utils
    PERL5LIB = 
    PERL5OPT = 
    PERL5_CPANPLUS_IS_RUNNING = 25159
    PERL5_CPAN_IS_RUNNING = 25159
    PERL5_CPAN_IS_RUNNING_IN_RECURSION = 44856,25159
    PERL_BATCH = yes
    PERL_CPAN_REPORTER_DIR = /home/cpansand/var/ctps/5124RC2/config/perl-v5.12.4-RC2/cpanreporter
    PERL_EXTUTILS_AUTOINSTALL = --defaultdeps
    PERL_HTML_DISPLAY_CLASS = HTML::Display::Mozilla
    PERL_PARALLEL_SMOKER = yes
    SHELL = /usr/local/bin/zsh
    TERM = xterm
    TMPDIR = /var/tmp/cpansmoker-1023

Perl special variables (and OS-specific diagnostics, for MSWin32):

    $^X = /usr/home/cpansand/var/ctps/5124RC2/install/perl-v5.12.4-RC2/bin/perl
    $UID/$EUID = 1023 / 1023
    $GID = 1023 1023
    $EGID = 1023 1023

Perl module toolchain versions installed:

    Module              Have    
    ------------------- --------
    CPAN                1.94_56 
    Cwd                 3.33    
    ExtUtils::CBuilder  0.280202
    ExtUtils::Command   1.17    
    ExtUtils::Install   1.55    
    ExtUtils::MakeMaker 6.56    
    ExtUtils::Manifest  1.57    
    ExtUtils::ParseXS   2.2206  
    File::Spec          3.33    
    Module::Build       0.3800  
    Module::Signature   0.68    
    Test::Harness       3.23    
    Test::More          0.98    
    YAML                0.73    
    YAML::Syck          1.17    
    version             0.91    


--

Summary of my perl5 (revision 5 version 12 subversion 4) configuration:
  Commit id: 5c26f8f6953ad4f9517732ac321914c726d7ec9d
  Platform:
    osname=freebsd, osvers=8.0-release-p4, archname=i386-freebsd
    uname='freebsd biokovo.herceg.de 8.0-release-p4 freebsd 8.0-release-p4 #0: mon jul 12 20:22:27 utc 2010 root@i386-builder.daemonology.net:usrobjusrsrcsysgeneric i386 '
    config_args='-ds -e -Uversiononly -Dinstallusrbinperl=n -Dusedevel -Dprefix=/home/cpansand/var/ctps/5124RC2/install/perl-v5.12.4-RC2'
    hint=recommended, useposix=true, d_sigaction=define
    useithreads=undef, usemultiplicity=undef
    useperlio=define, d_sfio=undef, uselargefiles=define, usesocks=undef
    use64bitint=undef, use64bitall=undef, uselongdouble=undef
    usemymalloc=n, bincompat5005=undef
  Compiler:
    cc='cc', ccflags ='-DHAS_FPSETMASK -DHAS_FLOATINGPOINT_H -fno-strict-aliasing -pipe -fstack-protector -I/usr/local/include',
    optimize='-O',
    cppflags='-DHAS_FPSETMASK -DHAS_FLOATINGPOINT_H -fno-strict-aliasing -pipe -fstack-protector -I/usr/local/include'
    ccversion='', gccversion='4.2.1 20070719  [FreeBSD]', gccosandvers=''
    intsize=4, longsize=4, ptrsize=4, doublesize=8, byteorder=1234
    d_longlong=define, longlongsize=8, d_longdbl=define, longdblsize=12
    ivtype='long', ivsize=4, nvtype='double', nvsize=8, Off_t='off_t', lseeksize=8
    alignbytes=4, prototype=define
  Linker and Libraries:
    ld='cc', ldflags ='-Wl,-E  -fstack-protector -L/usr/local/lib'
    libpth=/usr/lib /usr/local/lib
    libs=-lgdbm -lm -lcrypt -lutil -lc
    perllibs=-lm -lcrypt -lutil -lc
    libc=, so=so, useshrplib=false, libperl=libperl.a
    gnulibc_version=''
  Dynamic Linking:
    dlsrc=dl_dlopen.xs, dlext=so, d_dlsymun=undef, ccdlflags=' '
    cccdlflags='-DPIC -fPIC', lddlflags='-shared  -L/usr/local/lib -fstack-protector'


Characteristics of this binary (from libperl): 
  Compile-time options: PERL_DONT_CREATE_GVSV PERL_MALLOC_WRAP PERL_USE_DEVEL
                        USE_LARGE_FILES USE_PERLIO USE_PERL_ATOF
  Locally applied patches:
	RC2
  Built under freebsd
  Compiled at Jun 18 2011 12:17:44
  %ENV:
    PERL5LIB=""
    PERL5OPT=""
    PERL5_CPANPLUS_IS_RUNNING="25159"
    PERL5_CPAN_IS_RUNNING="25159"
    PERL5_CPAN_IS_RUNNING_IN_RECURSION="44856,25159"
    PERL_BATCH="yes"
    PERL_CPAN_REPORTER_DIR="/home/cpansand/var/ctps/5124RC2/config/perl-v5.12.4-RC2/cpanreporter"
    PERL_EXTUTILS_AUTOINSTALL="--defaultdeps"
    PERL_HTML_DISPLAY_CLASS="HTML::Display::Mozilla"
    PERL_PARALLEL_SMOKER="yes"
  @INC:
    /home/cpansand/var/ctps/5124RC2/install/perl-v5.12.4-RC2/lib/site_perl/5.12.4/i386-freebsd
    /home/cpansand/var/ctps/5124RC2/install/perl-v5.12.4-RC2/lib/site_perl/5.12.4
    /home/cpansand/var/ctps/5124RC2/install/perl-v5.12.4-RC2/lib/5.12.4/i386-freebsd
    /home/cpansand/var/ctps/5124RC2/install/perl-v5.12.4-RC2/lib/5.12.4
    .