Report for PostScript-Report-0.13

Back
From: metabase:user:320bfe00-2aae-11df-837a-5e0a49663a4f
Subject: PASS PostScript-Report-0.13 v5.27.2 GNU/Linux
Date: 2017-07-25T19:14:10Z

This distribution has been tested as part of the CPAN Testers
project, supporting the Perl programming language.  See
http://wiki.cpantesters.org/ for more information or email
questions to cpan-testers-discuss@perl.org


--
Dear Christopher J. Madsen,

This is a computer-generated report for PostScript-Report-0.13
on perl 5.27.2, created by CPAN-Reporter-1.2018.

Thank you for uploading your work to CPAN.  Congratulations!
All tests were successful.

Sections of this report:

    * Tester comments
    * Program output
    * Prerequisites
    * Environment and other context

------------------------------
TESTER COMMENTS
------------------------------

Additional comments from tester:

this report is from an automated smoke testing program
and was not reviewed by a human for accuracy

------------------------------
PROGRAM OUTPUT
------------------------------

Output from '/usr/bin/make test':

PERL_DL_NONLAZY=1 "/tmp/basesmoker-reloperl-NY_Y/bin/perl" "-MExtUtils::Command::MM" "-MTest::Harness" "-e" "undef *Test::Harness::Switches; test_harness(0, 'blib/lib', 'blib/arch')" t/*.t
# Listing %INC
#                                                         B 1.68
#                                      B::Hooks::EndOfScope 0.21
#                                  B::Hooks::EndOfScope::XS 0.21
#                                                      Carp 1.43
#                                                Carp::Clan 6.06
#                                               Class::Load 0.24
#                                           Class::Load::XS 0.10
#                                                Class::MOP 2.2006
#                                     Class::MOP::Attribute 2.2006
#                                         Class::MOP::Class 2.2006
#           Class::MOP::Class::Immutable::Class::MOP::Class undef
#          Class::MOP::Class::Immutable::Moose::Meta::Class undef
#                       Class::MOP::Class::Immutable::Trait 2.2006
#                                    Class::MOP::Deprecated 2.2006
#                                      Class::MOP::Instance 2.2006
#                                        Class::MOP::Method 2.2006
#                              Class::MOP::Method::Accessor 2.2006
#                           Class::MOP::Method::Constructor 2.2006
#                             Class::MOP::Method::Generated 2.2006
#                               Class::MOP::Method::Inlined 2.2006
#                                  Class::MOP::Method::Meta 2.2006
#                               Class::MOP::Method::Wrapped 2.2006
#                                     Class::MOP::MiniTrait 2.2006
#                                         Class::MOP::Mixin 2.2006
#                          Class::MOP::Mixin::AttributeCore 2.2006
#                          Class::MOP::Mixin::HasAttributes 2.2006
#                             Class::MOP::Mixin::HasMethods 2.2006
#                           Class::MOP::Mixin::HasOverloads 2.2006
#                                        Class::MOP::Module 2.2006
#                                        Class::MOP::Object 2.2006
#                                      Class::MOP::Overload 2.2006
#                                       Class::MOP::Package 2.2006
#                                                    Config 5.027002
#                                             Data::OptList 0.110
#                                  Devel::GlobalDestruction 0.14
#                                       Devel::OverloadInfo 0.004
#                                                DynaLoader 1.42
#                                             Eval::Closure 0.14
#                                                  Exporter 5.72
#                                                File::Spec 3.68
#                                          File::Spec::Unix 3.68
#                                                List::Util 1.48
#                                               MRO::Compat 0.13
#                                    Module::Implementation 0.09
#                                           Module::Runtime 0.015
#                                                     Moose 2.2006
#                                         Moose::Deprecated 2.2006
#                                           Moose::Exporter 2.2006
#                                    Moose::Meta::Attribute 2.2006
#                            Moose::Meta::Attribute::Native 2.2006
#                                        Moose::Meta::Class 2.2006
#                      Moose::Meta::Class::Immutable::Trait 2.2006
#                   Moose::Meta::Class::__ANON__::SERIAL::1 undef
#                   Moose::Meta::Class::__ANON__::SERIAL::2 undef
#                   Moose::Meta::Class::__ANON__::SERIAL::3 undef
#                                     Moose::Meta::Instance 2.2006
#                                       Moose::Meta::Method 2.2006
#                             Moose::Meta::Method::Accessor 2.2006
#                            Moose::Meta::Method::Augmented 2.2006
#                          Moose::Meta::Method::Constructor 2.2006
#                           Moose::Meta::Method::Delegation 2.2006
#                           Moose::Meta::Method::Destructor 2.2006
#                                 Moose::Meta::Method::Meta 2.2006
#                           Moose::Meta::Method::Overridden 2.2006
#                         Moose::Meta::Mixin::AttributeCore 2.2006
#                                Moose::Meta::Object::Trait 2.2006
#                                         Moose::Meta::Role 2.2006
#                            Moose::Meta::Role::Application 2.2006
#             Moose::Meta::Role::Application::RoleSummation 2.2006
#                   Moose::Meta::Role::Application::ToClass 2.2006
#                Moose::Meta::Role::Application::ToInstance 2.2006
#                    Moose::Meta::Role::Application::ToRole 2.2006
#                              Moose::Meta::Role::Attribute 2.2006
#                              Moose::Meta::Role::Composite 2.2006
#                                 Moose::Meta::Role::Method 2.2006
#                    Moose::Meta::Role::Method::Conflicting 2.2006
#                       Moose::Meta::Role::Method::Required 2.2006
#                                 Moose::Meta::TypeCoercion 2.2006
#                          Moose::Meta::TypeCoercion::Union 2.2006
#                               Moose::Meta::TypeConstraint 2.2006
#                        Moose::Meta::TypeConstraint::Class 2.2006
#                     Moose::Meta::TypeConstraint::DuckType 2.2006
#                         Moose::Meta::TypeConstraint::Enum 2.2006
#              Moose::Meta::TypeConstraint::Parameterizable 2.2006
#                Moose::Meta::TypeConstraint::Parameterized 2.2006
#                     Moose::Meta::TypeConstraint::Registry 2.2006
#                         Moose::Meta::TypeConstraint::Role 2.2006
#                        Moose::Meta::TypeConstraint::Union 2.2006
#                                             Moose::Object 2.2006
#                                               Moose::Role 2.2006
#                                               Moose::Util 2.2006
#                                     Moose::Util::MetaRole 2.2006
#                              Moose::Util::TypeConstraints 2.2006
#                    Moose::Util::TypeConstraints::Builtins 2.2006
#                                     MooseX::AttributeTree 0.06
#                           MooseX::AttributeTree::Accessor 0.06
#                               MooseX::Role::Parameterized 1.10
#    MooseX::Role::Parameterized::Meta::Role::Parameterized 1.10
# MooseX::Role::Parameterized::Meta::Trait::Parameterizable 1.10
#   MooseX::Role::Parameterized::Meta::Trait::Parameterized 1.10
#                   MooseX::Role::Parameterized::Parameters 1.10
#                                             MooseX::Types 0.50
#                                       MooseX::Types::Base 0.50
#                         MooseX::Types::CheckedUtilExports 0.50
#                                      MooseX::Types::Moose 0.50
#                              MooseX::Types::TypeDecorator 0.50
#                              MooseX::Types::UndefinedType 0.50
#                                       MooseX::Types::Util 0.50
#                               Package::DeprecationManager 0.17
#                                            Package::Stash 0.37
#                                        Package::Stash::XS 0.28
#                                              Params::Util 1.07
#                                          PostScript::File 2.23
#                                              Scalar::Util 1.48
#                                     String::RewritePrefix 0.007
#                                             Sub::Exporter 0.987
#                                 Sub::Exporter::ForMethods 0.100052
#                                Sub::Exporter::Progressive 0.001013
#                                             Sub::Identify 0.14
#                                              Sub::Install 0.928
#                                                 Sub::Name 0.21
#                                                 Sub::Util 1.48
#                                                 Try::Tiny 0.28
#                                           Variable::Magic 0.61
#                                                  XSLoader 0.27
#                                                      base 2.25
#                                                  constant 1.33
#                                                        if 0.0607
#                                                 metaclass 2.2006
#                                                       mro 1.21
#                                      namespace::autoclean 0.28
#                                          namespace::clean 0.27
#                                   namespace::clean::_Util undef
#                                                  overload 1.28
#                                               overloading 0.02
#                                                    parent 0.236
#                                                        re 0.35
#                                                    strict 1.11
#                                                      utf8 1.19
#                                                      vars 1.03
#                                                  warnings 1.37
#                                        warnings::register 1.04
t/00-all_prereqs.t .. ok
# Testing PostScript::Report 0.13
t/00-load.t ......... ok
t/10-structure.t .... ok
t/20-warnings.t ..... ok
t/30-output.t ....... ok
t/40-linkparser.t ... ok
All tests successful.
Files=6, Tests=89,  2 wallclock secs ( 0.01 usr  0.04 sys +  2.05 cusr  0.14 csys =  2.24 CPU)
Result: PASS

------------------------------
PREREQUISITES
------------------------------

Prerequisite modules loaded:

requires:

    Module                Need  Have    
    --------------------- ----- --------
    Carp                  0     1.43    
    File::Spec            0     3.68    
    List::Util            0     1.48    
    Module::Runtime       0     0.015   
    Moose                 0.90  2.2006  
    Moose::Role           0     2.2006  
    MooseX::AttributeTree 0.02  0.06    
    MooseX::Types         0     0.50    
    MooseX::Types::Moose  0     0.50    
    namespace::autoclean  0     0.28    
    PostScript::File      2.20  2.23    
    Scalar::Util          0     1.48    
    String::RewritePrefix 0     0.007   

build_requires:

    Module                Need  Have    
    --------------------- ----- --------
    Encode                0     2.92    
    Test::More            0.88  1.302086

configure_requires:

    Module                Need  Have    
    --------------------- ----- --------
    ExtUtils::MakeMaker   6.30  7.30    
    Moose                 0     2.2006  
    MooseX::Types         0     0.50    
    perl                  5.008 5.027002
    version               0.77  0.9918  


------------------------------
ENVIRONMENT AND OTHER CONTEXT
------------------------------

Environment variables:

    AUTOMATED_TESTING = 1
    LANG = C
    PATH = /home/sand/bin:/usr/local/bin:/usr/bin:/bin:/usr/games:/usr/local/perl/bin:/usr/X11/bin:/sbin:/usr/sbin
    PERL5LIB = 
    PERL5OPT = 
    PERL5_CPANPLUS_IS_RUNNING = 18776
    PERL5_CPAN_IS_RUNNING = 18776
    PERL_CANARY_STABILITY_NOPROMPT = 1
    PERL_MM_USE_DEFAULT = 1
    PERL_USE_UNSAFE_INC = 1
    SHELL = /usr/bin/zsh
    TERM = screen

Perl special variables (and OS-specific diagnostics, for MSWin32):

    $^X = /tmp/basesmoker-reloperl-NY_Y/bin/perl
    $UID/$EUID = 1005 / 1005
    $GID = 1005 1005
    $EGID = 1005 1005

Perl module toolchain versions installed:

    Module              Have    
    ------------------- --------
    CPAN                2.18    
    CPAN::Meta          2.150010
    Cwd                 3.68    
    ExtUtils::CBuilder  0.280228
    ExtUtils::Command   7.30    
    ExtUtils::Install   2.14    
    ExtUtils::MakeMaker 7.30    
    ExtUtils::Manifest  1.70    
    ExtUtils::ParseXS   3.34    
    File::Spec          3.68    
    JSON                2.94    
    JSON::PP            2.94    
    Module::Build       0.4224  
    Module::Signature   0.81    
    Parse::CPAN::Meta   2.150010
    Test::Harness       3.39    
    Test::More          1.302086
    YAML                1.23    
    YAML::Syck          1.30    
    version             0.9918  


--

Summary of my perl5 (revision 5 version 27 subversion 2) configuration:
  Commit id: cf07591c56a81be8313edfa55671e8e741db95b3
  Platform:
    osname=linux
    osvers=4.9.0-3-amd64
    archname=x86_64-linux-ld
    uname='linux k93stretch 4.9.0-3-amd64 #1 smp debian 4.9.30-2+deb9u2 (2017-06-26) x86_64 gnulinux '
    config_args='-Dprefix=/home/sand/src/perl/repoperls/installed-perls/host/k93stretch/v5.27.2/9a27 -Dmyhostname=k93stretch -Dinstallusrbinperl=n -Uversiononly -Dusedevel -des -Ui_db -Dlibswanted=cl pthread socket inet nsl gdbm dbm malloc dl ld sun m crypt sec util c cposix posix ucb BSD gdbm_compat -Uuseithreads -Duselongdouble -DDEBUGGING=-g'
    hint=recommended
    useposix=true
    d_sigaction=define
    useithreads=undef
    usemultiplicity=undef
    use64bitint=define
    use64bitall=define
    uselongdouble=define
    usemymalloc=n
    default_inc_excludes_dot=define
    bincompat5005=undef
  Compiler:
    cc='cc'
    ccflags ='-fwrapv -fno-strict-aliasing -pipe -fstack-protector-strong -I/usr/local/include -D_LARGEFILE_SOURCE -D_FILE_OFFSET_BITS=64'
    optimize='-O2 -g'
    cppflags='-fwrapv -fno-strict-aliasing -pipe -fstack-protector-strong -I/usr/local/include'
    ccversion=''
    gccversion='6.3.0 20170516'
    gccosandvers=''
    intsize=4
    longsize=8
    ptrsize=8
    doublesize=8
    byteorder=12345678
    doublekind=3
    d_longlong=define
    longlongsize=8
    d_longdbl=define
    longdblsize=16
    longdblkind=3
    ivtype='long'
    ivsize=8
    nvtype='long double'
    nvsize=16
    Off_t='off_t'
    lseeksize=8
    alignbytes=16
    prototype=define
  Linker and Libraries:
    ld='cc'
    ldflags =' -fstack-protector-strong -L/usr/local/lib'
    libpth=/usr/local/lib /usr/lib/gcc/x86_64-linux-gnu/6/include-fixed /usr/include/x86_64-linux-gnu /usr/lib /lib/x86_64-linux-gnu /lib/../lib /usr/lib/x86_64-linux-gnu /usr/lib/../lib /lib
    libs=-lpthread -lnsl -ldl -lm -lcrypt -lutil -lc
    perllibs=-lpthread -lnsl -ldl -lm -lcrypt -lutil -lc
    libc=libc-2.24.so
    so=so
    useshrplib=false
    libperl=libperl.a
    gnulibc_version='2.24'
  Dynamic Linking:
    dlsrc=dl_dlopen.xs
    dlext=so
    d_dlsymun=undef
    ccdlflags='-Wl,-E'
    cccdlflags='-fPIC'
    lddlflags='-shared -O2 -g -L/usr/local/lib -fstack-protector-strong'


Characteristics of this binary (from libperl): 
  Compile-time options:
    HAS_TIMES
    PERLIO_LAYERS
    PERL_COPY_ON_WRITE
    PERL_DONT_CREATE_GVSV
    PERL_MALLOC_WRAP
    PERL_OP_PARENT
    PERL_PRESERVE_IVUV
    PERL_USE_DEVEL
    USE_64_BIT_ALL
    USE_64_BIT_INT
    USE_LARGE_FILES
    USE_LOCALE
    USE_LOCALE_COLLATE
    USE_LOCALE_CTYPE
    USE_LOCALE_NUMERIC
    USE_LOCALE_TIME
    USE_LONG_DOUBLE
    USE_PERLIO
    USE_PERL_ATOF
  Built under linux
  Compiled at Jul 25 2017 04:18:49
  %ENV:
    PERL5LIB=""
    PERL5OPT=""
    PERL5_CPANPLUS_IS_RUNNING="18776"
    PERL5_CPAN_IS_RUNNING="18776"
    PERL_CANARY_STABILITY_NOPROMPT="1"
    PERL_MM_USE_DEFAULT="1"
    PERL_USE_UNSAFE_INC="1"
  @INC:
    /home/sand/src/perl/repoperls/installed-perls/host/k93stretch/v5.27.2/9a27/lib/site_perl/5.27.2/x86_64-linux-ld
    /home/sand/src/perl/repoperls/installed-perls/host/k93stretch/v5.27.2/9a27/lib/site_perl/5.27.2
    /home/sand/src/perl/repoperls/installed-perls/host/k93stretch/v5.27.2/9a27/lib/5.27.2/x86_64-linux-ld
    /home/sand/src/perl/repoperls/installed-perls/host/k93stretch/v5.27.2/9a27/lib/5.27.2
    .