Vim-Debug v0.904 Perl 5 v5.24.4 x86_64-linux-thread-multi

Status
Pass
From
David Cantrell (DCANTRELL)
Dist
Vim-Debug v0.904
Platform
Perl 5 v5.24.4 x86_64-linux-thread-multi
Date
2019-07-23 18:48:19
ID
702ec16e-ad7a-11e9-adba-9966052d0de1
This distribution has been tested as part of the CPAN Testers
project, supporting the Perl programming language.  See
http://wiki.cpantesters.org/ for more information or email
questions to cpan-testers-discuss@perl.org


--
Dear Eric D Johnson,

This is a computer-generated report for Vim-Debug-0.904
on perl 5.24.4, created by CPAN-Reporter-1.2018.

Thank you for uploading your work to CPAN.  Congratulations!
All tests were successful.

Sections of this report:

    * Tester comments
    * Program output
    * Prerequisites
    * Environment and other context

------------------------------
TESTER COMMENTS
------------------------------

Additional comments from tester:

this report is from an automated smoke testing program
and was not reviewed by a human for accuracy

------------------------------
PROGRAM OUTPUT
------------------------------

Output from '/usr/bin/make test':

PERL_DL_NONLAZY=1 "/home/david/cpantesting/perl-5.24.4/bin/perl" "-MExtUtils::Command::MM" "-MTest::Harness" "-e" "undef *Test::Harness::Switches; test_harness(0, 'blib/lib', 'blib/arch')" t/*.t
t/00-compile.t ......... ok
# Prerequisite Report:
#      Version Module                     
#   ---------- ---------------------------
#         1.40 Carp                       
#         0.11 Dir::Self                  
#         7.36 ExtUtils::MakeMaker        
#         2.85 File::Basename             
#         0.44 File::Copy::Recursive      
#         1.34 File::Find                 
#      2.12_01 File::Path                 
#      3.63_01 File::Spec::Functions      
#       0.2309 File::Temp                 
#         2.48 Getopt::Long               
#         1.12 IO::Pty                    
#   20180523.0 IPC::Run                   
#         1.50 List::Util                 
#       2.2011 Moose                      
#       2.2011 Moose::Role                
#       2.2011 Moose::Util                
#         0.29 MooseX::ClassAttribute     
#         3.04 Net::Telnet                
#        1.367 POE                        
#        1.367 POE::Component::Server::TCP
#     1.302164 Test::More                 
#         0.30 Try::Tiny                  
#         1.11 strict                     
#         1.36 warnings                   
t/00-report-prereqs.t .. ok
t/perl.parseOutput.t ... ok
Unescaped left brace in regex is deprecated, passed through in regex; marked by <-- HERE in m/ { <-- HERE -VDEOR-} / at t/lib/Vim/Debug/Client.pm line 68.
Unescaped left brace in regex is deprecated, passed through in regex; marked by <-- HERE in m/ { <-- HERE -VDEOR-} / at t/lib/Vim/Debug/Client.pm line 68.
t/perl.stop.t .......... ok
Unescaped left brace in regex is deprecated, passed through in regex; marked by <-- HERE in m/ { <-- HERE -VDEOR-} / at t/lib/Vim/Debug/Client.pm line 68.
t/perl.t ............... ok
t/pod.t ................ ok
All tests successful.
Files=6, Tests=76, 36 wallclock secs ( 0.04 usr  0.01 sys +  3.15 cusr  0.32 csys =  3.52 CPU)
Result: PASS

------------------------------
PREREQUISITES
------------------------------

Prerequisite modules loaded:

requires:

    Module                      Need Have      
    --------------------------- ---- ----------
    Carp                        0    1.40      
    Dir::Self                   0    0.11      
    File::Basename              0    2.85      
    File::Copy::Recursive       0    0.44      
    File::Path                  0    2.12_01   
    Getopt::Long                0    2.48      
    IO::Pty                     0    1.12      
    IPC::Run                    0    20180523.0
    Moose                       0    2.2011    
    Moose::Role                 0    2.2011    
    Moose::Util                 0    2.2011    
    MooseX::ClassAttribute      0    0.29      
    POE                         0    1.367     
    POE::Component::Server::TCP 0    1.367     
    strict                      0    1.11      
    Try::Tiny                   0    0.30      
    warnings                    0    1.36      

build_requires:

    Module                      Need Have      
    --------------------------- ---- ----------
    ExtUtils::MakeMaker         0    7.36      
    File::Find                  0    1.34      
    File::Spec::Functions       0    3.63_01   
    File::Temp                  0    0.2309    
    List::Util                  0    1.50      
    Net::Telnet                 0    3.04      
    Test::More                  0    1.302164  

configure_requires:

    Module                      Need Have      
    --------------------------- ---- ----------
    ExtUtils::MakeMaker         6.30 7.36      


------------------------------
ENVIRONMENT AND OTHER CONTEXT
------------------------------

Environment variables:

    AUTOMATED_TESTING = 1
    LANG = en_US.UTF-8
    NONINTERACTIVE_TESTING = 1
    PATH = /usr/local/bin:/usr/bin:/bin:/usr/local/games:/usr/games
    PERL = 5.24.4
    PERL5LIB = 
    PERL5OPT = 
    PERL5_CPANPLUS_IS_RUNNING = 25310
    PERL5_CPAN_IS_RUNNING = 25310
    PERLVER = 5.24.4
    PERL_INLINE_DIRECTORY = /home/david/.Inline-5.24.4
    PERL_MM_USE_DEFAULT = 1
    PERL_USE_UNSAFE_INC = 0
    SHELL = /bin/bash
    TERM = screen

Perl special variables (and OS-specific diagnostics, for MSWin32):

    $^X = /home/david/cpantesting/perl-5.24.4/bin/perl
    $UID/$EUID = 1000 / 1000
    $GID = 1000 27 1000
    $EGID = 1000 27 1000

Perl module toolchain versions installed:

    Module              Have      
    ------------------- ----------
    CPAN                2.11_01   
    CPAN::Meta          2.150005  
    Cwd                 3.63_01   
    ExtUtils::CBuilder  0.280225  
    ExtUtils::Command   7.36      
    ExtUtils::Install   2.06      
    ExtUtils::MakeMaker 7.36      
    ExtUtils::Manifest  1.70      
    ExtUtils::ParseXS   3.31      
    File::Spec          3.63_01   
    JSON                4.02      
    JSON::PP            2.27300_01
    Module::Build       0.4229    
    Module::Signature   n/a       
    Parse::CPAN::Meta   1.4417_001
    Test::Harness       3.36_01   
    Test::More          1.302164  
    YAML                1.29      
    YAML::Syck          1.31      
    version             0.9916    


--

Summary of my perl5 (revision 5 version 24 subversion 4) configuration:
   
  Platform:
    osname=linux, osvers=4.9.0-8-amd64, archname=x86_64-linux-thread-multi
    uname='linux pigsty 4.9.0-8-amd64 #1 smp debian 4.9.144-3 (2019-02-02) x86_64 gnulinux '
    config_args='-de -Duse64bitall -Dusethreads -Dprefix=/home/david/cpantesting/perl-5.24.4'
    hint=recommended, useposix=true, d_sigaction=define
    useithreads=define, usemultiplicity=define
    use64bitint=define, use64bitall=define, uselongdouble=undef
    usemymalloc=n, bincompat5005=undef
  Compiler:
    cc='cc', ccflags ='-D_REENTRANT -D_GNU_SOURCE -fwrapv -fno-strict-aliasing -pipe -fstack-protector-strong -I/usr/local/include -D_LARGEFILE_SOURCE -D_FILE_OFFSET_BITS=64 -D_FORTIFY_SOURCE=2',
    optimize='-O2',
    cppflags='-D_REENTRANT -D_GNU_SOURCE -fwrapv -fno-strict-aliasing -pipe -fstack-protector-strong -I/usr/local/include'
    ccversion='', gccversion='6.3.0 20170516', gccosandvers=''
    intsize=4, longsize=8, ptrsize=8, doublesize=8, byteorder=12345678, doublekind=3
    d_longlong=define, longlongsize=8, d_longdbl=define, longdblsize=16, longdblkind=3
    ivtype='long', ivsize=8, nvtype='double', nvsize=8, Off_t='off_t', lseeksize=8
    alignbytes=8, prototype=define
  Linker and Libraries:
    ld='cc', ldflags =' -fstack-protector-strong -L/usr/local/lib'
    libpth=/usr/local/lib /usr/lib/gcc/x86_64-linux-gnu/6/include-fixed /usr/include/x86_64-linux-gnu /usr/lib /lib/x86_64-linux-gnu /lib/../lib /usr/lib/x86_64-linux-gnu /usr/lib/../lib /lib
    libs=-lpthread -lnsl -ldb -ldl -lm -lcrypt -lutil -lc
    perllibs=-lpthread -lnsl -ldl -lm -lcrypt -lutil -lc
    libc=libc-2.24.so, so=so, useshrplib=false, libperl=libperl.a
    gnulibc_version='2.24'
  Dynamic Linking:
    dlsrc=dl_dlopen.xs, dlext=so, d_dlsymun=undef, ccdlflags='-Wl,-E'
    cccdlflags='-fPIC', lddlflags='-shared -O2 -L/usr/local/lib -fstack-protector-strong'


Characteristics of this binary (from libperl): 
  Compile-time options: HAS_TIMES MULTIPLICITY PERLIO_LAYERS
                        PERL_COPY_ON_WRITE PERL_DONT_CREATE_GVSV
                        PERL_HASH_FUNC_ONE_AT_A_TIME_HARD
                        PERL_IMPLICIT_CONTEXT PERL_MALLOC_WRAP
                        PERL_PRESERVE_IVUV USE_64_BIT_ALL USE_64_BIT_INT
                        USE_ITHREADS USE_LARGE_FILES USE_LOCALE
                        USE_LOCALE_COLLATE USE_LOCALE_CTYPE
                        USE_LOCALE_NUMERIC USE_LOCALE_TIME USE_PERLIO
                        USE_PERL_ATOF USE_REENTRANT_API
  Built under linux
  Compiled at Apr 25 2019 01:35:31
  %ENV:
    PERL="5.24.4"
    PERL5LIB=""
    PERL5OPT=""
    PERL5_CPANPLUS_IS_RUNNING="25310"
    PERL5_CPAN_IS_RUNNING="25310"
    PERLVER="5.24.4"
    PERL_INLINE_DIRECTORY="/home/david/.Inline-5.24.4"
    PERL_MM_USE_DEFAULT="1"
    PERL_USE_UNSAFE_INC="0"
  @INC:
    /home/david/cpantesting/perl-5.24.4/lib/site_perl/5.24.4/x86_64-linux-thread-multi
    /home/david/cpantesting/perl-5.24.4/lib/site_perl/5.24.4
    /home/david/cpantesting/perl-5.24.4/lib/5.24.4/x86_64-linux-thread-multi
    /home/david/cpantesting/perl-5.24.4/lib/5.24.4
    .