Crypt-Password-Util v0.17 Perl 5 v5.34.0 x86_64-linux-ld
- Status
- Pass
- From
- Andreas J. König (ANDK)
- Dist
-
Crypt-Password-Util v0.17
- Platform
- Perl 5 v5.34.0 x86_64-linux-ld
- Date
- 2022-02-20 21:52:45
- ID
- 701594d2-9297-11ec-994a-0bb21a9ff52c
This distribution has been tested as part of the CPAN Testers
project, supporting the Perl programming language. See
http://wiki.cpantesters.org/ for more information or email
questions to cpan-testers-discuss@perl.org
--
Dear perlancar,
This is a computer-generated report for Crypt-Password-Util-0.17
on perl 5.34.0, created by CPAN-Reporter-1.2018.
Thank you for uploading your work to CPAN. Congratulations!
All tests were successful.
Sections of this report:
* Tester comments
* Program output
* Prerequisites
* Environment and other context
------------------------------
TESTER COMMENTS
------------------------------
Additional comments from tester:
this report is from an automated smoke testing program
and was not reviewed by a human for accuracy
------------------------------
PROGRAM OUTPUT
------------------------------
Output from '/usr/bin/make test':
PERL_DL_NONLAZY=1 "/tmp/basesmoker-reloperl-LsXZ/bin/perl" "-MExtUtils::Command::MM" "-MTest::Harness" "-e" "undef *Test::Harness::Switches; test_harness(0, 'blib/lib', 'blib/arch')" t/*.t
t/00-compile.t ........... ok
# Some crypt() results on this system: [
# '$6$rounds=15000$cdQMgu/OqshGsHh2$2AEVb2Gy/nxwqvHNtOLCk81KpykpdxIIfgec4R2aby1gjkOxflW.GRpLODC0thcwAS1LcrndOs16VjqjzuXPc0',
# '$6$rounds=15000$EKrDnn1c2oBU8qCj$LZLHfpM5t5KDBigw9xCw3VAPcRKhNbdYbqo7J7ZogI.Ajg1MTyU46hze.qkRRU9pkjxt/jl0q1DAbGCXfWpCJ.',
# '$6$rounds=15000$ADBJmOL3Al/Bgqu3$qwZ6qwF7bHsPnf0W5OwphCwVcT2Z/yYHu1hWjIo6ALjMwdcldTytt4UcP79UzaXZV4bnJBMDIPPmfembSbEMa1',
# '$6$rounds=15000$tUUrIF/n3gZyfU6.$/t8ux.Bo8GVRMFgrCl.NGYWXUD.XG9zOK0OE/oSv9p5lZXBiqacVuUs3N5MG7LeU4MCecvgokx9fabkfGfjpL0',
# '$6$rounds=15000$3gOLonBZz6BRkCSe$2.QQF.wa2GiZMafxB.IJ/cewYWgyKTuxfAICVFqBCqZ8uoLGdklHBund/yn2v7NbAtQhJ0Eak/GiYwtc6HgEQ0'
# ]
t/01-basics.t ............ ok
t/author-pod-coverage.t .. skipped: these tests are for testing by the author
t/author-pod-syntax.t .... skipped: these tests are for testing by the author
All tests successful.
Files=4, Tests=27, 0 wallclock secs ( 0.02 usr 0.02 sys + 0.25 cusr 0.03 csys = 0.32 CPU)
Result: PASS
------------------------------
PREREQUISITES
------------------------------
Prerequisite modules loaded:
requires:
Module Need Have
--------------------- -------- --------
Bytes::Random::Secure 0 0.29
Config 0 5.034000
perl 5.010001 5.034000
build_requires:
Module Need Have
--------------------- -------- --------
ExtUtils::MakeMaker 0 7.64
File::Spec 0 3.80
IO::Handle 0 1.46
IPC::Open3 0 1.21
Sort::Versions 0 1.62
Test::More 0.98 1.302188
configure_requires:
Module Need Have
--------------------- -------- --------
ExtUtils::MakeMaker 0 7.64
------------------------------
ENVIRONMENT AND OTHER CONTEXT
------------------------------
Environment variables:
AUTOMATED_TESTING = 1
LANG = en_US.utf8
PATH = /home/sand/bin:/usr/local/bin:/usr/local/sbin:/usr/sbin:/usr/bin:/sbin:/bin:/usr/games:/usr/local/games:/snap/bin:/usr/local/perl/bin:/usr/X11/bin
PERL5LIB =
PERL5OPT =
PERL5_CPANPLUS_IS_RUNNING = 81677
PERL5_CPAN_IS_RUNNING = 81677
PERL_CANARY_STABILITY_NOPROMPT = 1
PERL_MM_USE_DEFAULT = 1
PERL_USE_UNSAFE_INC = 1
SHELL = /usr/bin/zsh
TERM = screen
Perl special variables (and OS-specific diagnostics, for MSWin32):
$^X = /tmp/basesmoker-reloperl-LsXZ/bin/perl
$UID/$EUID = 1005 / 1005
$GID = 1005 1005
$EGID = 1005 1005
Perl module toolchain versions installed:
Module Have
------------------- --------
CPAN 2.33
CPAN::Meta 2.150010
Cwd 3.80
ExtUtils::CBuilder 0.280236
ExtUtils::Command 7.64
ExtUtils::Install 2.20
ExtUtils::MakeMaker 7.64
ExtUtils::Manifest 1.73
ExtUtils::ParseXS 3.43
File::Spec 3.80
JSON 4.05
JSON::PP 4.06
Module::Build 0.4231
Module::Signature 0.88
Parse::CPAN::Meta 2.150010
Test::Harness 3.43
Test::More 1.302188
YAML 1.30
YAML::Syck 1.34
version 0.9929
--
Summary of my perl5 (revision 5 version 34 subversion 0) configuration:
Commit id: 79a7b254d85a10b65126ad99bf10e70480569d68
Platform:
osname=linux
osvers=5.4.0-100-generic
archname=x86_64-linux-ld
uname='linux k93focal 5.4.0-100-generic #113-ubuntu smp thu feb 3 18:43:29 utc 2022 x86_64 x86_64 x86_64 gnulinux '
config_args='-Dprefix=/home/sand/src/perl/repoperls/installed-perls/host/k93focal/v5.34.0/7dc8 -Dmyhostname=k93focal -Dinstallusrbinperl=n -Uversiononly -Dusedevel -des -Ui_db -Dlibswanted=cl pthread socket inet nsl gdbm dbm malloc dl ld sun m crypt sec util c cposix posix ucb BSD gdbm_compat -Uuseithreads -Duselongdouble -DEBUGGING=-g'
hint=recommended
useposix=true
d_sigaction=define
useithreads=undef
usemultiplicity=undef
use64bitint=define
use64bitall=define
uselongdouble=define
usemymalloc=n
default_inc_excludes_dot=define
Compiler:
cc='cc'
ccflags ='-fwrapv -fno-strict-aliasing -pipe -fstack-protector-strong -I/usr/local/include -D_LARGEFILE_SOURCE -D_FILE_OFFSET_BITS=64'
optimize='-O2 -g'
cppflags='-fwrapv -fno-strict-aliasing -pipe -fstack-protector-strong -I/usr/local/include'
ccversion=''
gccversion='9.3.0'
gccosandvers=''
intsize=4
longsize=8
ptrsize=8
doublesize=8
byteorder=12345678
doublekind=3
d_longlong=define
longlongsize=8
d_longdbl=define
longdblsize=16
longdblkind=3
ivtype='long'
ivsize=8
nvtype='long double'
nvsize=16
Off_t='off_t'
lseeksize=8
alignbytes=16
prototype=define
Linker and Libraries:
ld='cc'
ldflags =' -fstack-protector-strong -L/usr/local/lib'
libpth=/usr/local/lib /usr/lib/x86_64-linux-gnu /usr/lib /usr/lib64
libs=-lpthread -lnsl -ldl -lm -lcrypt -lutil -lc
perllibs=-lpthread -lnsl -ldl -lm -lcrypt -lutil -lc
libc=libc-2.31.so
so=so
useshrplib=false
libperl=libperl.a
gnulibc_version='2.31'
Dynamic Linking:
dlsrc=dl_dlopen.xs
dlext=so
d_dlsymun=undef
ccdlflags='-Wl,-E'
cccdlflags='-fPIC'
lddlflags='-shared -O2 -g -L/usr/local/lib -fstack-protector-strong'
Characteristics of this binary (from libperl):
Compile-time options:
HAS_TIMES
PERLIO_LAYERS
PERL_COPY_ON_WRITE
PERL_DONT_CREATE_GVSV
PERL_MALLOC_WRAP
PERL_OP_PARENT
PERL_PRESERVE_IVUV
PERL_USE_DEVEL
USE_64_BIT_ALL
USE_64_BIT_INT
USE_LARGE_FILES
USE_LOCALE
USE_LOCALE_COLLATE
USE_LOCALE_CTYPE
USE_LOCALE_NUMERIC
USE_LOCALE_TIME
USE_LONG_DOUBLE
USE_PERLIO
USE_PERL_ATOF
Built under linux
Compiled at Feb 20 2022 20:10:42
%ENV:
PERL5LIB=""
PERL5OPT=""
PERL5_CPANPLUS_IS_RUNNING="81677"
PERL5_CPAN_IS_RUNNING="81677"
PERL_CANARY_STABILITY_NOPROMPT="1"
PERL_MM_USE_DEFAULT="1"
PERL_USE_UNSAFE_INC="1"
@INC:
/home/sand/src/perl/repoperls/installed-perls/host/k93focal/v5.34.0/7dc8/lib/site_perl/5.34.0/x86_64-linux-ld
/home/sand/src/perl/repoperls/installed-perls/host/k93focal/v5.34.0/7dc8/lib/site_perl/5.34.0
/home/sand/src/perl/repoperls/installed-perls/host/k93focal/v5.34.0/7dc8/lib/5.34.0/x86_64-linux-ld
/home/sand/src/perl/repoperls/installed-perls/host/k93focal/v5.34.0/7dc8/lib/5.34.0
.