Report for AnyData-0.12

Back
From: metabase:user:e9d4a868-a1b6-1014-8cbd-09dd8d67b9ce
Subject: PASS AnyData-0.12 v5.20.1 GNU/Linux
Date: 2015-04-16T15:08:28Z

This distribution has been tested as part of the CPAN Testers
project, supporting the Perl programming language.  See
http://wiki.cpantesters.org/ for more information or email
questions to cpan-testers-discuss@perl.org


--
Dear Jens Rehsack,

This is a computer-generated report for AnyData-0.12
on perl 5.20.1, created by CPAN-Reporter-1.2011.

Thank you for uploading your work to CPAN.  Congratulations!
All tests were successful.

Sections of this report:

    * Tester comments
    * Program output
    * Prerequisites
    * Environment and other context

------------------------------
TESTER COMMENTS
------------------------------

Additional comments from tester:

none provided

------------------------------
PROGRAM OUTPUT
------------------------------

Output from '/usr/bin/make test':

PERL_DL_NONLAZY=1 "/home/dolmen/.plenv/versions/5.20.1/bin/perl5.20.1" "-MExtUtils::Command::MM" "-MTest::Harness" "-e" "undef *Test::Harness::Switches; test_harness(0, 'blib/lib', 'blib/arch')" t/*.t xt/*.t
t/56962.t ...... skipped: extra test for RT#56962 - needs DBI & DBD::AnyData
t/api.t ........ ok
t/fixed.t ...... ok
t/htmltable.t .. ok
t/test.t ....... ok
t/weblog.t ..... ok
t/xml.t ........ skipped: XML::Twig not installed; skipping
All tests successful.
Files=7, Tests=57,  1 wallclock secs ( 0.04 usr  0.00 sys +  0.39 cusr  0.03 csys =  0.46 CPU)
Result: PASS

------------------------------
PREREQUISITES
------------------------------

Prerequisite modules loaded:

requires:

    Module              Need     Have        
    ------------------- -------- ------------
    CGI                 0        4.09        
    perl                5.008001 5.020001    

build_requires:

    Module              Need     Have        
    ------------------- -------- ------------
    Test::More          0        1.301001_103
    Test::Output        0        1.03        

configure_requires:

    Module              Need     Have        
    ------------------- -------- ------------
    ExtUtils::MakeMaker 0        7.04        


------------------------------
ENVIRONMENT AND OTHER CONTEXT
------------------------------

Environment variables:

    LANG = fr_FR.UTF-8
    LANGUAGE = fr_FR
    NONINTERACTIVE_TESTING = 1
    PATH = /home/dolmen/.plenv/versions/5.20.1/bin:/home/dolmen/.plenv/libexec:/home/dolmen/.plenv/plugins/perl-build/bin:/home/dolmen/.nvm/v0.11.13/bin:/home/dolmen/bin:/home/dolmen/.plenv/shims:/home/dolmen/.plenv/bin:/home/dolmen/bin:/usr/local/sbin:/usr/local/bin:/usr/sbin:/usr/bin:/sbin:/bin:/usr/games:/usr/local/games
    PERL5LIB = 
    PERL5OPT = 
    PERL5_CPANPLUS_IS_RUNNING = 15416
    PERL5_CPAN_IS_RUNNING = 15416
    PERL_MM_USE_DEFAULT = 1
    SHELL = /bin/bash
    TERM = xterm

Perl special variables (and OS-specific diagnostics, for MSWin32):

    $^X = /home/dolmen/.plenv/versions/5.20.1/bin/perl5.20.1
    $UID/$EUID = 1000 / 1000
    $GID = 1000 4 24 27 30 46 108 124 126 1000
    $EGID = 1000 4 24 27 30 46 108 124 126 1000

Perl module toolchain versions installed:

    Module              Have        
    ------------------- ------------
    CPAN                2.10        
    CPAN::Meta          2.150001    
    Cwd                 3.48        
    ExtUtils::CBuilder  0.280220    
    ExtUtils::Command   1.18        
    ExtUtils::Install   2.04        
    ExtUtils::MakeMaker 7.04        
    ExtUtils::Manifest  1.70        
    ExtUtils::ParseXS   3.24        
    File::Spec          3.48        
    JSON                2.90        
    JSON::PP            2.27300     
    Module::Build       0.4211      
    Module::Signature   0.73        
    Parse::CPAN::Meta   1.4414      
    Test::Harness       3.35        
    Test::More          1.301001_103
    YAML                1.14        
    YAML::Syck          n/a         
    version             0.9912      


--

Summary of my perl5 (revision 5 version 20 subversion 1) configuration:
   
  Platform:
    osname=linux, osvers=3.13.0-36-generic, archname=x86_64-linux
    uname='linux carbon 3.13.0-36-generic #63-ubuntu smp wed sep 3 21:30:07 utc 2014 x86_64 x86_64 x86_64 gnulinux '
    config_args='-Dprefix=/home/dolmen/.plenv/versions/5.20.1 -de -Dusedevel -A'eval:scriptdir=/home/dolmen/.plenv/versions/5.20.1/bin''
    hint=recommended, useposix=true, d_sigaction=define
    useithreads=undef, usemultiplicity=undef
    use64bitint=define, use64bitall=define, uselongdouble=undef
    usemymalloc=n, bincompat5005=undef
  Compiler:
    cc='cc', ccflags ='-fwrapv -fno-strict-aliasing -pipe -fstack-protector -I/usr/local/include -D_LARGEFILE_SOURCE -D_FILE_OFFSET_BITS=64',
    optimize='-O2',
    cppflags='-fwrapv -fno-strict-aliasing -pipe -fstack-protector -I/usr/local/include'
    ccversion='', gccversion='4.8.2', gccosandvers=''
    intsize=4, longsize=8, ptrsize=8, doublesize=8, byteorder=12345678
    d_longlong=define, longlongsize=8, d_longdbl=define, longdblsize=16
    ivtype='long', ivsize=8, nvtype='double', nvsize=8, Off_t='off_t', lseeksize=8
    alignbytes=8, prototype=define
  Linker and Libraries:
    ld='cc', ldflags =' -fstack-protector -L/usr/local/lib'
    libpth=/usr/local/lib /usr/lib/gcc/x86_64-linux-gnu/4.8/include-fixed /usr/include/x86_64-linux-gnu /usr/lib /lib/x86_64-linux-gnu /lib/../lib /usr/lib/x86_64-linux-gnu /usr/lib/../lib /lib
    libs=-lnsl -ldl -lm -lcrypt -lutil -lc
    perllibs=-lnsl -ldl -lm -lcrypt -lutil -lc
    libc=, so=so, useshrplib=false, libperl=libperl.a
    gnulibc_version='2.19'
  Dynamic Linking:
    dlsrc=dl_dlopen.xs, dlext=so, d_dlsymun=undef, ccdlflags='-Wl,-E'
    cccdlflags='-fPIC', lddlflags='-shared -O2 -L/usr/local/lib -fstack-protector'


Characteristics of this binary (from libperl): 
  Compile-time options: HAS_TIMES PERLIO_LAYERS PERL_DONT_CREATE_GVSV
                        PERL_HASH_FUNC_ONE_AT_A_TIME_HARD PERL_MALLOC_WRAP
                        PERL_NEW_COPY_ON_WRITE PERL_PRESERVE_IVUV
                        PERL_USE_DEVEL USE_64_BIT_ALL USE_64_BIT_INT
                        USE_LARGE_FILES USE_LOCALE USE_LOCALE_COLLATE
                        USE_LOCALE_CTYPE USE_LOCALE_NUMERIC USE_PERLIO
                        USE_PERL_ATOF
  Built under linux
  Compiled at Oct  4 2014 23:08:06
  %ENV:
    PERL5LIB=""
    PERL5OPT=""
    PERL5_CPANPLUS_IS_RUNNING="15416"
    PERL5_CPAN_IS_RUNNING="15416"
    PERL_MM_USE_DEFAULT="1"
  @INC:
    /home/dolmen/.plenv/versions/5.20.1/lib/perl5/site_perl/5.20.1/x86_64-linux
    /home/dolmen/.plenv/versions/5.20.1/lib/perl5/site_perl/5.20.1
    /home/dolmen/.plenv/versions/5.20.1/lib/perl5/5.20.1/x86_64-linux
    /home/dolmen/.plenv/versions/5.20.1/lib/perl5/5.20.1
    .