Store-Digest v0.06 Perl 5 v5.28.0 RC2 x86_64-linux

Status
Pass
From
Slaven Rezić (SREZIC)
Dist
Store-Digest v0.06
Platform
Perl 5 v5.28.0 RC2 x86_64-linux
Date
2018-06-07 09:52:06
ID
70061466-6a38-11e8-adad-a690cc82781d
This distribution has been tested as part of the CPAN Testers
project, supporting the Perl programming language.  See
http://wiki.cpantesters.org/ for more information or email
questions to cpan-testers-discuss@perl.org


--
Dear Dorian Taylor,

This is a computer-generated report for Store-Digest-0.06
on perl 5.28.0, created by CPAN-Reporter-1.2018.

Thank you for uploading your work to CPAN.  Congratulations!
All tests were successful.

Sections of this report:

    * Tester comments
    * Program output
    * Prerequisites
    * Environment and other context

------------------------------
TESTER COMMENTS
------------------------------

Additional comments from tester:

none provided

------------------------------
PROGRAM OUTPUT
------------------------------

Output from 'make test':

PERL_DL_NONLAZY=1 "/opt/perl-5.28.0-RC2/bin/perl" "-MExtUtils::Command::MM" "-MTest::Harness" "-e" "undef *Test::Harness::Switches; test_harness(0, 'inc', 'blib/lib', 'blib/arch')" t/*.t
# Testing Store::Digest 0.06, Perl 5.028000, /opt/perl-5.28.0-RC2/bin/perl
t/00-load.t ....... ok
# ni:///sha-256;47DEQpj8HBSa-_TImW-5JCeuQeRkm5NMpJWZG3hSuFU
t/01-object.t ..... ok
# DB version: 4.7
# Store::Digest::Object
#   Digests:
#     ni:///md5;lSF_bYrxmP2cB_5cLdWciQ
#     ni:///sha-1;xK0bpGL2hQkPBtDxqXy-Yz4uDyg
#     ni:///sha-256;IcnxQtEMlihv1wFHTMjkMprLO-9-ZXZD2lcsQLmQ1xA
#     ni:///sha-384;t_Hk9o8uRxB2sRzAGjY5ycZon0FDXczwbHTO2x_NLZYxKXl5cq4nFRqV2OhiQqFl
#     ni:///sha-512;uWhaS1hSbh_-Id9T-a8_-7msx_-sFsKQgBH8yGXVtO8AAn8E7ljoHeeW7S2t54qJHY7iNrFpz8Wx8MvDXX7Ung
#   Size (Bytes): 1515
#   Added to Store: 2018-06-07T09:44:58
#   Last Modified: 2018-03-24T01:21:20
#   Properties Modified: 2018-06-07T09:44:58
#   Content Type: text/plain
#   Validation:
#     content-type    : unverified
#     charset         : unverified
#     content-encoding: unverified
#     syntax          : unverified
# Digest store stats:
#   Created on:      2018-06-07T09:44:58 
#   Last Modified:   2018-06-07T09:44:58 
#   Bytes stored:    1515                
#   Objects stored:  1                   
#   Objects deleted: 0                   
t/02-fs-driver.t .. ok
t/boilerplate.t ... ok
t/manifest.t ...... skipped: Author tests not required for installation
t/pod-coverage.t .. ok
t/pod.t ........... ok
All tests successful.

Test Summary Report
-------------------
t/boilerplate.t (Wstat: 0 Tests: 6 Failed: 0)
  TODO passed:   1-6
Files=7, Tests=35,  3 wallclock secs ( 0.02 usr  0.04 sys +  1.46 cusr  0.19 csys =  1.71 CPU)
Result: PASS

------------------------------
PREREQUISITES
------------------------------

Prerequisite modules loaded:

requires:

    Module                   Need   Have    
    ------------------------ ------ --------
    BerkeleyDB               0.55   0.55    
    Class::Load              0.23   0.24    
    DateTime                 0.70   1.49    
    DateTime::Format::HTTP   0.40   0.42    
    File::Copy               2.21   2.33    
    HTTP::Negotiate          6.00   6.01    
    Math::BigInt             1.997  1.999811
    MIME::Base32             1.02   1.303   
    Moose                    2.0604 2.2011  
    MooseX::Params::Validate 0.18   0.21    
    MooseX::Types            0.35   0.50    
    Path::Class              0.24   0.37    
    perl                     5.012  5.028000
    Plack                    1.0005 1.0047  
    Role::MimeInfo           0.01   0.02    
    String::RewritePrefix    0.007  0.007   
    Test::More               0      1.302136
    URI::ni                  0.03   0.05    
    XML::LibXML::LazyBuilder 0.05   0.08    

build_requires:

    Module                   Need   Have    
    ------------------------ ------ --------
    ExtUtils::MakeMaker      6.59   7.34    
    Module::Install          0      1.19    
    Test::More               0      1.302136

configure_requires:

    Module                   Need   Have    
    ------------------------ ------ --------
    ExtUtils::MakeMaker      6.59   7.34    
    Module::Install          0      1.19    


------------------------------
ENVIRONMENT AND OTHER CONTEXT
------------------------------

Environment variables:

    LANG = en_US.UTF-8
    LC_ALL = de_DE.UTF-8
    PATH = /usr/local/bin:/usr/bin:/bin:/usr/local/sbin:/usr/sbin:/sbin:/home/cpansand/bin/linux-gnu:/home/cpansand/bin/sh:/home/cpansand/bin:/usr/games:/home/cpansand/devel:/home/eserte/src/srezic-misc/scripts
    PERL5LIB = 
    PERL5OPT = 
    PERL5_CPANPLUS_IS_RUNNING = 19620
    PERL5_CPAN_IS_RUNNING = 19620
    PERL5_CPAN_IS_RUNNING_IN_RECURSION = 26954,19620
    PERLDOC = -MPod::Perldoc::ToTextOverstrike
    PERL_BATCH = yes
    PERL_CANARY_STABILITY_NOPROMPT = 1
    PERL_CPAN_REPORTER_CONFIG = /var/tmp/cpansmoker-1023/2018060709/cpanreporter_000_config.ini
    PERL_EXTUTILS_AUTOINSTALL = --defaultdeps
    PERL_PARALLEL_SMOKER = yes
    PERL_USE_UNSAFE_INC = 1
    SHELL = /bin/zsh
    TERM = screen
    TMPDIR = /var/tmp/cpansmoker-1023/2018060709

Perl special variables (and OS-specific diagnostics, for MSWin32):

    $^X = /opt/perl-5.28.0-RC2/bin/perl
    $UID/$EUID = 1023 / 1023
    $GID = 1023 1023
    $EGID = 1023 1023

Perl module toolchain versions installed:

    Module              Have    
    ------------------- --------
    CPAN                2.20    
    CPAN::Meta          2.150010
    Cwd                 3.74    
    ExtUtils::CBuilder  0.280230
    ExtUtils::Command   7.34    
    ExtUtils::Install   2.14    
    ExtUtils::MakeMaker 7.34    
    ExtUtils::Manifest  1.71    
    ExtUtils::ParseXS   3.39    
    File::Spec          3.74    
    JSON                2.97001 
    JSON::PP            2.97001 
    Module::Build       0.4224  
    Module::Signature   0.81    
    Parse::CPAN::Meta   2.150010
    Test::Harness       3.42    
    Test::More          1.302136
    YAML                1.26    
    YAML::Syck          1.30    
    version             0.9923  


--

Summary of my perl5 (revision 5 version 28 subversion 0) configuration:
   
  Platform:
    osname=linux
    osvers=2.6.32-696.3.1.el6.x86_64
    archname=x86_64-linux
    uname='linux centos6 2.6.32-696.3.1.el6.x86_64 #1 smp tue may 30 19:52:55 utc 2017 x86_64 x86_64 x86_64 gnulinux '
    config_args='-ds -e -Dprefix=/opt/perl-5.28.0-RC2 -Dcf_email=srezic@cpan.org'
    hint=recommended
    useposix=true
    d_sigaction=define
    useithreads=undef
    usemultiplicity=undef
    use64bitint=define
    use64bitall=define
    uselongdouble=undef
    usemymalloc=n
    default_inc_excludes_dot=define
    bincompat5005=undef
  Compiler:
    cc='cc'
    ccflags ='-fwrapv -fno-strict-aliasing -pipe -fstack-protector -I/usr/local/include -D_LARGEFILE_SOURCE -D_FILE_OFFSET_BITS=64 -D_FORTIFY_SOURCE=2'
    optimize='-O2'
    cppflags='-fwrapv -fno-strict-aliasing -pipe -fstack-protector -I/usr/local/include'
    ccversion=''
    gccversion='4.4.7 20120313 (Red Hat 4.4.7-18)'
    gccosandvers=''
    intsize=4
    longsize=8
    ptrsize=8
    doublesize=8
    byteorder=12345678
    doublekind=3
    d_longlong=define
    longlongsize=8
    d_longdbl=define
    longdblsize=16
    longdblkind=3
    ivtype='long'
    ivsize=8
    nvtype='double'
    nvsize=8
    Off_t='off_t'
    lseeksize=8
    alignbytes=8
    prototype=define
  Linker and Libraries:
    ld='cc'
    ldflags =' -fstack-protector -L/usr/local/lib'
    libpth=/usr/local/lib /usr/lib /lib/../lib64 /usr/lib/../lib64 /lib /lib64 /usr/lib64 /usr/local/lib64
    libs=-lpthread -lnsl -lgdbm -ldb -ldl -lm -lcrypt -lutil -lc
    perllibs=-lpthread -lnsl -ldl -lm -lcrypt -lutil -lc
    libc=libc-2.12.so
    so=so
    useshrplib=false
    libperl=libperl.a
    gnulibc_version='2.12'
  Dynamic Linking:
    dlsrc=dl_dlopen.xs
    dlext=so
    d_dlsymun=undef
    ccdlflags='-Wl,-E'
    cccdlflags='-fPIC'
    lddlflags='-shared -O2 -L/usr/local/lib -fstack-protector'


Characteristics of this binary (from libperl): 
  Compile-time options:
    HAS_TIMES
    PERLIO_LAYERS
    PERL_COPY_ON_WRITE
    PERL_DONT_CREATE_GVSV
    PERL_MALLOC_WRAP
    PERL_OP_PARENT
    PERL_PRESERVE_IVUV
    USE_64_BIT_ALL
    USE_64_BIT_INT
    USE_LARGE_FILES
    USE_LOCALE
    USE_LOCALE_COLLATE
    USE_LOCALE_CTYPE
    USE_LOCALE_NUMERIC
    USE_LOCALE_TIME
    USE_PERLIO
    USE_PERL_ATOF
  Locally applied patches:
    RC2
  Built under linux
  Compiled at Jun  6 2018 18:02:02
  %ENV:
    PERL5LIB=""
    PERL5OPT=""
    PERL5_CPANPLUS_IS_RUNNING="19620"
    PERL5_CPAN_IS_RUNNING="19620"
    PERL5_CPAN_IS_RUNNING_IN_RECURSION="26954,19620"
    PERLDOC="-MPod::Perldoc::ToTextOverstrike"
    PERL_BATCH="yes"
    PERL_CANARY_STABILITY_NOPROMPT="1"
    PERL_CPAN_REPORTER_CONFIG="/var/tmp/cpansmoker-1023/2018060709/cpanreporter_000_config.ini"
    PERL_EXTUTILS_AUTOINSTALL="--defaultdeps"
    PERL_PARALLEL_SMOKER="yes"
    PERL_USE_UNSAFE_INC="1"
  @INC:
    /opt/perl-5.28.0-RC2/lib/site_perl/5.28.0/x86_64-linux
    /opt/perl-5.28.0-RC2/lib/site_perl/5.28.0
    /opt/perl-5.28.0-RC2/lib/5.28.0/x86_64-linux
    /opt/perl-5.28.0-RC2/lib/5.28.0
    .