Report for Bb-Collaborate-V3-0.10

Back
From: metabase:user:30977d10-2aae-11df-837a-5e0a49663a4f
Subject: PASS Bb-Collaborate-V3-0.10 v5.22.1 GNU/Linux
Date: 2015-12-15T09:37:19Z

This distribution has been tested as part of the CPAN Testers
project, supporting the Perl programming language.  See
http://wiki.cpantesters.org/ for more information or email
questions to cpan-testers-discuss@perl.org


--
Dear David Warring,

This is a computer-generated report for Bb-Collaborate-V3-0.10
on perl 5.22.1, created by CPAN-Reporter-1.2015.

Thank you for uploading your work to CPAN.  Congratulations!
All tests were successful.

Sections of this report:

    * Tester comments
    * Program output
    * Prerequisites
    * Environment and other context

------------------------------
TESTER COMMENTS
------------------------------

Additional comments from tester:

this report is from an automated smoke testing program
and was not reviewed by a human for accuracy

------------------------------
PROGRAM OUTPUT
------------------------------

Output from '/usr/bin/make test':

PERL_DL_NONLAZY=1 "/home/stro/perl/5.22.1t/bin/perl" "-MExtUtils::Command::MM" "-MTest::Harness" "-e" "undef *Test::Harness::Switches; test_harness(0, 'inc', 'blib/lib', 'blib/arch')" t/*.t
# Testing Bb::Collaborate::V3 0.10, Elive::DAO 1.37, Perl 5.022001, /home/stro/perl/5.22.1t/bin/perl
# Test::Strict not available for strict tests
t/00load.t .................. ok
t/critic.t .................. skipped: Author test.  Set $ENV{AUTHOR_TESTING} to a true value to run.
t/pod-coverage.t ............ skipped: Author test.  Set $ENV{AUTHOR_TESTING} to a true value to run.
t/pod.t ..................... skipped: Author test.  Set $ENV{AUTHOR_TESTING} to a true value to run.
Useless use of \E at t/soap-connect-lwp.t line 31.
t/soap-connect-lwp.t ........ ok
t/soap-connect.t ............ ok
t/soap-errors.t ............. ok
t/soap-multimedia.t ......... ok
t/soap-presentation.t ....... ok
t/soap-recording.t .......... ok
t/soap-session-recurring.t .. ok
t/soap-session-telephony.t .. ok
t/soap-session.t ............ ok
t/soap-taint-mode.t ......... skipped: Test::Taint not available for taint tests
All tests successful.
Files=14, Tests=116,  1 wallclock secs ( 0.03 usr  0.02 sys +  0.72 cusr  0.05 csys =  0.82 CPU)
Result: PASS

------------------------------
PREREQUISITES
------------------------------

Prerequisite modules loaded:

requires:

    Module                   Need     Have    
    ------------------------ -------- --------
    Carp                     0        1.36    
    Class::Accessor          0        0.34    
    Class::Data::Inheritable 0        0.08    
    Date::Parse              0        2.30    
    Elive::Connection        1.37     1.37    
    Elive::DAO               1.37     1.37    
    Elive::Util              1.37     1.37    
    File::Basename           0        2.85    
    File::Spec               0        3.56    
    MIME::Base64             0        3.15    
    Mouse                    0.56     v2.4.5  
    perl                     5.008003 5.022001
    SOAP::Lite               0.712    1.19    
    Try::Tiny                0        0.24    
    URI                      0        1.69    
    XML::Simple              0        2.22    
    YAML::Syck               0        1.29    

build_requires:

    Module                   Need     Have    
    ------------------------ -------- --------
    ExtUtils::MakeMaker      6.59     7.04_01 
    Test::Builder            0        1.001014
    Test::Fatal              0        0.014   
    Test::More               0        1.001014
    Test::Warn               0        0.30    
    version                  0        0.9909  

configure_requires:

    Module                   Need     Have    
    ------------------------ -------- --------
    ExtUtils::MakeMaker      6.59     7.04_01 


------------------------------
ENVIRONMENT AND OTHER CONTEXT
------------------------------

Environment variables:

    AUTOMATED_TESTING = 1
    LANG = en_US.UTF-8
    PATH = /usr/local/bin:/usr/bin:/bin:/usr/local/games:/usr/games
    PERL5LIB = 
    PERL5OPT = 
    PERL5_CPANPLUS_IS_RUNNING = 21670
    PERL5_CPAN_IS_RUNNING = 21670
    PERL5_CPAN_IS_RUNNING_IN_RECURSION = 10302,21670
    PERL_CR_SMOKER_CURRENT = Bb-Collaborate-V3-0.10
    PERL_EXTUTILS_AUTOINSTALL = --defaultdeps
    PERL_MM_USE_DEFAULT = 1
    SHELL = /bin/bash
    TERM = xterm

Perl special variables (and OS-specific diagnostics, for MSWin32):

    $^X = /home/stro/perl/5.22.1t/bin/perl
    $UID/$EUID = 1000 / 1000
    $GID = 1000 24 25 29 30 44 46 108 114 1000
    $EGID = 1000 24 25 29 30 44 46 108 114 1000

Perl module toolchain versions installed:

    Module              Have    
    ------------------- --------
    CPAN                2.11    
    CPAN::Meta          2.150001
    Cwd                 3.56    
    ExtUtils::CBuilder  0.280221
    ExtUtils::Command   1.20    
    ExtUtils::Install   2.04    
    ExtUtils::MakeMaker 7.04_01 
    ExtUtils::Manifest  1.70    
    ExtUtils::ParseXS   3.28    
    File::Spec          3.56    
    JSON                2.90    
    JSON::PP            2.27300 
    Module::Build       0.4214  
    Module::Signature   n/a     
    Parse::CPAN::Meta   1.4414  
    Test::Harness       3.35    
    Test::More          1.001014
    YAML                1.15    
    YAML::Syck          1.29    
    version             0.9909  


--

Summary of my perl5 (revision 5 version 22 subversion 1) configuration:
   
  Platform:
    osname=linux, osvers=3.16.0-4-amd64, archname=x86_64-linux-thread-multi
    uname='linux vm-debian-001 3.16.0-4-amd64 #1 smp debian 3.16.7-ckt11-1 (2015-05-24) x86_64 gnulinux '
    config_args=''
    hint=recommended, useposix=true, d_sigaction=define
    useithreads=define, usemultiplicity=define
    use64bitint=define, use64bitall=define, uselongdouble=undef
    usemymalloc=n, bincompat5005=undef
  Compiler:
    cc='cc', ccflags ='-D_REENTRANT -D_GNU_SOURCE -fwrapv -fno-strict-aliasing -pipe -fstack-protector-strong -I/usr/local/include -D_LARGEFILE_SOURCE -D_FILE_OFFSET_BITS=64 -D_FORTIFY_SOURCE=2',
    optimize='-O2',
    cppflags='-D_REENTRANT -D_GNU_SOURCE -fwrapv -fno-strict-aliasing -pipe -fstack-protector-strong -I/usr/local/include'
    ccversion='', gccversion='4.9.2', gccosandvers=''
    intsize=4, longsize=8, ptrsize=8, doublesize=8, byteorder=12345678, doublekind=3
    d_longlong=define, longlongsize=8, d_longdbl=define, longdblsize=16, longdblkind=3
    ivtype='long', ivsize=8, nvtype='double', nvsize=8, Off_t='off_t', lseeksize=8
    alignbytes=8, prototype=define
  Linker and Libraries:
    ld='cc', ldflags =' -fstack-protector-strong -L/usr/local/lib'
    libpth=/usr/local/lib /usr/lib/gcc/x86_64-linux-gnu/4.9/include-fixed /usr/include/x86_64-linux-gnu /usr/lib /lib/x86_64-linux-gnu /lib/../lib /usr/lib/x86_64-linux-gnu /usr/lib/../lib /lib
    libs=-lpthread -lnsl -ldl -lm -lcrypt -lutil -lc
    perllibs=-lpthread -lnsl -ldl -lm -lcrypt -lutil -lc
    libc=libc-2.19.so, so=so, useshrplib=false, libperl=libperl.a
    gnulibc_version='2.19'
  Dynamic Linking:
    dlsrc=dl_dlopen.xs, dlext=so, d_dlsymun=undef, ccdlflags='-Wl,-E'
    cccdlflags='-fPIC', lddlflags='-shared -O2 -L/usr/local/lib -fstack-protector-strong'


Characteristics of this binary (from libperl): 
  Compile-time options: HAS_TIMES MULTIPLICITY PERLIO_LAYERS
                        PERL_DONT_CREATE_GVSV
                        PERL_HASH_FUNC_ONE_AT_A_TIME_HARD
                        PERL_IMPLICIT_CONTEXT PERL_MALLOC_WRAP
                        PERL_NEW_COPY_ON_WRITE PERL_PRESERVE_IVUV
                        USE_64_BIT_ALL USE_64_BIT_INT USE_ITHREADS
                        USE_LARGE_FILES USE_LOCALE USE_LOCALE_COLLATE
                        USE_LOCALE_CTYPE USE_LOCALE_NUMERIC USE_LOCALE_TIME
                        USE_PERLIO USE_PERL_ATOF USE_REENTRANT_API
  Built under linux
  Compiled at Dec 13 2015 19:04:04
  %ENV:
    PERL5LIB=""
    PERL5OPT=""
    PERL5_CPANPLUS_IS_RUNNING="21670"
    PERL5_CPAN_IS_RUNNING="21670"
    PERL5_CPAN_IS_RUNNING_IN_RECURSION="10302,21670"
    PERL_CR_SMOKER_CURRENT="Bb-Collaborate-V3-0.10"
    PERL_EXTUTILS_AUTOINSTALL="--defaultdeps"
    PERL_MM_USE_DEFAULT="1"
  @INC:
    /home/stro/perl/5.22.1t/lib/site_perl/5.22.1/x86_64-linux-thread-multi
    /home/stro/perl/5.22.1t/lib/site_perl/5.22.1
    /home/stro/perl/5.22.1t/lib/5.22.1/x86_64-linux-thread-multi
    /home/stro/perl/5.22.1t/lib/5.22.1
    .