Report for MooseX-Meta-TypeConstraint-Mooish-0.001

Back
From: metabase:user:30f4dfbe-2aae-11df-837a-5e0a49663a4f
Subject: PASS MooseX-Meta-TypeConstraint-Mooish-0.001 v5.22.2 GNU/Linux
Date: 2017-07-26T02:16:29Z

This distribution has been tested as part of the CPAN Testers
project, supporting the Perl programming language.  See
http://wiki.cpantesters.org/ for more information or email
questions to cpan-testers-discuss@perl.org


--
Dear Chris Weyl,

This is a computer-generated report for MooseX-Meta-TypeConstraint-Mooish-0.001
on perl 5.22.2, created by CPAN-Reporter-1.2018.

Thank you for uploading your work to CPAN.  Congratulations!
All tests were successful.

Sections of this report:

    * Tester comments
    * Program output
    * Prerequisites
    * Environment and other context

------------------------------
TESTER COMMENTS
------------------------------

Additional comments from tester:

this report is from an automated smoke testing program
and was not reviewed by a human for accuracy

------------------------------
PROGRAM OUTPUT
------------------------------

Output from '/usr/bin/make test':

PERL_DL_NONLAZY=1 "/home/njh/perl5/perlbrew/perls/perl-5.22.2/bin/perl5.22.2" "-MExtUtils::Command::MM" "-MTest::Harness" "-e" "undef *Test::Harness::Switches; test_harness(0, 'blib/lib', 'blib/arch')" t/*.t
# 
# 
# Generated by Dist::Zilla::Plugin::ReportVersions::Tiny v1.10
# perl: 5.022002 (wanted 5.006) on linux from /home/njh/perl5/perlbrew/perls/perl-5.22.2/bin/perl5.22.2
# 
# ExtUtils::MakeMaker                           => 7.22       (want any version)
# File::Spec                                    => 3.56_01    (want any version)
# IO::Handle                                    => 1.35       (want any version)
# IPC::Open3                                    => 1.18       (want any version)
# Moose                                         => 2.1806     (want any version)
# Moose::Meta::TypeConstraint                   => 2.1806     (want any version)
# Moose::Role                                   => 2.1806     (want any version)
# Test::CheckDeps                               => 0.010      (want 0.010)  
# Test::Fatal                                   => 0.014      (want any version)
# Test::Moose::More                             => 0.048      (want 0.028)  
# Test::More                                    => 1.302086   (want 0.94)   
# Try::Tiny                                     => 0.24       (want any version)
# aliased                                       => 0.34       (want any version)
# namespace::autoclean                          => 0.28       (want 0.24)   
# strict                                        => 1.09       (want any version)
# warnings                                      => 1.34       (want any version)
# 
# Thanks for using my code.  I hope it works for you.
# If not, please try and include this output in the bug report.
# That will help me reproduce the issue and solve your problem.
# 
t/000-report-versions-tiny.t .. ok
t/isa-mooish.t ................ ok
t/00-check-deps.t ............. ok
t/public-interface.t .......... ok
t/00-compile.t ................ ok
All tests successful.
Files=5, Tests=44,  1 wallclock secs ( 0.04 usr  0.00 sys +  1.39 cusr  0.21 csys =  1.64 CPU)
Result: PASS

------------------------------
PREREQUISITES
------------------------------

Prerequisite modules loaded:

requires:

    Module                      Need  Have    
    --------------------------- ----- --------
    Moose                       0     2.1806  
    Moose::Meta::TypeConstraint 0     2.1806  
    Moose::Role                 0     2.1806  
    namespace::autoclean        0.24  0.28    
    perl                        5.006 5.022002
    Try::Tiny                   0     0.24    

build_requires:

    Module                      Need  Have    
    --------------------------- ----- --------
    aliased                     0     0.34    
    ExtUtils::MakeMaker         0     7.22    
    File::Spec                  0     3.56_01 
    IO::Handle                  0     1.35    
    IPC::Open3                  0     1.18    
    strict                      0     1.09    
    Test::CheckDeps             0.010 0.010   
    Test::Fatal                 0     0.014   
    Test::Moose::More           0.028 0.048   
    Test::More                  0.94  1.302086
    warnings                    0     1.34    

configure_requires:

    Module                      Need  Have    
    --------------------------- ----- --------
    ExtUtils::MakeMaker         0     7.22    
    perl                        5.006 5.022002


------------------------------
ENVIRONMENT AND OTHER CONTEXT
------------------------------

Environment variables:

    AUTOMATED_TESTING = 1
    HARNESS_OPTIONS = j10
    LANG = en_GB.UTF-8
    PATH = /home/njh/perl5/perlbrew/bin:/home/njh/perl5/perlbrew/perls/perl-5.22.2/bin:/home/njh/perl5/perlbrew/bin:/usr/bin:/bin
    PERL5LIB = /tmp/build/Test-Moose-More-0.048-19/blib/arch:/tmp/build/Test-Moose-More-0.048-19/blib/lib:/tmp/build/TAP-SimpleOutput-0.009-19/blib/arch:/tmp/build/TAP-SimpleOutput-0.009-19/blib/lib:/tmp/build/Perl-Version-1.013-19/blib/arch:/tmp/build/Perl-Version-1.013-19/blib/lib:/tmp/build/File-Slurp-Tiny-0.004-19/blib/arch:/tmp/build/File-Slurp-Tiny-0.004-19/blib/lib:/tmp/build/Syntax-Keyword-Junction-0.003008-19/blib/arch:/tmp/build/Syntax-Keyword-Junction-0.003008-19/blib/lib:/tmp/build/syntax-0.004-19/blib/arch:/tmp/build/syntax-0.004-19/blib/lib:/tmp/build/Data-Edit-Xml-20170727-20/blib/arch:/tmp/build/Data-Edit-Xml-20170727-20/blib/lib:/tmp/build/XML-Parser-2.44-6/blib/arch:/tmp/build/XML-Parser-2.44-6/blib/lib:/tmp/build/Data-Table-Text-2017.718-47/blib/arch:/tmp/build/Data-Table-Text-2017.718-47/blib/lib:/tmp/build/Image-SVG-Transform-0.08-20/blib/arch:/tmp/build/Image-SVG-Transform-0.08-20/blib/lib:/tmp/build/Ouch-0.0500-20/blib/arch:/tmp/build/Ouch-0.0500-20/blib/lib:/tmp/build/Math-Matrix-0.8-20/blib/arch:/tmp/build/Math-Matrix-0.8-20/blib/lib
    PERL5OPT = 
    PERL5_CPANPLUS_IS_RUNNING = 20541
    PERL5_CPAN_IS_RUNNING = 20541
    PERLBREW_BASHRC_VERSION = 0.78
    PERLBREW_HOME = /home/njh/.perlbrew
    PERLBREW_LIB = 
    PERLBREW_MANPATH = /home/njh/perl5/perlbrew/perls/perl-5.22.2/man
    PERLBREW_PATH = /home/njh/perl5/perlbrew/bin:/home/njh/perl5/perlbrew/perls/perl-5.22.2/bin
    PERLBREW_PERL = perl-5.22.2
    PERLBREW_ROOT = /home/njh/perl5/perlbrew
    PERLBREW_VERSION = 0.78
    PERL_LOCAL_LIB_ROOT = 
    SHELL = /bin/sh

Perl special variables (and OS-specific diagnostics, for MSWin32):

    $^X = /home/njh/perl5/perlbrew/perls/perl-5.22.2/bin/perl5.22.2
    $UID/$EUID = 1000 / 1000
    $GID = 1000 4 24 25 29 30 44 46 107 112 118 1000
    $EGID = 1000 4 24 25 29 30 44 46 107 112 118 1000

Perl module toolchain versions installed:

    Module              Have    
    ------------------- --------
    CPAN                2.16    
    CPAN::Meta          2.150001
    Cwd                 3.56_01 
    ExtUtils::CBuilder  0.280221
    ExtUtils::Command   7.22    
    ExtUtils::Install   2.04    
    ExtUtils::MakeMaker 7.22    
    ExtUtils::Manifest  1.70    
    ExtUtils::ParseXS   3.30    
    File::Spec          3.56_01 
    JSON                2.90    
    JSON::PP            2.27400 
    Module::Build       0.4218  
    Module::Signature   n/a     
    Parse::CPAN::Meta   1.4414  
    Test::Harness       3.36    
    Test::More          1.302086
    YAML                1.23    
    YAML::Syck          1.30    
    version             0.9909  


--

Summary of my perl5 (revision 5 version 22 subversion 2) configuration:
   
  Platform:
    osname=linux, osvers=4.5.0-1-amd64, archname=x86_64-linux-thread-multi
    uname='linux cyberpower2 4.5.0-1-amd64 #1 smp debian 4.5.1-1 (2016-04-14) x86_64 gnulinux '
    config_args='-de -Dprefix=/home/njh/perl5/perlbrew/perls/perl-5.22.2 -Duseithreads -Dusemultiplicity -Dusedevel -Accflags= -Aeval:scriptdir=/home/njh/perl5/perlbrew/perls/perl-5.22.2/bin'
    hint=recommended, useposix=true, d_sigaction=define
    useithreads=define, usemultiplicity=define
    use64bitint=define, use64bitall=define, uselongdouble=undef
    usemymalloc=n, bincompat5005=undef
  Compiler:
    cc='cc', ccflags ='-D_REENTRANT -D_GNU_SOURCE -fwrapv -fno-strict-aliasing -pipe -fstack-protector-strong -I/usr/local/include -D_LARGEFILE_SOURCE -D_FILE_OFFSET_BITS=64 -D_FORTIFY_SOURCE=2',
    optimize='-O2',
    cppflags='-D_REENTRANT -D_GNU_SOURCE -fwrapv -fno-strict-aliasing -pipe -fstack-protector-strong -I/usr/local/include'
    ccversion='', gccversion='5.3.1 20160409', gccosandvers=''
    intsize=4, longsize=8, ptrsize=8, doublesize=8, byteorder=12345678, doublekind=3
    d_longlong=define, longlongsize=8, d_longdbl=define, longdblsize=16, longdblkind=3
    ivtype='long', ivsize=8, nvtype='double', nvsize=8, Off_t='off_t', lseeksize=8
    alignbytes=8, prototype=define
  Linker and Libraries:
    ld='cc', ldflags =' -fstack-protector-strong -L/usr/local/lib'
    libpth=/usr/local/lib /usr/lib/gcc/x86_64-linux-gnu/5/include-fixed /usr/include/x86_64-linux-gnu /usr/lib /lib/x86_64-linux-gnu /lib/../lib /usr/lib/x86_64-linux-gnu /usr/lib/../lib /lib
    libs=-lpthread -lnsl -lgdbm -ldb -ldl -lm -lcrypt -lutil -lc -lgdbm_compat
    perllibs=-lpthread -lnsl -ldl -lm -lcrypt -lutil -lc
    libc=libc-2.22.so, so=so, useshrplib=false, libperl=libperl.a
    gnulibc_version='2.22'
  Dynamic Linking:
    dlsrc=dl_dlopen.xs, dlext=so, d_dlsymun=undef, ccdlflags='-Wl,-E'
    cccdlflags='-fPIC', lddlflags='-shared -O2 -L/usr/local/lib -fstack-protector-strong'


Characteristics of this binary (from libperl): 
  Compile-time options: HAS_TIMES MULTIPLICITY PERLIO_LAYERS
                        PERL_DONT_CREATE_GVSV
                        PERL_HASH_FUNC_ONE_AT_A_TIME_HARD
                        PERL_IMPLICIT_CONTEXT PERL_MALLOC_WRAP
                        PERL_NEW_COPY_ON_WRITE PERL_PRESERVE_IVUV
                        PERL_USE_DEVEL USE_64_BIT_ALL USE_64_BIT_INT
                        USE_ITHREADS USE_LARGE_FILES USE_LOCALE
                        USE_LOCALE_COLLATE USE_LOCALE_CTYPE
                        USE_LOCALE_NUMERIC USE_LOCALE_TIME USE_PERLIO
                        USE_PERL_ATOF USE_REENTRANT_API
  Built under linux
  Compiled at May  2 2016 00:31:45
  %ENV:
    PERL5LIB="/tmp/build/Test-Moose-More-0.048-19/blib/arch:/tmp/build/Test-Moose-More-0.048-19/blib/lib:/tmp/build/TAP-SimpleOutput-0.009-19/blib/arch:/tmp/build/TAP-SimpleOutput-0.009-19/blib/lib:/tmp/build/Perl-Version-1.013-19/blib/arch:/tmp/build/Perl-Version-1.013-19/blib/lib:/tmp/build/File-Slurp-Tiny-0.004-19/blib/arch:/tmp/build/File-Slurp-Tiny-0.004-19/blib/lib:/tmp/build/Syntax-Keyword-Junction-0.003008-19/blib/arch:/tmp/build/Syntax-Keyword-Junction-0.003008-19/blib/lib:/tmp/build/syntax-0.004-19/blib/arch:/tmp/build/syntax-0.004-19/blib/lib:/tmp/build/Data-Edit-Xml-20170727-20/blib/arch:/tmp/build/Data-Edit-Xml-20170727-20/blib/lib:/tmp/build/XML-Parser-2.44-6/blib/arch:/tmp/build/XML-Parser-2.44-6/blib/lib:/tmp/build/Data-Table-Text-2017.718-47/blib/arch:/tmp/build/Data-Table-Text-2017.718-47/blib/lib:/tmp/build/Image-SVG-Transform-0.08-20/blib/arch:/tmp/build/Image-SVG-Transform-0.08-20/blib/lib:/tmp/build/Ouch-0.0500-20/blib/arch:/tmp/build/Ouch-0.0500-20/blib/lib:/tmp/build/Math-Matrix-0.8-20/blib/arch:/tmp/build/Math-Matrix-0.8-20/blib/lib"
    PERL5OPT=""
    PERL5_CPANPLUS_IS_RUNNING="20541"
    PERL5_CPAN_IS_RUNNING="20541"
    PERLBREW_BASHRC_VERSION="0.78"
    PERLBREW_HOME="/home/njh/.perlbrew"
    PERLBREW_LIB=""
    PERLBREW_MANPATH="/home/njh/perl5/perlbrew/perls/perl-5.22.2/man"
    PERLBREW_PATH="/home/njh/perl5/perlbrew/bin:/home/njh/perl5/perlbrew/perls/perl-5.22.2/bin"
    PERLBREW_PERL="perl-5.22.2"
    PERLBREW_ROOT="/home/njh/perl5/perlbrew"
    PERLBREW_VERSION="0.78"
    PERL_LOCAL_LIB_ROOT=""
  @INC:
    /tmp/build/Test-Moose-More-0.048-19/blib/arch
    /tmp/build/Test-Moose-More-0.048-19/blib/lib
    /tmp/build/TAP-SimpleOutput-0.009-19/blib/arch
    /tmp/build/TAP-SimpleOutput-0.009-19/blib/lib
    /tmp/build/Perl-Version-1.013-19/blib/arch
    /tmp/build/Perl-Version-1.013-19/blib/lib
    /tmp/build/File-Slurp-Tiny-0.004-19/blib/arch
    /tmp/build/File-Slurp-Tiny-0.004-19/blib/lib
    /tmp/build/Syntax-Keyword-Junction-0.003008-19/blib/arch
    /tmp/build/Syntax-Keyword-Junction-0.003008-19/blib/lib
    /tmp/build/syntax-0.004-19/blib/arch
    /tmp/build/syntax-0.004-19/blib/lib
    /tmp/build/Data-Edit-Xml-20170727-20/blib/arch
    /tmp/build/Data-Edit-Xml-20170727-20/blib/lib
    /tmp/build/XML-Parser-2.44-6/blib/arch
    /tmp/build/XML-Parser-2.44-6/blib/lib
    /tmp/build/Data-Table-Text-2017.718-47/blib/arch
    /tmp/build/Data-Table-Text-2017.718-47/blib/lib
    /tmp/build/Image-SVG-Transform-0.08-20/blib/arch
    /tmp/build/Image-SVG-Transform-0.08-20/blib/lib
    /tmp/build/Ouch-0.0500-20/blib/arch
    /tmp/build/Ouch-0.0500-20/blib/lib
    /tmp/build/Math-Matrix-0.8-20/blib/arch
    /tmp/build/Math-Matrix-0.8-20/blib/lib
    /home/njh/perl5/perlbrew/perls/perl-5.22.2/lib/site_perl/5.22.2/x86_64-linux-thread-multi
    /home/njh/perl5/perlbrew/perls/perl-5.22.2/lib/site_perl/5.22.2
    /home/njh/perl5/perlbrew/perls/perl-5.22.2/lib/5.22.2/x86_64-linux-thread-multi
    /home/njh/perl5/perlbrew/perls/perl-5.22.2/lib/5.22.2
    .