Report for DataFlow-Proc-URLRetriever-1.121690

Back
From: metabase:user:30ae4450-2aae-11df-837a-5e0a49663a4f
Subject: PASS DataFlow-Proc-URLRetriever-1.121690 v5.18.1 
Date: 2014-02-21T15:49:44Z

This distribution has been tested as part of the CPAN Testers
project, supporting the Perl programming language.  See
http://wiki.cpantesters.org/ for more information or email
questions to cpan-testers-discuss@perl.org


--
Dear Alexei Znamensky,

This is a computer-generated report for DataFlow-Proc-URLRetriever-1.121690
on perl 5.18.1, created by CPAN-Reporter-1.2010_01.

Thank you for uploading your work to CPAN.  Congratulations!
All tests were successful.

Sections of this report:

    * Tester comments
    * Program output
    * Prerequisites
    * Environment and other context

------------------------------
TESTER COMMENTS
------------------------------

Additional comments from tester:

this report is from an automated smoke testing program
and was not reviewed by a human for accuracy

------------------------------
PROGRAM OUTPUT
------------------------------

Output from 'C:\strawberry181\c\bin\dmake.exe test':

C:\strawberry181\perl\bin\perl.exe "-MExtUtils::Command::MM" "-e" "test_harness(0, 'blib\lib', 'blib\arch')" t/*.t
t/00-compile.t ................ ok
t/00-load.t ................... ok
# 
# 
# perl: v5.18.1 (wanted any version) on MSWin32 from C:\strawberry181\perl\bin\perl.exe
# 
# DataFlow                                      => module not found. (want 1.112100)
# DataFlow::Proc                                => module not found. (want any version)
# ExtUtils::MakeMaker                           => 6.72       (want 6.30)   
# File::Find                                    => 1.23       (want any version)
# File::Temp                                    => 0.2301     (want any version)
# LWP::UserAgent                                => 6.05       (want any version)
# Moose                                         => 2.1202     (want any version)
# Test::More                                    => 1.001002   (want 0.88)   
# Test::UseAllModules                           => 0.14       (want any version)
# URI                                           => 1.60       (want any version)
# namespace::autoclean                          => 0.13       (want any version)
# strict                                        => 1.07       (want any version)
# warnings                                      => 1.18       (want any version)
# 
# Thanks for using my code.  I hope it works for you.
# If not, please try and include this output in the bug report.
# That will help me reproduce the issue and solve you problem.
# 
t/000-report-versions-tiny.t .. ok
t/62-urlretriever.t ........... ok
t/author-critic.t ............. skipped: these tests are for testing by the author
t/author-test-eol.t ........... skipped: these tests are for testing by the author
t/release-dist-manifest.t ..... skipped: these tests are for release candidate testing
t/release-distmeta.t .......... skipped: these tests are for release candidate testing
t/release-kwalitee.t .......... skipped: these tests are for release candidate testing
t/release-meta-json.t ......... skipped: these tests are for release candidate testing
t/release-minimum-version.t ... skipped: these tests are for release candidate testing
t/release-mojibake.t .......... skipped: these tests are for release candidate testing
t/release-no-tabs.t ........... skipped: these tests are for release candidate testing
t/release-pod-coverage.t ...... skipped: these tests are for release candidate testing
t/release-pod-linkcheck.t ..... skipped: these tests are for release candidate testing
t/release-pod-syntax.t ........ skipped: these tests are for release candidate testing
t/release-portability.t ....... skipped: these tests are for release candidate testing
t/release-test-version.t ...... skipped: these tests are for release candidate testing
t/release-unused-vars.t ....... skipped: these tests are for release candidate testing
All tests successful.
Files=19, Tests=4,  5 wallclock secs ( 0.06 usr +  0.14 sys =  0.20 CPU)
Result: PASS

------------------------------
PREREQUISITES
------------------------------

Prerequisite modules loaded:

requires:

    Module               Need     Have    
    -------------------- -------- --------
  ! DataFlow             1.112100 n/a     
  ! DataFlow::Proc       0        n/a     
    LWP::UserAgent       0        6.05    
    Moose                0        2.1202  
    namespace::autoclean 0        0.13    
    strict               0        1.07    
    URI                  0        1.60    
    warnings             0        1.18    

build_requires:

    Module               Need     Have    
    -------------------- -------- --------
    File::Find           0        1.23    
    File::Temp           0        0.2301  
    Test::More           0.88     1.001002
    Test::UseAllModules  0        0.14    

configure_requires:

    Module               Need     Have    
    -------------------- -------- --------
    ExtUtils::MakeMaker  6.30     6.72    


------------------------------
ENVIRONMENT AND OTHER CONTEXT
------------------------------

Environment variables:

    AUTOMATED_TESTING = 1
    COMSPEC = C:\WINDOWS\system32\cmd.exe
    NUMBER_OF_PROCESSORS = 1
    PATH = C:\Program Files\Far Manager\;C:\WINDOWS\system32;C:\WINDOWS;C:\WINDOWS\System32\Wbem;C:\strawberry181\c\bin;C:\strawberry181\perl\site\bin;C:\strawberry181\perl\bin
    PERL5LIB = C:\strawberry181\cpan\build\MooseX-Types-IO-0.03-tkwGU5/blib/arch;C:\strawberry181\cpan\build\MooseX-Types-IO-0.03-tkwGU5/blib/lib;C:\strawberry181\cpan\build\Queue-Base-2.203-oRToPQ/blib/arch;C:\strawberry181\cpan\build\Queue-Base-2.203-oRToPQ/blib/lib
    PERL5OPT = 
    PERL5_CPANPLUS_IS_RUNNING = 23460
    PERL5_CPAN_IS_RUNNING = 23460
    PERL5_CPAN_IS_RUNNING_IN_RECURSION = 2212,23460
    PERL_CR_SMOKER_CURRENT = Task-DataFlow-0.008
    PERL_EXTUTILS_AUTOINSTALL = --defaultdeps
    PERL_HASH_SEED = 0x11111111
    PERL_MM_USE_DEFAULT = 1
    PROCESSOR_IDENTIFIER = x86 Family 16 Model 5 Stepping 3, AuthenticAMD
    TEMP = C:\DOCUME~1\c\LOCALS~1\Temp
    TERM = dumb

Perl special variables (and OS-specific diagnostics, for MSWin32):

    $^X = C:\strawberry181\perl\bin\perl.exe
    $UID/$EUID = 0 / 0
    $GID = 0
    $EGID = 0
    Win32::GetOSName = WinXP/.Net
    Win32::GetOSVersion = Service Pack 3, 5, 1, 2600, 2, 3, 0, 256, 1
    Win32::FsType = NTFS
    Win32::IsAdminUser = 1

Perl module toolchain versions installed:

    Module              Have    
    ------------------- --------
    CPAN                2.00    
    CPAN::Meta          2.132140
    Cwd                 3.40    
    ExtUtils::CBuilder  0.280210
    ExtUtils::Command   1.17    
    ExtUtils::Install   1.59    
    ExtUtils::MakeMaker 6.72    
    ExtUtils::Manifest  1.63    
    ExtUtils::ParseXS   3.22    
    File::Spec          3.40    
    JSON                2.59    
    JSON::PP            2.27202 
    Module::Build       0.4204  
    Module::Signature   n/a     
    Parse::CPAN::Meta   1.4405  
    Test::Harness       3.30    
    Test::More          1.001002
    YAML                0.88    
    YAML::Syck          1.27    
    version             0.9902  


--

Summary of my perl5 (revision 5 version 18 subversion 1) configuration:
   
  Platform:
    osname=MSWin32, osvers=4.0, archname=MSWin32-x86-multi-thread-64int
    uname='Win32 strawberry-perl 5.18.1.1 #1 Tue Aug 13 19:20:13 2013 i386'
    config_args='undef'
    hint=recommended, useposix=true, d_sigaction=undef
    useithreads=define, usemultiplicity=define
    useperlio=define, d_sfio=undef, uselargefiles=define, usesocks=undef
    use64bitint=define, use64bitall=undef, uselongdouble=undef
    usemymalloc=n, bincompat5005=undef
  Compiler:
    cc='gcc', ccflags =' -s -O2 -DWIN32  -DPERL_TEXTMODE_SCRIPTS -DPERL_IMPLICIT_CONTEXT -DPERL_IMPLICIT_SYS -DUSE_PERLIO -fno-strict-aliasing -mms-bitfields',
    optimize='-s -O2',
    cppflags='-DWIN32'
    ccversion='', gccversion='4.7.3', gccosandvers=''
    intsize=4, longsize=4, ptrsize=4, doublesize=8, byteorder=12345678
    d_longlong=define, longlongsize=8, d_longdbl=define, longdblsize=12
    ivtype='long long', ivsize=8, nvtype='double', nvsize=8, Off_t='long long', lseeksize=8
    alignbytes=8, prototype=define
  Linker and Libraries:
    ld='g++', ldflags ='-s -L"C:\strawberry181\perl\lib\CORE" -L"C:\strawberry181\c\lib"'
    libpth=C:\strawberry181\c\lib C:\strawberry181\c\i686-w64-mingw32\lib
    libs=-lmoldname -lkernel32 -luser32 -lgdi32 -lwinspool -lcomdlg32 -ladvapi32 -lshell32 -lole32 -loleaut32 -lnetapi32 -luuid -lws2_32 -lmpr -lwinmm -lversion -lodbc32 -lodbccp32 -lcomctl32
    perllibs=-lmoldname -lkernel32 -luser32 -lgdi32 -lwinspool -lcomdlg32 -ladvapi32 -lshell32 -lole32 -loleaut32 -lnetapi32 -luuid -lws2_32 -lmpr -lwinmm -lversion -lodbc32 -lodbccp32 -lcomctl32
    libc=, so=dll, useshrplib=true, libperl=libperl518.a
    gnulibc_version=''
  Dynamic Linking:
    dlsrc=dl_win32.xs, dlext=dll, d_dlsymun=undef, ccdlflags=' '
    cccdlflags=' ', lddlflags='-mdll -s -L"C:\strawberry181\perl\lib\CORE" -L"C:\strawberry181\c\lib"'


Characteristics of this binary (from libperl): 
  Compile-time options: HAS_TIMES HAVE_INTERP_INTERN MULTIPLICITY
                        PERLIO_LAYERS PERL_DONT_CREATE_GVSV
                        PERL_HASH_FUNC_ONE_AT_A_TIME_HARD
                        PERL_IMPLICIT_CONTEXT PERL_IMPLICIT_SYS
                        PERL_MALLOC_WRAP PERL_PRESERVE_IVUV PERL_SAWAMPERSAND
                        USE_64_BIT_INT USE_ITHREADS USE_LARGE_FILES
                        USE_LOCALE USE_LOCALE_COLLATE USE_LOCALE_CTYPE
                        USE_LOCALE_NUMERIC USE_PERLIO USE_PERL_ATOF
  Built under MSWin32
  Compiled at Aug 13 2013 19:29:16
  %ENV:
    PERL5LIB="C:\strawberry181\cpan\build\MooseX-Types-IO-0.03-tkwGU5/blib/arch;C:\strawberry181\cpan\build\MooseX-Types-IO-0.03-tkwGU5/blib/lib;C:\strawberry181\cpan\build\Queue-Base-2.203-oRToPQ/blib/arch;C:\strawberry181\cpan\build\Queue-Base-2.203-oRToPQ/blib/lib"
    PERL5_CPANPLUS_IS_RUNNING="23460"
    PERL5_CPAN_IS_RUNNING="23460"
    PERL5_CPAN_IS_RUNNING_IN_RECURSION="2212,23460"
    PERL_CR_SMOKER_CURRENT="Task-DataFlow-0.008"
    PERL_EXTUTILS_AUTOINSTALL="--defaultdeps"
    PERL_HASH_SEED="0x11111111"
    PERL_MM_USE_DEFAULT="1"
  @INC:
    C:\strawberry181\cpan\build\MooseX-Types-IO-0.03-tkwGU5/blib/arch
    C:\strawberry181\cpan\build\MooseX-Types-IO-0.03-tkwGU5/blib/lib
    C:\strawberry181\cpan\build\Queue-Base-2.203-oRToPQ/blib/arch
    C:\strawberry181\cpan\build\Queue-Base-2.203-oRToPQ/blib/lib
    C:/strawberry181/perl/site/lib
    C:/strawberry181/perl/vendor/lib
    C:/strawberry181/perl/lib
    .