Catalyst-Controller-SimpleCAS v1.002 Perl 5 v5.24.0 i86pc-solaris-multi

Status
Pass
From
Serguei Trouchelle (STRO)
Dist
Catalyst-Controller-SimpleCAS v1.002
Platform
Perl 5 v5.24.0 i86pc-solaris-multi
Date
2018-02-07 06:30:48
ID
6f601618-0bd0-11e8-a264-993a4b9d12ec
This distribution has been tested as part of the CPAN Testers
project, supporting the Perl programming language.  See
http://wiki.cpantesters.org/ for more information or email
questions to cpan-testers-discuss@perl.org


--
Dear Henry Van Styn,

This is a computer-generated report for Catalyst-Controller-SimpleCAS-1.002
on perl 5.24.0, created by CPAN-Reporter-1.2018.

Thank you for uploading your work to CPAN.  Congratulations!
All tests were successful.

Sections of this report:

    * Tester comments
    * Program output
    * Prerequisites
    * Environment and other context

------------------------------
TESTER COMMENTS
------------------------------

Additional comments from tester:

this report is from an automated smoke testing program
and was not reviewed by a human for accuracy

------------------------------
PROGRAM OUTPUT
------------------------------

Output from '/usr/bin/make test':

PERL_DL_NONLAZY=1 "/home/stro/perl/5.24.0m/bin/perl" "-MExtUtils::Command::MM" "-MTest::Harness" "-e" "undef *Test::Harness::Switches; test_harness(0, 'blib/lib', 'blib/arch')" t/*.t
t/01_basic.t ........ ok
t/10_store_file.t ... ok
t/99_pod.t .......... skipped: set AUTHOR_TESTING to enable this test
t/99_podcoverage.t .. skipped: set AUTHOR_TESTING to enable this test
t/99_podspelling.t .. skipped: set AUTHOR_TESTING to enable this test
All tests successful.
Files=5, Tests=12,  2 wallclock secs ( 0.03 usr  0.02 sys +  1.20 cusr  0.19 csys =  1.44 CPU)
Result: PASS

------------------------------
PREREQUISITES
------------------------------

Prerequisite modules loaded:

requires:

    Module                                 Need  Have    
    -------------------------------------- ----- --------
    bytes                                  0     1.05    
    Carp                                   0     1.40    
    Catalyst::Controller                   0     0       
    Catalyst::Utils                        0     0       
    CatalystX::InjectComponent             0     0.025   
    Data::Dumper                           0     2.161   
    Digest::SHA1                           0     2.13    
    Email::MIME                            1.929 1.940   
    Email::MIME::CreateHTML                1.042 1.042   
    Email::MIME::CreateHTML::Resolver::LWP 0     1.042   
    Email::Simple                          2.206 2.211   
    Encode                                 0     2.80    
    File::Copy                             0     2.31    
    File::MimeInfo::Magic                  0     0.28    
    File::Spec::Functions                  0     3.63    
    HTML::Encoding                         0     0.61    
    HTML::TokeParser::Simple               0     3.16    
    Image::Size                            0     3.300   
    IO::All                                0     0.86    
    IO::File                               0     1.16    
    JSON                                   0     2.90    
    MIME::Base64                           0     3.15    
    Module::Runtime                        0     0.014   
    Moose                                  0     2.2009  
    Moose::Role                            0     2.2009  
    MooseX::MethodAttributes::Role         0.29  0.31    
    namespace::autoclean                   0     0.28    
    Path::Class                            0     0.37    
    Scalar::Util                           0     1.49    
    Storable                               0     3.05    
    strict                                 0     1.11    
    String::Random                         0     0.29    
    Tie::IxHash                            0     1.23    
    Try::Tiny                              0     0.28    
    Types::Standard                        0     1.000006
    warnings                               0     1.36    

build_requires:

    Module                                 Need  Have    
    -------------------------------------- ----- --------
    ExtUtils::MakeMaker                    0     7.30    
    FindBin                                0     1.51    
    lib                                    0     0.63    
    Test::Exception                        0     0.43    
    Test::More                             0     1.302120

configure_requires:

    Module                                 Need  Have    
    -------------------------------------- ----- --------
    ExtUtils::MakeMaker                    0     7.30    


------------------------------
ENVIRONMENT AND OTHER CONTEXT
------------------------------

Environment variables:

    AUTOMATED_TESTING = 1
    LANG = en_US.UTF-8
    PATH = /usr/gnu/bin:/usr/bin:/usr/sbin:/sbin:/usr/sfw/bin:
    PERL5LIB = 
    PERL5OPT = 
    PERL5_CPANPLUS_IS_RUNNING = 9414
    PERL5_CPAN_IS_RUNNING = 9414
    PERL5_CPAN_IS_RUNNING_IN_RECURSION = 3052,9414
    PERL_CR_SMOKER_CURRENT = Catalyst-Controller-SimpleCAS-1.002
    PERL_EXTUTILS_AUTOINSTALL = --defaultdeps
    PERL_MM_USE_DEFAULT = 1
    SHELL = /bin/bash
    TERM = xterm-256color

Perl special variables (and OS-specific diagnostics, for MSWin32):

    $^X = /home/stro/perl/5.24.0m/bin/perl
    $UID/$EUID = 101 / 101
    $GID = 10 10
    $EGID = 10 10

Perl module toolchain versions installed:

    Module              Have    
    ------------------- --------
    CPAN                2.14    
    CPAN::Meta          2.150005
    Cwd                 3.63    
    ExtUtils::CBuilder  0.280225
    ExtUtils::Command   7.30    
    ExtUtils::Install   2.06    
    ExtUtils::MakeMaker 7.30    
    ExtUtils::Manifest  1.70    
    ExtUtils::ParseXS   3.31    
    File::Spec          3.63    
    JSON                2.90    
    JSON::PP            2.97001 
    Module::Build       0.4224  
    Module::Signature   0.81    
    Parse::CPAN::Meta   1.4417  
    Test::Harness       3.38    
    Test::More          1.302120
    YAML                1.23    
    YAML::Syck          1.30    
    version             0.9916  


--

Summary of my perl5 (revision 5 version 24 subversion 0) configuration:
   
  Platform:
    osname=solaris, osvers=2.11, archname=i86pc-solaris-multi
    uname='sunos vm-openindiana-001 5.11 illumos-2816291 i86pc i386 i86pc '
    config_args='-Dcc=gcc'
    hint=recommended, useposix=true, d_sigaction=define
    useithreads=undef, usemultiplicity=define
    use64bitint=undef, use64bitall=undef, uselongdouble=undef
    usemymalloc=n, bincompat5005=undef
  Compiler:
    cc='gcc', ccflags ='-fno-strict-aliasing -pipe -I/usr/gnu/include -D_LARGEFILE_SOURCE -D_FILE_OFFSET_BITS=64 -DPERL_USE_SAFE_PUTENV',
    optimize='-O',
    cppflags='-fno-strict-aliasing -pipe -I/usr/gnu/include'
    ccversion='', gccversion='3.4.3 (csl-sol210-3_4-20050802)', gccosandvers='solaris2.11'
    intsize=4, longsize=4, ptrsize=4, doublesize=8, byteorder=1234, doublekind=3
    d_longlong=define, longlongsize=8, d_longdbl=define, longdblsize=12, longdblkind=3
    ivtype='long', ivsize=4, nvtype='double', nvsize=8, Off_t='off_t', lseeksize=8
    alignbytes=4, prototype=define
  Linker and Libraries:
    ld='gcc', ldflags =' -L/usr/gnu/lib '
    libpth=/usr/gcc/3.4/lib /usr/lib /usr/gnu/lib /usr/ccs/lib
    libs=-lpthread -lsocket -lnsl -lgdbm -ldb -ldl -lm -lc
    perllibs=-lpthread -lsocket -lnsl -ldl -lm -lc
    libc=/lib/libc.so, so=so, useshrplib=true, libperl=libperl.so
    gnulibc_version=''
  Dynamic Linking:
    dlsrc=dl_dlopen.xs, dlext=so, d_dlsymun=undef, ccdlflags='  -R /home/stro/perl/5.24.0m/lib/5.24.0/i86pc-solaris-multi/CORE'
    cccdlflags='-fPIC', lddlflags='-shared -L/usr/gnu/lib'


Characteristics of this binary (from libperl): 
  Compile-time options: HAS_TIMES MULTIPLICITY PERLIO_LAYERS
                        PERL_COPY_ON_WRITE PERL_DONT_CREATE_GVSV
                        PERL_HASH_FUNC_ONE_AT_A_TIME_HARD
                        PERL_IMPLICIT_CONTEXT PERL_MALLOC_WRAP
                        PERL_PRESERVE_IVUV PERL_USE_SAFE_PUTENV
                        USE_LARGE_FILES USE_LOCALE USE_LOCALE_COLLATE
                        USE_LOCALE_CTYPE USE_LOCALE_NUMERIC USE_LOCALE_TIME
                        USE_PERLIO USE_PERL_ATOF
  Built under solaris
  Compiled at Dec 23 2016 13:35:33
  %ENV:
    PERL5LIB=""
    PERL5OPT=""
    PERL5_CPANPLUS_IS_RUNNING="9414"
    PERL5_CPAN_IS_RUNNING="9414"
    PERL5_CPAN_IS_RUNNING_IN_RECURSION="3052,9414"
    PERL_CR_SMOKER_CURRENT="Catalyst-Controller-SimpleCAS-1.002"
    PERL_EXTUTILS_AUTOINSTALL="--defaultdeps"
    PERL_MM_USE_DEFAULT="1"
  @INC:
    /home/stro/perl/5.24.0m/lib/site_perl/5.24.0/i86pc-solaris-multi
    /home/stro/perl/5.24.0m/lib/site_perl/5.24.0
    /home/stro/perl/5.24.0m/lib/5.24.0/i86pc-solaris-multi
    /home/stro/perl/5.24.0m/lib/5.24.0
    .