Back
From: metabase:user:30977d10-2aae-11df-837a-5e0a49663a4f
Subject: PASS CGI-Buffer-0.79 v5.25.7 GNU/Linux
Date: 2017-01-07T06:42:18Z
This distribution has been tested as part of the CPAN Testers
project, supporting the Perl programming language. See
http://wiki.cpantesters.org/ for more information or email
questions to cpan-testers-discuss@perl.org
--
Dear Nigel Horne,
This is a computer-generated report for CGI-Buffer-0.79
on perl 5.25.7, created by CPAN-Reporter-1.2018.
Thank you for uploading your work to CPAN. Congratulations!
All tests were successful.
Sections of this report:
* Tester comments
* Program output
* Prerequisites
* Environment and other context
------------------------------
TESTER COMMENTS
------------------------------
Additional comments from tester:
this report is from an automated smoke testing program
and was not reviewed by a human for accuracy
------------------------------
PROGRAM OUTPUT
------------------------------
Output from '/usr/bin/make test':
PERL_DL_NONLAZY=1 "/home/stro/perl/5.25.7m/bin/perl" "-MExtUtils::Command::MM" "-MTest::Harness" "-e" "undef *Test::Harness::Switches; test_harness(0, 'blib/lib', 'blib/arch')" t/*.t
# Testing CGI::Buffer 0.79, Perl 5.025007, /home/stro/perl/5.25.7m/bin/perl
t/00-load.t ..... ok
t/apoc.t ........ skipped: Test::Apocalypse required for testing the distribution
t/boiler.t ...... ok
t/changes.t ..... skipped: Author tests not required for installation
t/coverage.t .... ok
t/critic.t ...... skipped: Author tests not required for installation
t/cv.t .......... skipped: Author tests not required for installation
t/dist.t ........ skipped: Author tests not required for installation
t/gv.t .......... skipped: Author tests not required for installation
t/is_cached.t ... ok
t/js.t .......... ok
t/kwalitee.t .... skipped: Author tests not required for installation
t/last_mod.t .... ok
t/manifest.t .... skipped: Author tests not required for installation
t/metrics.t ..... skipped: Author tests not required for installation
t/namespaces.t .. skipped: Author tests not required for installation
t/noplan.t ...... skipped: Author tests not required for installation
# Ignore warning about <a> is never closed
(1:59): <a> at (1:13) is never closed
(1:66): <head> tag is required
(1:66): <title> tag is required
t/output.t ...... ok
t/pod-cm.t ...... skipped: Test::Pod::Spelling::CommonMistakes required for testing POD spelling
t/pod.t ......... skipped: Author tests not required for installation
t/port.t ........ ok
t/prereq.t ...... skipped: Author tests not required for installation
t/snippets.t .... skipped: Author tests not required for installation
t/spelling.t .... skipped: Author tests not required for installation
t/strict.t ...... skipped: Author tests not required for installation
t/too_late.t .... ok
t/unused.t ...... skipped: Author tests not required for installation
t/used.t ........ skipped: Author tests not required for installation
t/vars.t ........ skipped: Author tests not required for installation
All tests successful.
Test Summary Report
-------------------
t/boiler.t (Wstat: 0 Tests: 3 Failed: 0)
TODO passed: 1-3
Files=29, Tests=130, 7 wallclock secs ( 0.07 usr 0.01 sys + 3.46 cusr 0.22 csys = 3.76 CPU)
Result: PASS
------------------------------
PREREQUISITES
------------------------------
Prerequisite modules loaded:
requires:
Module Need Have
-------------------- -------- --------
Carp 0 1.42
CGI::Info 0.51 0.62
Compress::Zlib 0 2.070
CSS::Packer 0 2.02
Digest::MD5 0 2.55
Encode 0 2.88
File::Spec 0 3.66
HTML::Lint 0 2.26
HTML::Packer 1 2.03
HTTP::Date 0 6.02
HTTP::Status 0 6.11
IO::Compress::Brotli 0 0.002001
IO::String 0 1.08
JavaScript::Packer 2 2.02
perl 5.006002 5.025007
Storable 0 2.59
Time::localtime 0 1.02
build_requires:
Module Need Have
-------------------- -------- --------
DateTime 0 1.42
Test::Most 0 0.35
Test::TempDir::Tiny 0 0.016
configure_requires:
Module Need Have
-------------------- -------- --------
ExtUtils::MakeMaker 0 7.24
------------------------------
ENVIRONMENT AND OTHER CONTEXT
------------------------------
Environment variables:
AUTOMATED_TESTING = 1
LANG = en_US.UTF-8
PATH = /usr/local/bin:/usr/bin:/bin:/usr/local/games:/usr/games
PERL5LIB =
PERL5OPT =
PERL5_CPANPLUS_IS_RUNNING = 3237
PERL5_CPAN_IS_RUNNING = 3237
PERL5_CPAN_IS_RUNNING_IN_RECURSION = 20566,3237
PERL_CR_SMOKER_CURRENT = CGI-Buffer-0.79
PERL_EXTUTILS_AUTOINSTALL = --defaultdeps
PERL_MM_USE_DEFAULT = 1
SHELL = /bin/bash
TERM = xterm
Perl special variables (and OS-specific diagnostics, for MSWin32):
$^X = /home/stro/perl/5.25.7m/bin/perl
$UID/$EUID = 1000 / 1000
$GID = 1000 24 25 29 30 44 46 108 114 1000
$EGID = 1000 24 25 29 30 44 46 108 114 1000
Perl module toolchain versions installed:
Module Have
------------------- ----------
CPAN 2.14_01
CPAN::Meta 2.150010
Cwd 3.66
ExtUtils::CBuilder 0.280225
ExtUtils::Command 7.24
ExtUtils::Install 2.04
ExtUtils::MakeMaker 7.24
ExtUtils::Manifest 1.70
ExtUtils::ParseXS 3.33
File::Spec 3.66
JSON 2.90
JSON::PP 2.27400_02
Module::Build 0.4220
Module::Signature 0.81
Parse::CPAN::Meta 2.150010
Test::Harness 3.36_01
Test::More 1.302073
YAML 1.21
YAML::Syck 1.29
version 0.9917
--
Summary of my perl5 (revision 5 version 25 subversion 7) configuration:
Platform:
osname=linux
osvers=3.16.0-4-amd64
archname=x86_64-linux-multi
uname='linux vm-debian-001 3.16.0-4-amd64 #1 smp debian 3.16.7-ckt11-1 (2015-05-24) x86_64 gnulinux '
config_args=''
hint=recommended
useposix=true
d_sigaction=define
useithreads=undef
usemultiplicity=define
use64bitint=define
use64bitall=define
uselongdouble=undef
usemymalloc=n
bincompat5005=undef
Compiler:
cc='cc'
ccflags ='-fwrapv -fno-strict-aliasing -pipe -fstack-protector-strong -I/usr/local/include -D_LARGEFILE_SOURCE -D_FILE_OFFSET_BITS=64 -D_FORTIFY_SOURCE=2'
optimize='-O2'
cppflags='-fwrapv -fno-strict-aliasing -pipe -fstack-protector-strong -I/usr/local/include'
ccversion=''
gccversion='4.9.2'
gccosandvers=''
intsize=4
longsize=8
ptrsize=8
doublesize=8
byteorder=12345678
doublekind=3
d_longlong=define
longlongsize=8
d_longdbl=define
longdblsize=16
longdblkind=3
ivtype='long'
ivsize=8
nvtype='double'
nvsize=8
Off_t='off_t'
lseeksize=8
alignbytes=8
prototype=define
Linker and Libraries:
ld='cc'
ldflags =' -fstack-protector-strong -L/usr/local/lib'
libpth=/usr/local/lib /usr/lib/gcc/x86_64-linux-gnu/4.9/include-fixed /usr/include/x86_64-linux-gnu /usr/lib /lib/x86_64-linux-gnu /lib/../lib /usr/lib/x86_64-linux-gnu /usr/lib/../lib /lib
libs=-lpthread -lnsl -ldl -lm -lcrypt -lutil -lc
perllibs=-lpthread -lnsl -ldl -lm -lcrypt -lutil -lc
libc=libc-2.19.so
so=so
useshrplib=false
libperl=libperl.a
gnulibc_version='2.19'
Dynamic Linking:
dlsrc=dl_dlopen.xs
dlext=so
d_dlsymun=undef
ccdlflags='-Wl,-E'
cccdlflags='-fPIC'
lddlflags='-shared -O2 -L/usr/local/lib -fstack-protector-strong'
Characteristics of this binary (from libperl):
Compile-time options:
HAS_TIMES
MULTIPLICITY
PERLIO_LAYERS
PERL_COPY_ON_WRITE
PERL_DONT_CREATE_GVSV
PERL_HASH_FUNC_ONE_AT_A_TIME_HARD
PERL_IMPLICIT_CONTEXT
PERL_MALLOC_WRAP
PERL_OP_PARENT
PERL_PRESERVE_IVUV
USE_64_BIT_ALL
USE_64_BIT_INT
USE_LARGE_FILES
USE_LOCALE
USE_LOCALE_COLLATE
USE_LOCALE_CTYPE
USE_LOCALE_NUMERIC
USE_LOCALE_TIME
USE_PERLIO
USE_PERL_ATOF
Built under linux
Compiled at Nov 23 2016 11:14:25
%ENV:
PERL5LIB=""
PERL5OPT=""
PERL5_CPANPLUS_IS_RUNNING="3237"
PERL5_CPAN_IS_RUNNING="3237"
PERL5_CPAN_IS_RUNNING_IN_RECURSION="20566,3237"
PERL_CR_SMOKER_CURRENT="CGI-Buffer-0.79"
PERL_EXTUTILS_AUTOINSTALL="--defaultdeps"
PERL_MM_USE_DEFAULT="1"
@INC:
/home/stro/perl/5.25.7m/lib/site_perl/5.25.7/x86_64-linux-multi
/home/stro/perl/5.25.7m/lib/site_perl/5.25.7
/home/stro/perl/5.25.7m/lib/5.25.7/x86_64-linux-multi
/home/stro/perl/5.25.7m/lib/5.25.7
.