Perl-Dist v1.16 Perl 5 v5.43.3 amd64-freebsd

Status
Pass
From
Carlos Guevara
Dist
Perl-Dist v1.16
Platform
Perl 5 v5.43.3 amd64-freebsd
Date
2025-09-03 16:31:25
ID
6f4da42c-88e3-11f0-bcab-924221c5ef0e
This distribution has been tested as part of the CPAN Testers
project, supporting the Perl programming language.  See
http://wiki.cpantesters.org/ for more information or email
questions to cpan-testers-discuss@perl.org


--
Dear Adam Kennedy,

This is a computer-generated report for Perl-Dist-1.16
on perl 5.43.3, created by CPAN-Reporter-1.2020.

Thank you for uploading your work to CPAN.  Congratulations!
All tests were successful.

Sections of this report:

    * Tester comments
    * Program output
    * Prerequisites
    * Environment and other context

------------------------------
TESTER COMMENTS
------------------------------

Additional comments from tester:

this report is from an automated smoke testing program
and was not reviewed by a human for accuracy

------------------------------
PROGRAM OUTPUT
------------------------------

Output from '/usr/bin/make test':

PERL_DL_NONLAZY=1 "/home/cpan/bin/perl/bin/perl5.43.3" "-MExtUtils::Command::MM" "-MTest::Harness" "-e" "undef *Test::Harness::Switches; test_harness(0, 'inc', 'blib/lib', 'blib/arch')" t/*.t
Possible attempt to escape whitespace in qw() list at /home/cpan/bin/perl/lib/site_perl/5.43.3/LWP/UserAgent.pm line 605.
Possible precedence problem between ! and pattern match (m//) at /home/cpan/.cpan/build/Perl-Dist-1.16-0/blib/lib/Perl/Dist/Inno.pm line 3032.
Possible precedence problem between ! and pattern match (m//) at /home/cpan/.cpan/build/Perl-Dist-1.16-0/blib/lib/Perl/Dist/Inno.pm line 3235.
t/01_compile.t ............ ok
t/03_inno_file.t .......... ok
t/04_inno_icon.t .......... ok
t/05_inno_registry.t ...... ok
t/06_inno_script.t ........ skipped: Not on Win32
t/07_inno_system.t ........ ok
t/08_inno_distribution.t .. ok
t/09_asset_file.t ......... ok
t/10_asset_module.t ....... ok
t/11_machine.t ............ ok
Possible attempt to escape whitespace in qw() list at /home/cpan/bin/perl/lib/site_perl/5.43.3/LWP/UserAgent.pm line 605.
t/12_util_toolchain.t ..... ok
Possible attempt to escape whitespace in qw() list at /home/cpan/bin/perl/lib/site_perl/5.43.3/LWP/UserAgent.pm line 605.
t/13_dist_new.t ........... skipped: Not on Win32
t/14_vanilla_new.t ........ skipped: Not on Win32
Possible attempt to escape whitespace in qw() list at /home/cpan/bin/perl/lib/site_perl/5.43.3/LWP/UserAgent.pm line 605.
t/15_vanilla_run.t ........ skipped: Not on Win32
Possible attempt to escape whitespace in qw() list at /home/cpan/bin/perl/lib/site_perl/5.43.3/LWP/UserAgent.pm line 605.
t/16_perl_588.t ........... skipped: Not on Win32
Possible attempt to escape whitespace in qw() list at /home/cpan/bin/perl/lib/site_perl/5.43.3/LWP/UserAgent.pm line 605.
t/17_perl_589.t ........... skipped: Not on Win32
Possible attempt to escape whitespace in qw() list at /home/cpan/bin/perl/lib/site_perl/5.43.3/LWP/UserAgent.pm line 605.
t/18_perl_5100.t .......... skipped: Not on Win32
Possible attempt to escape whitespace in qw() list at /home/cpan/bin/perl/lib/site_perl/5.43.3/LWP/UserAgent.pm line 605.
t/19_portable.t ........... skipped: Not on Win32
t/97_meta.t ............... ok
t/98_pod.t ................ ok
Possible attempt to escape whitespace in qw() list at /home/cpan/bin/perl/lib/site_perl/5.43.3/B/Keywords.pm line 37.
Possible attempt to escape whitespace in qw() list at /home/cpan/bin/perl/lib/site_perl/5.43.3/PPIx/Regexp/Token/Literal.pm line 205.
t/99_pmv.t ................ ok
All tests successful.
Files=21, Tests=225, 32 wallclock secs ( 0.06 usr  0.02 sys + 15.91 cusr  1.12 csys = 17.12 CPU)
Result: PASS

------------------------------
PREREQUISITES
------------------------------

Prerequisite modules loaded:

requires:

    Module                    Need   Have      
    ------------------------- ------ ----------
    Archive::Tar              1.42   3.04      
    Archive::Zip              1.26   1.68      
    CPAN                      1.9301 2.38      
    ExtUtils::MakeMaker       6.42   7.76      
    File::Copy::Recursive     0.38   0.45      
    File::Find::Rule          0.30   0.35      
    File::HomeDir             0.82   1.006     
    File::Path                2.07   2.18      
    File::PathList            1.04   1.04      
    File::pushd               1.00   1.016     
    File::Remove              1.42   1.61      
    File::ShareDir            1.00   1.118     
    File::Spec                3.29   3.94      
    File::Temp                0.21   0.2312    
    HTTP::Status              5.817  7.00      
    IO::Capture               0.05   0.05      
    IPC::Run3                 0.042  0.049     
    LWP::Online               1.07   1.08      
    LWP::UserAgent            5.823  6.79      
    LWP::UserAgent::WithCache 0.06   0.13      
    Module::CoreList          2.17   5.20250920
    Object::Tiny              1.06   1.09      
    PAR::Dist                 0.42   0.53      
    Params::Util              0.35   1.102     
    Portable::Dist            0.02   1.09      
    Probe::Perl               0.01   0.03      
    Process                   0.25   0.30      
    Process::Delegatable      0.25   0.30      
    Process::Storable         0.25   0.30      
    Storable                  2.17   3.38      
    Template                  2.20   3.102     
    Test::LongString          0.11   0.17      
    Test::More                0.86   1.302214  
    Test::Script              1.03   1.31      
    URI::file                 1.37   5.32      
    YAML::Tiny                1.36   1.76      

build_requires:

    Module                    Need   Have      
    ------------------------- ------ ----------
    ExtUtils::MakeMaker       0      7.76      

configure_requires:

    Module                    Need   Have      
    ------------------------- ------ ----------
    ExtUtils::MakeMaker       6.42   7.76      


------------------------------
ENVIRONMENT AND OTHER CONTEXT
------------------------------

Environment variables:

    AUTOMATED_TESTING = 1
    DATE_MANIP_TEST_DM5 = 1
    LANG = C.UTF-8
    LC_ALL = C
    NONINTERACTIVE_TESTING = 1
    NO_NETWORK_TESTING = 1
    PATH = /home/cpan/bin/perl/bin:/home/cpan/bin:/sbin:/bin:/usr/sbin:/usr/bin:/usr/local/sbin:/usr/local/bin:/home/cpan/bin
    PERL5LIB = 
    PERL5OPT = 
    PERL5_CPANPLUS_IS_RUNNING = 75612
    PERL5_CPAN_IS_RUNNING = 75612
    PERL_MM_USE_DEFAULT = 1
    PERL_PERTURB_KEYS = 0
    PERL_USE_UNSAFE_INC = 1
    SHELL = /usr/local/bin/bash
    TERM = screen
    TMPDIR = /home/cpan/tmp

Perl special variables (and OS-specific diagnostics, for MSWin32):

    $^X = /home/cpan/bin/perl/bin/perl5.43.3
    $UID/$EUID = 1002 / 1002
    $GID = 1002 1002
    $EGID = 1002 1002

Perl module toolchain versions installed:

    Module              Have    
    ------------------- --------
    CPAN                2.38    
    CPAN::Meta          2.150010
    Cwd                 3.94    
    ExtUtils::CBuilder  0.280242
    ExtUtils::Command   7.76    
    ExtUtils::Install   2.22    
    ExtUtils::MakeMaker 7.76    
    ExtUtils::Manifest  1.75    
    ExtUtils::ParseXS   3.60    
    File::Spec          3.94    
    JSON                4.10    
    JSON::PP            4.16    
    Module::Build       0.4234  
    Module::Signature   n/a     
    Parse::CPAN::Meta   2.150010
    Test2               1.302214
    Test::Harness       3.52    
    Test::More          1.302214
    YAML                1.31    
    YAML::Syck          1.34    
    version             0.9933  


--

Summary of my perl5 (revision 5 version 43 subversion 3) configuration:
  Commit id: 44254e7fe81a294982f1a92f659a2e2bedcd1c8b
  Platform:
    osname=freebsd
    osvers=14.3-release-p2
    archname=amd64-freebsd
    uname='freebsd cjg-freebsd14 14.3-release-p2 freebsd 14.3-release-p2 generic amd64 '
    config_args='-des -Dprefix=/home/cpan/bin/perl -Dscriptdir=/home/cpan/bin/perl/bin -Dusedevel -Duse64bitall'
    hint=recommended
    useposix=true
    d_sigaction=define
    useithreads=undef
    usemultiplicity=undef
    use64bitint=define
    use64bitall=define
    uselongdouble=undef
    usemymalloc=n
    default_inc_excludes_dot=define
  Compiler:
    cc='cc'
    ccflags ='-DHAS_FPSETMASK -DHAS_FLOATINGPOINT_H -DNO_POSIX_2008_LOCALE -fno-strict-aliasing -pipe -fstack-protector-strong -I/usr/local/include'
    optimize='-O2'
    cppflags='-DHAS_FPSETMASK -DHAS_FLOATINGPOINT_H -DNO_POSIX_2008_LOCALE -fno-strict-aliasing -pipe -fstack-protector-strong -I/usr/local/include'
    ccversion=''
    gccversion='FreeBSD Clang 19.1.7 (https://github.com/llvm/llvm-project.git llvmorg-19.1.7-0-gcd708029e0b2)'
    gccosandvers=''
    intsize=4
    longsize=8
    ptrsize=8
    doublesize=8
    byteorder=12345678
    doublekind=3
    d_longlong=define
    longlongsize=8
    d_longdbl=define
    longdblsize=16
    longdblkind=3
    ivtype='long'
    ivsize=8
    nvtype='double'
    nvsize=8
    Off_t='off_t'
    lseeksize=8
    alignbytes=8
    prototype=define
  Linker and Libraries:
    ld='cc'
    ldflags ='-Wl,-E  -fstack-protector-strong -L/usr/local/lib'
    libpth=/usr/lib /usr/local/lib /usr/lib/clang/19/lib
    libs=-lpthread -lgdbm -ldl -lm -lcrypt -lutil -lc
    perllibs=-lpthread -ldl -lm -lcrypt -lutil -lc
    libc=
    so=so
    useshrplib=false
    libperl=libperl.a
    gnulibc_version=''
  Dynamic Linking:
    dlsrc=dl_dlopen.xs
    dlext=so
    d_dlsymun=undef
    ccdlflags=' '
    cccdlflags='-DPIC -fPIC'
    lddlflags='-shared  -L/usr/local/lib -fstack-protector-strong'


Characteristics of this binary (from libperl): 
  Compile-time options:
    HAS_LONG_DOUBLE
    HAS_STRTOLD
    HAS_TIMES
    PERLIO_LAYERS
    PERL_COPY_ON_WRITE
    PERL_DONT_CREATE_GVSV
    PERL_HASH_FUNC_SIPHASH13
    PERL_HASH_USE_SBOX32
    PERL_MALLOC_WRAP
    PERL_OP_PARENT
    PERL_PRESERVE_IVUV
    PERL_USE_DEVEL
    PERL_USE_SAFE_PUTENV
    USE_64_BIT_ALL
    USE_64_BIT_INT
    USE_LARGE_FILES
    USE_LOCALE
    USE_LOCALE_COLLATE
    USE_LOCALE_CTYPE
    USE_LOCALE_NUMERIC
    USE_LOCALE_TIME
    USE_PERLIO
    USE_PERL_ATOF
  Built under freebsd
  Compiled at Sep  2 2025 19:44:56
  %ENV:
    PERL5LIB=""
    PERL5OPT=""
    PERL5_CPANPLUS_IS_RUNNING="75612"
    PERL5_CPAN_IS_RUNNING="75612"
    PERL_MM_USE_DEFAULT="1"
    PERL_PERTURB_KEYS="0"
    PERL_USE_UNSAFE_INC="1"
  @INC:
    /home/cpan/bin/perl/lib/site_perl/5.43.3/amd64-freebsd
    /home/cpan/bin/perl/lib/site_perl/5.43.3
    /home/cpan/bin/perl/lib/5.43.3/amd64-freebsd
    /home/cpan/bin/perl/lib/5.43.3
    .