MooseX-Util v0.006 Perl 5 v5.24.0 amd64-freebsd

Status
Pass
From
Slaven Rezić (SREZIC)
Dist
MooseX-Util v0.006
Platform
Perl 5 v5.24.0 amd64-freebsd
Date
2017-12-09 21:03:40
ID
6efce32a-dd24-11e7-9a2a-db7e3e8a239f
This distribution has been tested as part of the CPAN Testers
project, supporting the Perl programming language.  See
http://wiki.cpantesters.org/ for more information or email
questions to cpan-testers-discuss@perl.org


--
Dear Chris Weyl,

This is a computer-generated report for MooseX-Util-0.006
on perl 5.24.0, created by CPAN-Reporter-1.2018.

Thank you for uploading your work to CPAN.  Congratulations!
All tests were successful.

Sections of this report:

    * Tester comments
    * Program output
    * Prerequisites
    * Environment and other context

------------------------------
TESTER COMMENTS
------------------------------

Additional comments from tester:

none provided

------------------------------
PROGRAM OUTPUT
------------------------------

Output from '/usr/bin/make test':

PERL_DL_NONLAZY=1 "/usr/perl5.24.0p/bin/perl5.24.0" "-MExtUtils::Command::MM" "-MTest::Harness" "-e" "undef *Test::Harness::Switches; test_harness(0, 'blib/lib', 'blib/arch')" t/*.t t/metaclass/*.t
t/00-check-deps.t ............. ok
t/00-compile.t ................ ok
# 
# 
# Generated by Dist::Zilla::Plugin::ReportVersions::Tiny v1.12
# perl: 5.024000 (wanted 5.006) on freebsd from /usr/perl5.24.0p/bin/perl5.24.0
# 
# Carp                                          => 1.40       (want any version)
# ExtUtils::MakeMaker                           => 7.1001     (want any version)
# File::Spec                                    => 3.63       (want any version)
# IO::Handle                                    => 1.36       (want any version)
# IPC::Open3                                    => 1.20       (want any version)
# Moose                                         => 2.1804     (want any version)
# Moose::Meta::Class                            => 2.1804     (want any version)
# Moose::Role                                   => 2.1804     (want any version)
# Moose::Util                                   => 2.1804     (want any version)
# MooseX::TraitFor::Meta::Class::BetterAnonClassNames => 0.002003   (want 0.002001)
# Sub::Exporter::Progressive                    => 0.001011   (want any version)
# Test::CheckDeps                               => 0.010      (want 0.010)  
# Test::Moose::More                             => 0.050      (want 0.016)  
# Test::More                                    => 1.302086   (want 0.94)   
# Test::Requires                                => 0.10       (want any version)
# aliased                                       => 0.34       (want any version)
# namespace::autoclean                          => 0.28       (want any version)
# parent                                        => 0.234      (want any version)
# strict                                        => 1.11       (want any version)
# warnings                                      => 1.36       (want any version)
# 
# Thanks for using my code.  I hope it works for you.
# If not, please try and include this output in the bug report.
# That will help me reproduce the issue and solve your problem.
# 
t/000-report-versions-tiny.t .. ok
t/basic.t ..................... ok
t/find_meta.t ................. ok
t/is_private.t ................ ok
t/metaclass/compat.t .......... skipped: Test requires module 'Reindeer' but it's not found
t/metaclass/validate.t ........ ok
t/with_traits.t ............... ok
All tests successful.
Files=9, Tests=61,  6 wallclock secs ( 0.10 usr  0.01 sys +  5.46 cusr  0.67 csys =  6.24 CPU)
Result: PASS

------------------------------
PREREQUISITES
------------------------------

Prerequisite modules loaded:

requires:

    Module                                              Need     Have    
    --------------------------------------------------- -------- --------
    Carp                                                0        1.40    
    Moose                                               0        2.1804  
    Moose::Meta::Class                                  0        2.1804  
    Moose::Util                                         0        2.1804  
    MooseX::TraitFor::Meta::Class::BetterAnonClassNames 0.002001 0.002003
    namespace::autoclean                                0        0.28    
    parent                                              0        0.234   
    perl                                                5.006    5.024000
    strict                                              0        1.11    
    Sub::Exporter::Progressive                          0        0.001011
    warnings                                            0        1.36    

build_requires:

    Module                                              Need     Have    
    --------------------------------------------------- -------- --------
    aliased                                             0        0.34    
    ExtUtils::MakeMaker                                 0        7.10_01 
    File::Spec                                          0        3.63    
    IO::Handle                                          0        1.36    
    IPC::Open3                                          0        1.20    
    Moose::Role                                         0        2.1804  
    Test::CheckDeps                                     0.010    0.010   
    Test::Moose::More                                   0.016    0.050   
    Test::More                                          0.94     1.302086
    Test::Requires                                      0        0.10    

configure_requires:

    Module                                              Need     Have    
    --------------------------------------------------- -------- --------
    ExtUtils::MakeMaker                                 0        7.10_01 
    perl                                                5.006    5.024000


------------------------------
ENVIRONMENT AND OTHER CONTEXT
------------------------------

Environment variables:

    LC_ALL = de_DE.UTF-8
    PATH = /usr/local/bin:/usr/bin:/bin:/usr/local/sbin:/usr/sbin:/sbin:/home/e/eserte/bin/freebsd9.1:/home/e/eserte/bin/sh:/home/e/eserte/bin:/home/e/eserte/bin/pistachio-perl/bin:/usr/games:/home/e/eserte/devel:/home/e/eserte/src/srezic-misc/scripts
    PERL5LIB = 
    PERL5OPT = 
    PERL5_CPANPLUS_IS_RUNNING = 90940
    PERL5_CPAN_IS_RUNNING = 90940
    PERL5_CPAN_IS_RUNNING_IN_RECURSION = 90905,90940
    PERLDOC = -MPod::Perldoc::ToTextOverstrike
    PERL_BATCH = yes
    PERL_CANARY_STABILITY_NOPROMPT = 1
    PERL_CPAN_REPORTER_CONFIG = /var/tmp/cpansmoker-1000/2017120921/cpanreporter_000_config.ini
    PERL_EXTUTILS_AUTOINSTALL = --defaultdeps
    SHELL = /usr/local/bin/zsh
    TERM = screen
    TMPDIR = /var/tmp/cpansmoker-1000/2017120921

Perl special variables (and OS-specific diagnostics, for MSWin32):

    $^X = /usr/perl5.24.0p/bin/perl5.24.0
    $UID/$EUID = 1000 / 1000
    $GID = 1000 1000 0 5 1023 1024
    $EGID = 1000 1000 0 5 1023 1024

Perl module toolchain versions installed:

    Module              Have    
    ------------------- --------
    CPAN                2.11    
    CPAN::Meta          2.150005
    Cwd                 3.63    
    ExtUtils::CBuilder  0.280225
    ExtUtils::Command   7.10    
    ExtUtils::Install   2.04    
    ExtUtils::MakeMaker 7.10_01 
    ExtUtils::Manifest  1.70    
    ExtUtils::ParseXS   3.31    
    File::Spec          3.63    
    JSON                2.90    
    JSON::PP            2.27300 
    Module::Build       0.4218  
    Module::Signature   0.81    
    Parse::CPAN::Meta   1.4417  
    Test::Harness       3.36    
    Test::More          1.302086
    YAML                1.15    
    YAML::Syck          1.29    
    version             0.9916  


--

Summary of my perl5 (revision 5 version 24 subversion 0) configuration:
   
  Platform:
    osname=freebsd, osvers=9.2-release, archname=amd64-freebsd
    uname='freebsd cvrsnica.herceg.de 9.2-release freebsd 9.2-release #0 r255898: thu sep 26 22:50:31 utc 2013 root@bake.isc.freebsd.org:usrobjusrsrcsysgeneric amd64 '
    config_args='-ds -e -Dprefix=/usr/perl5.24.0p -Dcf_email=srezic@cpan.org -Doptimize=-O2 -pipe'
    hint=recommended, useposix=true, d_sigaction=define
    useithreads=undef, usemultiplicity=undef
    use64bitint=define, use64bitall=define, uselongdouble=undef
    usemymalloc=n, bincompat5005=undef
  Compiler:
    cc='cc', ccflags ='-DHAS_FPSETMASK -DHAS_FLOATINGPOINT_H -fno-strict-aliasing -pipe -fstack-protector -I/usr/local/include -D_FORTIFY_SOURCE=2',
    optimize='-O2 -pipe',
    cppflags='-DHAS_FPSETMASK -DHAS_FLOATINGPOINT_H -fno-strict-aliasing -pipe -fstack-protector -I/usr/local/include'
    ccversion='', gccversion='4.2.1 20070831 patched [FreeBSD]', gccosandvers=''
    intsize=4, longsize=8, ptrsize=8, doublesize=8, byteorder=12345678, doublekind=3
    d_longlong=define, longlongsize=8, d_longdbl=define, longdblsize=16, longdblkind=3
    ivtype='long', ivsize=8, nvtype='double', nvsize=8, Off_t='off_t', lseeksize=8
    alignbytes=8, prototype=define
  Linker and Libraries:
    ld='cc', ldflags ='-pthread -Wl,-E  -fstack-protector -L/usr/local/lib'
    libpth=/usr/lib /usr/local/lib /usr/include/gcc/4.2 /usr/lib
    libs=-lpthread -lgdbm -lm -lcrypt -lutil -lc
    perllibs=-lpthread -lm -lcrypt -lutil -lc
    libc=, so=so, useshrplib=false, libperl=libperl.a
    gnulibc_version=''
  Dynamic Linking:
    dlsrc=dl_dlopen.xs, dlext=so, d_dlsymun=undef, ccdlflags=' '
    cccdlflags='-DPIC -fPIC', lddlflags='-shared  -L/usr/local/lib -fstack-protector'


Characteristics of this binary (from libperl): 
  Compile-time options: HAS_TIMES PERLIO_LAYERS PERL_COPY_ON_WRITE
                        PERL_DONT_CREATE_GVSV
                        PERL_HASH_FUNC_ONE_AT_A_TIME_HARD PERL_MALLOC_WRAP
                        PERL_PRESERVE_IVUV USE_64_BIT_ALL USE_64_BIT_INT
                        USE_LARGE_FILES USE_LOCALE USE_LOCALE_COLLATE
                        USE_LOCALE_CTYPE USE_LOCALE_NUMERIC USE_LOCALE_TIME
                        USE_PERLIO USE_PERL_ATOF
  Built under freebsd
  Compiled at Jun  4 2016 12:15:36
  %ENV:
    PERL5LIB=""
    PERL5OPT=""
    PERL5_CPANPLUS_IS_RUNNING="90940"
    PERL5_CPAN_IS_RUNNING="90940"
    PERL5_CPAN_IS_RUNNING_IN_RECURSION="90905,90940"
    PERLDOC="-MPod::Perldoc::ToTextOverstrike"
    PERL_BATCH="yes"
    PERL_CANARY_STABILITY_NOPROMPT="1"
    PERL_CPAN_REPORTER_CONFIG="/var/tmp/cpansmoker-1000/2017120921/cpanreporter_000_config.ini"
    PERL_EXTUTILS_AUTOINSTALL="--defaultdeps"
  @INC:
    /usr/perl5.24.0p/lib/site_perl/5.24.0/amd64-freebsd
    /usr/perl5.24.0p/lib/site_perl/5.24.0
    /usr/perl5.24.0p/lib/5.24.0/amd64-freebsd
    /usr/perl5.24.0p/lib/5.24.0
    .