Back
From: metabase:user:322078bc-2aae-11df-837a-5e0a49663a4f
Subject: PASS HTML-FormatExternal-18 v5.10.0 OpenBSD
Date: 2010-10-02T04:13:38Z
This distribution has been tested as part of the CPAN Testers
project, supporting the Perl programming language. See
http://wiki.cpantesters.org/ for more information or email
questions to cpan-testers-discuss@perl.org
--
Dear KRYDE,
This is a computer-generated error report created automatically by
CPANPLUS, version 0.9007. Testers personal comments may appear
at the end of this report.
MAKE TEST passed: PERL_DL_NONLAZY=1 /home/cpan/pit/bare/perl-5.10.0/bin/perl "-MExtUtils::Command::MM" "-e" "test_harness(0, 'blib/lib', 'blib/arch')" t/*.t
t/Elinks.t .......... ok
# HTML::FormatText::Elinks
# HTML::FormatText::Elinks program_full_version $VAR1 = undef;
# HTML::FormatText::Elinks program_version $VAR1 = undef;
# HTML::FormatText::Html2text
# HTML::FormatText::Html2text program_full_version $VAR1 = undef;
# HTML::FormatText::Html2text program_version $VAR1 = undef;
# HTML::FormatText::Html2text _have_ascii() no
# HTML::FormatText::Links
# HTML::FormatText::Links program_full_version $VAR1 = undef;
# HTML::FormatText::Links program_version $VAR1 = undef;
# HTML::FormatText::Links _have_html_margin() no
# HTML::FormatText::Lynx
# HTML::FormatText::Lynx program_full_version $VAR1 = 'Lynx Version 2.8.6rel.5 (09 May 2007)
# libwww-FM 2.14, SSL-MM 1.4.1, OpenSSL 0.9.8k, ncurses 5.7.20081102
#
# Copyrights held by the University of Kansas, CERN, and other contributors.
# Distributed under the GNU General Public License.
# See http://lynx.isc.org/ and the online help for more information.
#
# See http://www.openssl.org/ for information about OpenSSL.
# ';
# HTML::FormatText::Lynx program_version $VAR1 = '2.8.6rel.5';
# HTML::FormatText::Lynx _have_nomargins() yes
# $output = "\n123 567 9012\nabc def ghij\n";
# HTML::FormatText::Netrik
# HTML::FormatText::Netrik program_full_version $VAR1 = undef;
# HTML::FormatText::Netrik program_version $VAR1 = undef;
# HTML::FormatText::W3m
# HTML::FormatText::W3m program_full_version $VAR1 = undef;
# HTML::FormatText::W3m program_version $VAR1 = undef;
# HTML::FormatText::Zen
# HTML::FormatText::Zen program_full_version $VAR1 = undef;
# HTML::FormatText::Zen program_version $VAR1 = undef;
t/FormatExternal.t .. ok
t/Links.t ........... ok
All tests successful.
Files=3, Tests=233, 8 wallclock secs ( 0.07 usr 0.02 sys + 0.41 cusr 0.26 csys = 0.76 CPU)
Result: PASS
[MSG] [Sat Oct 2 05:13:38 2010] Sending test report for 'HTML-FormatExternal-18'
This report was machine-generated by CPANPLUS::Dist::YACSmoke 0.58.
Powered by minismokebox version 0.30
------------------------------
ENVIRONMENT AND OTHER CONTEXT
------------------------------
Environment variables:
AUTOMATED_TESTING = 1
PATH = /home/cpan/bin:/bin:/sbin:/usr/bin:/usr/sbin:/usr/X11R6/bin:/usr/local/bin:/usr/local/sbin:/usr/games:.
PERL5LIB = :/home/cpan/pit/bare/conf/perl-5.10.0/.cpanplus/5.10.0/build/Perl6-Export-0.07/blib/lib:/home/cpan/pit/bare/conf/perl-5.10.0/.cpanplus/5.10.0/build/Perl6-Export-0.07/blib/arch:/home/cpan/pit/bare/conf/perl-5.10.0/.cpanplus/5.10.0/build/Perl6-Slurp-0.03/blib/lib:/home/cpan/pit/bare/conf/perl-5.10.0/.cpanplus/5.10.0/build/Perl6-Slurp-0.03/blib/arch:/home/cpan/pit/bare/conf/perl-5.10.0/.cpanplus/5.10.0/build/HTML-FormatExternal-18/blib/lib:/home/cpan/pit/bare/conf/perl-5.10.0/.cpanplus/5.10.0/build/HTML-FormatExternal-18/blib/arch
PERL5_CPANPLUS_IS_RUNNING = 9697
PERL5_CPANPLUS_IS_VERSION = 0.9007
PERL5_MINISMOKEBOX = 0.30
PERL5_YACSMOKE_BASE = /home/cpan/pit/bare/conf/perl-5.10.0
PERL_EXTUTILS_AUTOINSTALL = --defaultdeps
PERL_MM_USE_DEFAULT = 1
SHELL = /usr/local/bin/bash
TERM = screen
Perl special variables (and OS-specific diagnostics, for MSWin32):
Perl: $^X = /home/cpan/pit/bare/perl-5.10.0/bin/perl
UID: $< = 1001
EUID: $> = 1001
GID: $( = 1001 1001
EGID: $) = 1001 1001
-------------------------------
--
Summary of my perl5 (revision 5 version 10 subversion 0) configuration:
Platform:
osname=openbsd, osvers=4.7, archname=OpenBSD.amd64-openbsd
uname='openbsd oscar.bingosnet.co.uk 4.7 generic#112 amd64 '
config_args='-des -Dprefix=/home/cpan/pit/bare/perl-5.10.0'
hint=recommended, useposix=true, d_sigaction=define
useithreads=undef, usemultiplicity=undef
useperlio=define, d_sfio=undef, uselargefiles=define, usesocks=undef
use64bitint=define, use64bitall=define, uselongdouble=undef
usemymalloc=n, bincompat5005=undef
Compiler:
cc='cc', ccflags ='-fno-strict-aliasing -pipe -I/usr/local/include',
optimize='-O2',
cppflags='-fno-strict-aliasing -pipe -I/usr/local/include'
ccversion='', gccversion='3.3.5 (propolice)', gccosandvers='openbsd4.7'
intsize=4, longsize=8, ptrsize=8, doublesize=8, byteorder=12345678
d_longlong=define, longlongsize=8, d_longdbl=define, longdblsize=16
ivtype='long', ivsize=8, nvtype='double', nvsize=8, Off_t='off_t', lseeksize=8
alignbytes=8, prototype=define
Linker and Libraries:
ld='cc', ldflags ='-Wl,-E -L/usr/local/lib'
libpth=/usr/local/lib /usr/lib
libs=-lgdbm -lm -lutil -lc
perllibs=-lm -lutil -lc
libc=/usr/lib/libc.so.53.1, so=so, useshrplib=false, libperl=libperl.a
gnulibc_version=''
Dynamic Linking:
dlsrc=dl_dlopen.xs, dlext=so, d_dlsymun=undef, ccdlflags=' '
cccdlflags='-DPIC -fPIC ', lddlflags='-shared -fPIC -L/usr/local/lib'
Characteristics of this binary (from libperl):
Compile-time options: PERL_DONT_CREATE_GVSV PERL_MALLOC_WRAP USE_64_BIT_ALL
USE_64_BIT_INT USE_LARGE_FILES USE_PERLIO
Built under openbsd
Compiled at Sep 9 2010 23:35:49
%ENV:
PERL5LIB=":/home/cpan/pit/bare/conf/perl-5.10.0/.cpanplus/5.10.0/build/Perl6-Export-0.07/blib/lib:/home/cpan/pit/bare/conf/perl-5.10.0/.cpanplus/5.10.0/build/Perl6-Export-0.07/blib/arch:/home/cpan/pit/bare/conf/perl-5.10.0/.cpanplus/5.10.0/build/Perl6-Slurp-0.03/blib/lib:/home/cpan/pit/bare/conf/perl-5.10.0/.cpanplus/5.10.0/build/Perl6-Slurp-0.03/blib/arch:/home/cpan/pit/bare/conf/perl-5.10.0/.cpanplus/5.10.0/build/HTML-FormatExternal-18/blib/lib:/home/cpan/pit/bare/conf/perl-5.10.0/.cpanplus/5.10.0/build/HTML-FormatExternal-18/blib/arch"
PERL5_CPANPLUS_IS_RUNNING="9697"
PERL5_CPANPLUS_IS_VERSION="0.9007"
PERL5_MINISMOKEBOX="0.30"
PERL5_YACSMOKE_BASE="/home/cpan/pit/bare/conf/perl-5.10.0"
PERL_EXTUTILS_AUTOINSTALL="--defaultdeps"
PERL_MM_USE_DEFAULT="1"
@INC:
/home/cpan/pit/bare/conf/perl-5.10.0/.cpanplus/5.10.0/build/Perl6-Export-0.07/blib/lib
/home/cpan/pit/bare/conf/perl-5.10.0/.cpanplus/5.10.0/build/Perl6-Export-0.07/blib/arch
/home/cpan/pit/bare/conf/perl-5.10.0/.cpanplus/5.10.0/build/Perl6-Slurp-0.03/blib/lib
/home/cpan/pit/bare/conf/perl-5.10.0/.cpanplus/5.10.0/build/Perl6-Slurp-0.03/blib/arch
/home/cpan/pit/bare/conf/perl-5.10.0/.cpanplus/5.10.0/build/HTML-FormatExternal-18/blib/lib
/home/cpan/pit/bare/conf/perl-5.10.0/.cpanplus/5.10.0/build/HTML-FormatExternal-18/blib/arch
/home/cpan/pit/bare/perl-5.10.0/lib/5.10.0/OpenBSD.amd64-openbsd
/home/cpan/pit/bare/perl-5.10.0/lib/5.10.0
/home/cpan/pit/bare/perl-5.10.0/lib/site_perl/5.10.0/OpenBSD.amd64-openbsd
/home/cpan/pit/bare/perl-5.10.0/lib/site_perl/5.10.0
.