Catalyst-Controller-SimpleCAS v1.002 Perl 5 v5.20.3 darwin-2level
- Status
- Pass
- From
- Neil Bowers
- Dist
-
Catalyst-Controller-SimpleCAS v1.002
- Platform
- Perl 5 v5.20.3 darwin-2level
- Date
- 2021-09-18 18:37:10
- ID
- 6ee548ee-18af-11ec-a92d-aa6719c543de
This distribution has been tested as part of the CPAN Testers
project, supporting the Perl programming language. See
http://wiki.cpantesters.org/ for more information or email
questions to cpan-testers-discuss@perl.org
--
Dear Henry Van Styn,
This is a computer-generated report for Catalyst-Controller-SimpleCAS-1.002
on perl 5.20.3, created by CPAN-Reporter-1.2018.
Thank you for uploading your work to CPAN. Congratulations!
All tests were successful.
Sections of this report:
* Tester comments
* Program output
* Prerequisites
* Environment and other context
------------------------------
TESTER COMMENTS
------------------------------
Additional comments from tester:
none provided
------------------------------
PROGRAM OUTPUT
------------------------------
Output from '/usr/bin/make test':
PERL_DL_NONLAZY=1 "/usr/local/perl/5203/bin/perl" "-MExtUtils::Command::MM" "-MTest::Harness" "-e" "undef *Test::Harness::Switches; test_harness(0, 'blib/lib', 'blib/arch')" t/*.t
t/01_basic.t ........ ok
t/10_store_file.t ... ok
t/99_pod.t .......... skipped: set AUTHOR_TESTING to enable this test
t/99_podcoverage.t .. skipped: set AUTHOR_TESTING to enable this test
t/99_podspelling.t .. skipped: set AUTHOR_TESTING to enable this test
All tests successful.
Files=5, Tests=12, 1 wallclock secs ( 0.02 usr 0.01 sys + 0.78 cusr 0.13 csys = 0.94 CPU)
Result: PASS
------------------------------
PREREQUISITES
------------------------------
Prerequisite modules loaded:
requires:
Module Need Have
-------------------------------------- ----- --------
bytes 0 1.04
Carp 0 1.3301
Catalyst::Controller 0 0
Catalyst::Utils 0 0
CatalystX::InjectComponent 0 0.025
Data::Dumper 0 2.183
Digest::SHA1 0 2.13
Email::MIME 1.929 1.949
Email::MIME::CreateHTML 1.042 1.042
Email::MIME::CreateHTML::Resolver::LWP 0 1.042
Email::Simple 2.206 2.216
Encode 0 3.12
File::Copy 0 2.30
File::MimeInfo::Magic 0 0.30
File::Spec::Functions 0 3.75
HTML::Encoding 0 0.61
HTML::TokeParser::Simple 0 3.16
Image::Size 0 3.300
IO::All 0 0.87
IO::File 0 1.48
JSON 0 4.03
MIME::Base64 0 3.16
Module::Runtime 0 0.014
Moose 0 2.1804
Moose::Role 0 2.1804
MooseX::MethodAttributes::Role 0.29 0.32
namespace::autoclean 0 0.28
Path::Class 0 0.36
Scalar::Util 0 1.55
Storable 0 3.25
strict 0 1.08
String::Random 0 0.32
Tie::IxHash 0 1.23
Try::Tiny 0 0.24
Types::Standard 0 1.012003
warnings 0 1.23
build_requires:
Module Need Have
-------------------------------------- ----- --------
ExtUtils::MakeMaker 0 7.62
FindBin 0 1.51
lib 0 0.63
Test::Exception 0 0.43
Test::More 0 1.302186
configure_requires:
Module Need Have
-------------------------------------- ----- --------
ExtUtils::MakeMaker 0 7.62
------------------------------
ENVIRONMENT AND OTHER CONTEXT
------------------------------
Environment variables:
PATH = /usr/local/apache/bin:/usr/local/bin:/opt/local/bin:/usr/local/bin:/usr/bin:/bin:/usr/sbin:/sbin:/Applications/VMware Fusion.app/Contents/Public:/usr/local/go/bin:/opt/X11/bin:/usr/local/git/bin
PERL5LIB =
PERL5OPT =
PERL5_CPANPLUS_IS_RUNNING = 69124
PERL5_CPAN_IS_RUNNING = 69124
SHELL = /bin/sh
TERM = xterm
Perl special variables (and OS-specific diagnostics, for MSWin32):
$^X = /usr/local/perl/5203/bin/perl
$UID/$EUID = 0 / 0
$GID = 0 0 1 2 3 4 5 8 9 12 20 29 61 80 701 702 33
$EGID = 0 0 1 2 3 4 5 8 9 12 20 29 61 80 701 702 33
Perl module toolchain versions installed:
Module Have
------------------- --------
CPAN 2.05
CPAN::Meta 2.150010
Cwd 3.75
ExtUtils::CBuilder 0.280236
ExtUtils::Command 7.62
ExtUtils::Install 2.06
ExtUtils::MakeMaker 7.62
ExtUtils::Manifest 1.70
ExtUtils::ParseXS 3.35
File::Spec 3.75
JSON 4.03
JSON::PP 4.06
Module::Build 0.4231
Module::Signature n/a
Parse::CPAN::Meta 2.150010
Test::Harness 3.30
Test::More 1.302186
YAML 1.18
YAML::Syck n/a
version 0.9929
--
Summary of my perl5 (revision 5 version 20 subversion 3) configuration:
Platform:
osname=darwin, osvers=15.6.0, archname=darwin-2level
uname='darwin tucumcari.local 15.6.0 darwin kernel version 15.6.0: thu jun 23 18:25:34 pdt 2016; root:xnu-3248.60.10~1release_x86_64 x86_64 '
config_args=''
hint=recommended, useposix=true, d_sigaction=define
useithreads=undef, usemultiplicity=undef
use64bitint=define, use64bitall=define, uselongdouble=undef
usemymalloc=n, bincompat5005=undef
Compiler:
cc='gcc', ccflags ='-fno-common -DPERL_DARWIN -fno-strict-aliasing -pipe -fstack-protector -I/usr/local/include -I/opt/local/include',
optimize='-O3',
cppflags='-fno-common -DPERL_DARWIN -fno-strict-aliasing -pipe -fstack-protector -I/usr/local/include -I/opt/local/include'
ccversion='', gccversion='4.2.1 Compatible Apple LLVM 7.0.2 (clang-700.1.81)', gccosandvers=''
intsize=4, longsize=8, ptrsize=8, doublesize=8, byteorder=12345678
d_longlong=define, longlongsize=8, d_longdbl=define, longdblsize=16
ivtype='long', ivsize=8, nvtype='double', nvsize=8, Off_t='off_t', lseeksize=8
alignbytes=8, prototype=define
Linker and Libraries:
ld='env MACOSX_DEPLOYMENT_TARGET=10.3 gcc', ldflags =' -fstack-protector -L/usr/local/lib -L/opt/local/lib'
libpth=/Applications/Xcode.app/Contents/Developer/Toolchains/XcodeDefault.xctoolchain/usr/bin/../lib/clang/7.0.2/lib /Applications/Xcode.app/Contents/Developer/Toolchains/XcodeDefault.xctoolchain/usr/lib /Applications/Xcode.app/Contents/Developer/Platforms/MacOSX.platform/Developer/SDKs/MacOSX10.11.sdk/usr/lib /usr/local/lib /opt/local/lib /usr/lib
libs=-lpthread -lgdbm -ldbm -ldl -lm -lutil -lc
perllibs=-lpthread -ldl -lm -lutil -lc
libc=, so=dylib, useshrplib=false, libperl=libperl.a
gnulibc_version=''
Dynamic Linking:
dlsrc=dl_dlopen.xs, dlext=bundle, d_dlsymun=undef, ccdlflags=' '
cccdlflags=' ', lddlflags=' -bundle -undefined dynamic_lookup -L/usr/local/lib -L/opt/local/lib -fstack-protector'
Characteristics of this binary (from libperl):
Compile-time options: HAS_TIMES PERLIO_LAYERS PERL_DONT_CREATE_GVSV
PERL_HASH_FUNC_ONE_AT_A_TIME_HARD PERL_MALLOC_WRAP
PERL_NEW_COPY_ON_WRITE PERL_PRESERVE_IVUV
USE_64_BIT_ALL USE_64_BIT_INT USE_LARGE_FILES
USE_LOCALE USE_LOCALE_COLLATE USE_LOCALE_CTYPE
USE_LOCALE_NUMERIC USE_PERLIO USE_PERL_ATOF
Built under darwin
Compiled at Jul 23 2016 09:10:34
%ENV:
PERL5LIB=""
PERL5OPT=""
PERL5_CPANPLUS_IS_RUNNING="69124"
PERL5_CPAN_IS_RUNNING="69124"
@INC:
/usr/local/perl/5203/lib/site_perl/5.20.3/darwin-2level
/usr/local/perl/5203/lib/site_perl/5.20.3
/usr/local/perl/5203/lib/5.20.3/darwin-2level
/usr/local/perl/5203/lib/5.20.3
.