Report for Finance-Currency-Convert-WebserviceX-0.07001

Back
From: metabase:user:30f4dfbe-2aae-11df-837a-5e0a49663a4f
Subject: PASS Finance-Currency-Convert-WebserviceX-0.07001 v5.12.5 GNU/Linux
Date: 2016-04-27T21:38:51Z

This distribution has been tested as part of the CPAN Testers
project, supporting the Perl programming language.  See
http://wiki.cpantesters.org/ for more information or email
questions to cpan-testers-discuss@perl.org


--
Dear Christopher H. Laco,

This is a computer-generated report for Finance-Currency-Convert-WebserviceX-0.07001
on perl 5.12.5, created by CPAN-Reporter-1.2017.

Thank you for uploading your work to CPAN.  Congratulations!
All tests were successful.

Sections of this report:

    * Tester comments
    * Program output
    * Prerequisites
    * Environment and other context

------------------------------
TESTER COMMENTS
------------------------------

Additional comments from tester:

this report is from an automated smoke testing program
and was not reviewed by a human for accuracy

------------------------------
PROGRAM OUTPUT
------------------------------

Output from '/usr/bin/make test':

PERL_DL_NONLAZY=1 "/home/njh/perl5/perlbrew/perls/perl-5.12.5/bin/perl" "-MExtUtils::Command::MM" "-MTest::Harness" "-e" "undef *Test::Harness::Switches; test_harness(0, 'inc', 'blib/lib', 'blib/arch')" t/*.t
t/convert.t ........ skipped: Test::MockObject 1.07 not installed
t/convert_live.t ... skipped: set TEST_AUTHOR to enable this test
t/manifest.t ....... skipped: set TEST_AUTHOR to enable this test
t/meta.t ........... skipped: set TEST_AUTHOR to enable this test
t/pod_syntax.t ..... skipped: set TEST_AUTHOR to enable this test
t/style_no_tabs.t .. skipped: set TEST_AUTHOR to enable this test
t/pod_coverage.t ... skipped: set TEST_AUTHOR to enable this test
t/pod_spelling.t ... skipped: set TEST_AUTHOR to enable this test
t/basic.t .......... ok
t/strict.t ......... skipped: set TEST_AUTHOR to enable this test
t/warnings.t ....... skipped: set TEST_AUTHOR to enable this test
All tests successful.
Files=11, Tests=1,  0 wallclock secs ( 0.03 usr  0.00 sys +  0.16 cusr  0.02 csys =  0.21 CPU)
Result: PASS

------------------------------
PREREQUISITES
------------------------------

Prerequisite modules loaded:

requires:

    Module              Need Have
    ------------------- ---- ----
    ExtUtils::MakeMaker 6.42 7.12
    HTTP::Response      0    6.04
    LWP                 0    6.15
    Memoize             0    1.03

build_requires:

    Module              Need Have
    ------------------- ---- ----
    ExtUtils::MakeMaker 0    7.12

configure_requires:

    Module              Need Have
    ------------------- ---- ----
    ExtUtils::MakeMaker 6.42 7.12


------------------------------
ENVIRONMENT AND OTHER CONTEXT
------------------------------

Environment variables:

    AUTOMATED_TESTING = 1
    HARNESS_OPTIONS = j12
    LANG = en_US.utf8
    LD_LIBRARY_PATH = /usr/local/lib::
    PATH = /home/njh/perl5/perlbrew/bin:/home/njh/perl5/perlbrew/perls/perl-5.12.5/bin:/home/njh/perl5/perlbrew/bin:/home/njh/perl5/perlbrew/perls/perl-5.14.2/bin:/usr/local/bin:/usr/bin:/bin:/usr/local/games:/usr/games:/home/njh/bin:/sbin
    PERL5LIB = /home/njh/.cpan/build/Class-Accessor-Grouped-0.10012-v0jxh6/blib/arch:/home/njh/.cpan/build/Class-Accessor-Grouped-0.10012-v0jxh6/blib/lib:/home/njh/.cpan/build/Locale-Currency-Format-1.35-uBDMgZ/blib/arch:/home/njh/.cpan/build/Locale-Currency-Format-1.35-uBDMgZ/blib/lib:/home/njh/.cpan/build/UNIVERSAL-can-1.20140328-S2Talz/blib/arch:/home/njh/.cpan/build/UNIVERSAL-can-1.20140328-S2Talz/blib/lib:/home/njh/.cpan/build/Pod-Spell-1.20-YhMN9n/blib/arch:/home/njh/.cpan/build/Pod-Spell-1.20-YhMN9n/blib/lib:/home/njh/.cpan/build/Class-Tiny-1.004-5pjXWg/blib/arch:/home/njh/.cpan/build/Class-Tiny-1.004-5pjXWg/blib/lib:/home/njh/.cpan/build/Lingua-EN-Inflect-1.899-YBQAbL/blib/arch:/home/njh/.cpan/build/Lingua-EN-Inflect-1.899-YBQAbL/blib/lib:/home/njh/.cpan/build/File-ShareDir-1.102-sQ3N6g/blib/arch:/home/njh/.cpan/build/File-ShareDir-1.102-sQ3N6g/blib/lib:/home/njh/.cpan/build/File-ShareDir-Install-0.10-j7HYQy/blib/arch:/home/njh/.cpan/build/File-ShareDir-Install-0.10-j7HYQy/blib/lib:/home/njh/.cpan/build/DateTime-Format-DateParse-0.05-BRQk8q/blib/arch:/home/njh/.cpan/build/DateTime-Format-DateParse-0.05-BRQk8q/blib/lib:/home/njh/.cpan/build/DateTime-1.26-rTqzOU/blib/arch:/home/njh/.cpan/build/DateTime-1.26-rTqzOU/blib/lib
    PERL5OPT = 
    PERL5_CPANPLUS_IS_RUNNING = 29375
    PERL5_CPAN_IS_RUNNING = 29375
    PERLBREW_BASHRC_VERSION = 0.75
    PERLBREW_HOME = /home/njh/.perlbrew
    PERLBREW_LIB = 
    PERLBREW_MANPATH = /home/njh/perl5/perlbrew/perls/perl-5.12.5/man
    PERLBREW_PATH = /home/njh/perl5/perlbrew/bin:/home/njh/perl5/perlbrew/perls/perl-5.12.5/bin
    PERLBREW_PERL = perl-5.12.5
    PERLBREW_ROOT = /home/njh/perl5/perlbrew
    PERLBREW_VERSION = 0.75
    PERL_LOCAL_LIB_ROOT = 
    SHELL = /bin/bash
    TERM = xterm

Perl special variables (and OS-specific diagnostics, for MSWin32):

    $^X = /home/njh/perl5/perlbrew/perls/perl-5.12.5/bin/perl
    $UID/$EUID = 1000 / 1000
    $GID = 1000 4 24 25 29 30 44 46 103 104 107 110 1000
    $EGID = 1000 4 24 25 29 30 44 46 103 104 107 110 1000

Perl module toolchain versions installed:

    Module              Have    
    ------------------- --------
    CPAN                1.9800  
    CPAN::Meta          2.150005
    Cwd                 3.47    
    ExtUtils::CBuilder  0.280224
    ExtUtils::Command   7.12    
    ExtUtils::Install   2.04    
    ExtUtils::MakeMaker 7.12    
    ExtUtils::Manifest  1.70    
    ExtUtils::ParseXS   3.30    
    File::Spec          3.47    
    JSON                2.90    
    JSON::PP            2.27300 
    Module::Build       0.4214  
    Module::Signature   n/a     
    Parse::CPAN::Meta   1.4414  
    Test::Harness       3.35    
    Test::More          1.001014
    YAML                1.15    
    YAML::Syck          1.29    
    version             0.9912  


--

Summary of my perl5 (revision 5 version 12 subversion 5) configuration:
   
  Platform:
    osname=linux, osvers=3.16-2-amd64, archname=x86_64-linux-thread-multi
    uname='linux cyberpower2 3.16-2-amd64 #1 smp debian 3.16.3-2 (2014-09-20) x86_64 gnulinux '
    config_args='-de -Dprefix=/home/njh/perl5/perlbrew/perls/perl-5.12.5 -Duseithreads -Dusemultiplicity -Dusedevel -Accflags=-O2 -W -Wformat=2 -Wswitch -Wshadow -Wwrite-strings -Wuninitialized -Wall -pipe -mtune=native -march=native -fomit-frame-pointer -msse2 -msse -mmmx -mfpmath=sse -pedantic -D_FORTIFY_SOURCE=2 -Wpointer-arith -Wstrict-prototypes -fstack-protector -Wstack-protector -Wextra -Wbad-function-cast -Wcast-align -Wcast-qual -Wdisabled-optimization -Wendif-labels -Wfloat-equal -Wformat-nonliteral -Winline -Wmissing-declarations -Wmissing-prototypes -Wnested-externs -Wpointer-arith -Wundef -Wformat-security -ftree-vectorize -fdiagnostics-color=auto -Aeval:scriptdir=/home/njh/perl5/perlbrew/perls/perl-5.12.5/bin'
    hint=recommended, useposix=true, d_sigaction=define
    useithreads=define, usemultiplicity=define
    useperlio=define, d_sfio=undef, uselargefiles=define, usesocks=undef
    use64bitint=define, use64bitall=define, uselongdouble=undef
    usemymalloc=n, bincompat5005=undef
  Compiler:
    cc='cc', ccflags ='-D_REENTRANT -D_GNU_SOURCE -O2 -W -Wformat=2 -Wswitch -Wshadow -Wwrite-strings -Wuninitialized -Wall -pipe -mtune=native -march=native -fomit-frame-pointer -msse2 -msse -mmmx -mfpmath=sse -pedantic -D_FORTIFY_SOURCE=2 -Wpointer-arith -Wstrict-prototypes -fstack-protector -Wstack-protector -Wextra -Wbad-function-cast -Wcast-align -Wcast-qual -Wdisabled-optimization -Wendif-labels -Wfloat-equal -Wformat-nonliteral -Winline -Wmissing-declarations -Wmissing-prototypes -Wnested-externs -Wpointer-arith -Wundef -Wformat-security -ftree-vectorize -fdiagnostics-color=auto -fno-strict-aliasing -I/usr/local/include -D_LARGEFILE_SOURCE -D_FILE_OFFSET_BITS=64',
    optimize='-O2',
    cppflags='-D_REENTRANT -D_GNU_SOURCE -O2 -W -Wformat=2 -Wswitch -Wshadow -Wwrite-strings -Wuninitialized -Wall -pipe -mtune=native -march=native -fomit-frame-pointer -msse2 -msse -mmmx -mfpmath=sse -pedantic -D_FORTIFY_SOURCE=2 -Wpointer-arith -Wstrict-prototypes -fstack-protector -Wstack-protector -Wextra -Wbad-function-cast -Wcast-align -Wcast-qual -Wdisabled-optimization -Wendif-labels -Wfloat-equal -Wformat-nonliteral -Winline -Wmissing-declarations -Wmissing-prototypes -Wnested-externs -Wpointer-arith -Wundef -Wformat-security -ftree-vectorize -fdiagnostics-color=auto -fno-strict-aliasing -I/usr/local/include'
    ccversion='', gccversion='4.9.1', gccosandvers=''
    intsize=4, longsize=8, ptrsize=8, doublesize=8, byteorder=12345678
    d_longlong=define, longlongsize=8, d_longdbl=define, longdblsize=16
    ivtype='long', ivsize=8, nvtype='double', nvsize=8, Off_t='off_t', lseeksize=8
    alignbytes=8, prototype=define
  Linker and Libraries:
    ld='cc', ldflags =' -fstack-protector -L/usr/local/lib'
    libpth=/usr/local/lib /lib/x86_64-linux-gnu /lib/../lib /usr/lib/x86_64-linux-gnu /usr/lib/../lib /lib /usr/lib
    libs=-lnsl -lgdbm -ldb -ldl -lm -lcrypt -lutil -lpthread -lc -lgdbm_compat
    perllibs=-lnsl -ldl -lm -lcrypt -lutil -lpthread -lc
    libc=libc-2.19.so, so=so, useshrplib=false, libperl=libperl.a
    gnulibc_version='2.19'
  Dynamic Linking:
    dlsrc=dl_dlopen.xs, dlext=so, d_dlsymun=undef, ccdlflags='-Wl,-E'
    cccdlflags='-fPIC', lddlflags='-shared -O2 -L/usr/local/lib -fstack-protector'


Characteristics of this binary (from libperl): 
  Compile-time options: MULTIPLICITY PERL_DONT_CREATE_GVSV
                        PERL_IMPLICIT_CONTEXT PERL_MALLOC_WRAP PERL_USE_DEVEL
                        USE_64_BIT_ALL USE_64_BIT_INT USE_ITHREADS
                        USE_LARGE_FILES USE_PERLIO USE_PERL_ATOF
                        USE_REENTRANT_API
  Built under linux
  Compiled at Oct 15 2014 10:26:39
  %ENV:
    PERL5LIB="/home/njh/.cpan/build/Class-Accessor-Grouped-0.10012-v0jxh6/blib/arch:/home/njh/.cpan/build/Class-Accessor-Grouped-0.10012-v0jxh6/blib/lib:/home/njh/.cpan/build/Locale-Currency-Format-1.35-uBDMgZ/blib/arch:/home/njh/.cpan/build/Locale-Currency-Format-1.35-uBDMgZ/blib/lib:/home/njh/.cpan/build/UNIVERSAL-can-1.20140328-S2Talz/blib/arch:/home/njh/.cpan/build/UNIVERSAL-can-1.20140328-S2Talz/blib/lib:/home/njh/.cpan/build/Pod-Spell-1.20-YhMN9n/blib/arch:/home/njh/.cpan/build/Pod-Spell-1.20-YhMN9n/blib/lib:/home/njh/.cpan/build/Class-Tiny-1.004-5pjXWg/blib/arch:/home/njh/.cpan/build/Class-Tiny-1.004-5pjXWg/blib/lib:/home/njh/.cpan/build/Lingua-EN-Inflect-1.899-YBQAbL/blib/arch:/home/njh/.cpan/build/Lingua-EN-Inflect-1.899-YBQAbL/blib/lib:/home/njh/.cpan/build/File-ShareDir-1.102-sQ3N6g/blib/arch:/home/njh/.cpan/build/File-ShareDir-1.102-sQ3N6g/blib/lib:/home/njh/.cpan/build/File-ShareDir-Install-0.10-j7HYQy/blib/arch:/home/njh/.cpan/build/File-ShareDir-Install-0.10-j7HYQy/blib/lib:/home/njh/.cpan/build/DateTime-Format-DateParse-0.05-BRQk8q/blib/arch:/home/njh/.cpan/build/DateTime-Format-DateParse-0.05-BRQk8q/blib/lib:/home/njh/.cpan/build/DateTime-1.26-rTqzOU/blib/arch:/home/njh/.cpan/build/DateTime-1.26-rTqzOU/blib/lib"
    PERL5OPT=""
    PERL5_CPANPLUS_IS_RUNNING="29375"
    PERL5_CPAN_IS_RUNNING="29375"
    PERLBREW_BASHRC_VERSION="0.75"
    PERLBREW_HOME="/home/njh/.perlbrew"
    PERLBREW_LIB=""
    PERLBREW_MANPATH="/home/njh/perl5/perlbrew/perls/perl-5.12.5/man"
    PERLBREW_PATH="/home/njh/perl5/perlbrew/bin:/home/njh/perl5/perlbrew/perls/perl-5.12.5/bin"
    PERLBREW_PERL="perl-5.12.5"
    PERLBREW_ROOT="/home/njh/perl5/perlbrew"
    PERLBREW_VERSION="0.75"
    PERL_LOCAL_LIB_ROOT=""
  @INC:
    /home/njh/.cpan/build/Class-Accessor-Grouped-0.10012-v0jxh6/blib/arch
    /home/njh/.cpan/build/Class-Accessor-Grouped-0.10012-v0jxh6/blib/lib
    /home/njh/.cpan/build/Locale-Currency-Format-1.35-uBDMgZ/blib/arch
    /home/njh/.cpan/build/Locale-Currency-Format-1.35-uBDMgZ/blib/lib
    /home/njh/.cpan/build/UNIVERSAL-can-1.20140328-S2Talz/blib/arch
    /home/njh/.cpan/build/UNIVERSAL-can-1.20140328-S2Talz/blib/lib
    /home/njh/.cpan/build/Pod-Spell-1.20-YhMN9n/blib/arch
    /home/njh/.cpan/build/Pod-Spell-1.20-YhMN9n/blib/lib
    /home/njh/.cpan/build/Class-Tiny-1.004-5pjXWg/blib/arch
    /home/njh/.cpan/build/Class-Tiny-1.004-5pjXWg/blib/lib
    /home/njh/.cpan/build/Lingua-EN-Inflect-1.899-YBQAbL/blib/arch
    /home/njh/.cpan/build/Lingua-EN-Inflect-1.899-YBQAbL/blib/lib
    /home/njh/.cpan/build/File-ShareDir-1.102-sQ3N6g/blib/arch
    /home/njh/.cpan/build/File-ShareDir-1.102-sQ3N6g/blib/lib
    /home/njh/.cpan/build/File-ShareDir-Install-0.10-j7HYQy/blib/arch
    /home/njh/.cpan/build/File-ShareDir-Install-0.10-j7HYQy/blib/lib
    /home/njh/.cpan/build/DateTime-Format-DateParse-0.05-BRQk8q/blib/arch
    /home/njh/.cpan/build/DateTime-Format-DateParse-0.05-BRQk8q/blib/lib
    /home/njh/.cpan/build/DateTime-1.26-rTqzOU/blib/arch
    /home/njh/.cpan/build/DateTime-1.26-rTqzOU/blib/lib
    /home/njh/perl5/perlbrew/perls/perl-5.12.5/lib/site_perl/5.12.5/x86_64-linux-thread-multi
    /home/njh/perl5/perlbrew/perls/perl-5.12.5/lib/site_perl/5.12.5
    /home/njh/perl5/perlbrew/perls/perl-5.12.5/lib/5.12.5/x86_64-linux-thread-multi
    /home/njh/perl5/perlbrew/perls/perl-5.12.5/lib/5.12.5
    .