Back
From: metabase:user:5bbb2efa-715f-11e3-8cc1-b2993ff2e0c7
Subject: PASS Data-Section-0.200006 v5.18.2 GNU/Linux
Date: 2014-04-29T21:58:44Z
This distribution has been tested as part of the CPAN Testers
project, supporting the Perl programming language. See
http://wiki.cpantesters.org/ for more information or email
questions to cpan-testers-discuss@perl.org
--
Dear RJBS,
This is a computer-generated report for Data-Section-0.200006
on perl 5.18.2, created by NX::cpanminus::reporter 0.10 (1.7001).
Thank you for uploading your work to CPAN. Congratulations!
All tests were successful.
Sections of this report:
* Tester comments
* Program output
* Prerequisites
* Environment and other context
------------------------------
TESTER COMMENTS
------------------------------
Additional comments from tester:
none provided
------------------------------
PROGRAM OUTPUT
------------------------------
Output from '':
Building and testing Data-Section-0.200006
cp lib/Data/Section.pm blib/lib/Data/Section.pm
Manifying blib/man3/Data::Section.3
PERL_DL_NONLAZY=1 /home/ollisg/perl5/perlbrew/perls/perl-5.18.2c34/bin/perl "-MExtUtils::Command::MM" "-e" "test_harness(0, 'blib/lib', 'blib/arch')" t/*.t
#
#
# Generated by Dist::Zilla::Plugin::ReportVersions::Tiny v1.10
# perl: 5.018002 (wanted any version) on linux from /home/ollisg/perl5/perlbrew/perls/perl-5.18.2c34/bin/perl
#
# Encode => 2.49 (want any version)
# ExtUtils::MakeMaker => 6.66 (want 6.30)
# MRO::Compat => 0.12 (want 0.09)
# Sub::Exporter => 0.987 (want 0.979)
# Test::FailWarnings => 0.008 (want any version)
# Test::More => 1.001003 (want 0.96)
# base => 2.18 (want any version)
# lib => 0.63 (want any version)
# strict => 1.07 (want any version)
# utf8 => 1.10 (want any version)
# warnings => 1.18 (want any version)
#
# Thanks for using my code. I hope it works for you.
# If not, please try and include this output in the bug report.
# That will help me reproduce the issue and solve your problem.
#
t/000-report-versions-tiny.t .. ok
t/basic.t ..................... ok
t/encodings.t ................. ok
All tests successful.
Files=3, Tests=40, 0 wallclock secs ( 0.03 usr 0.00 sys + 0.14 cusr 0.02 csys = 0.19 CPU)
Result: PASS
------------------------------
PREREQUISITES
------------------------------
Prerequisite modules loaded:
No requirements found
------------------------------
ENVIRONMENT AND OTHER CONTEXT
------------------------------
Environment variables:
LANG = en_US.utf8
LC_COLLATE = C
MANPATH_WITHOUT_PERLBREW = /home/ollisg/.perlbrew/libs/perl-5.18.2c34@dev/man:/home/ollisg/opt/clang/3.4/share/man:/home/ollisg/opt/rust/0.9/share/man:/usr/local/man:/usr/local/share/man:/usr/share/man
PATH = /home/ollisg/opt/clang/3.4/bin:/home/ollisg/.perlbrew/libs/perl-5.18.2c34@dev/bin:/home/ollisg/perl5/perlbrew/bin:/home/ollisg/perl5/perlbrew/perls/perl-5.18.2c34/bin:/home/ollisg/opt/clang/3.4/bin:/home/ollisg/opt/rust/0.9/bin:/home/ollisg/bin:/usr/lib/ccache:/usr/local/bin:/usr/bin:/bin:/usr/local/games:/usr/games
PATH_WITHOUT_PERLBREW = /home/ollisg/opt/clang/3.4/bin:/home/ollisg/opt/rust/0.9/bin:/home/ollisg/bin:/usr/lib/ccache:/usr/local/bin:/usr/bin:/bin:/usr/local/games:/usr/games
PERL5LIB = /home/ollisg/.perlbrew/libs/perl-5.18.2c34@dev/lib/perl5
PERLBREW_CSHRC_VERSION = 0.67
PERLBREW_HOME = /home/ollisg/.perlbrew
PERLBREW_LIB = dev
PERLBREW_MANPATH = /home/ollisg/.perlbrew/libs/perl-5.18.2c34@dev/man:/home/ollisg/perl5/perlbrew/perls/perl-5.18.2c34/man
PERLBREW_PATH = /home/ollisg/.perlbrew/libs/perl-5.18.2c34@dev/bin:/home/ollisg/perl5/perlbrew/bin:/home/ollisg/perl5/perlbrew/perls/perl-5.18.2c34/bin
PERLBREW_PERL = perl-5.18.2c34
PERLBREW_ROOT = /home/ollisg/perl5/perlbrew
PERLBREW_VERSION = 0.67
PERL_CPANM_OPT = --mirror /home/ollisg/minicpan --mirror-only
PERL_LOCAL_LIB_ROOT = /home/ollisg/.perlbrew/libs/perl-5.18.2c34@dev
PERL_MB_OPT = --install_base /home/ollisg/.perlbrew/libs/perl-5.18.2c34@dev
PERL_MM_OPT = INSTALL_BASE=/home/ollisg/.perlbrew/libs/perl-5.18.2c34@dev
SHELL = /bin/tcsh
TERM = xterm
Perl special variables (and OS-specific diagnostics, for MSWin32):
EGID = 1000 24 25 27 29 30 44 46 105 110 112 122 123 1000
EUID = 1000
EXECUTABLE_NAME = /home/ollisg/perl5/perlbrew/perls/perl-5.18.2c34/bin/perl
GID = 1000 24 25 27 29 30 44 46 105 110 112 122 123 1000
UID = 1000
Perl module toolchain versions installed:
Module Have
------------------- --------
CPAN 2.00
CPAN::Meta 2.141170
Cwd 3.40
ExtUtils::CBuilder 0.280210
ExtUtils::Command 1.17
ExtUtils::Install 1.59
ExtUtils::MakeMaker 6.66
ExtUtils::Manifest 1.63
ExtUtils::ParseXS 3.18
File::Spec 3.40
JSON 2.90
JSON::PP 2.27202
Module::Build 0.4003
Module::Signature n/a
Parse::CPAN::Meta 1.4414
Test::Harness 3.30
Test::More 1.001003
YAML 0.90
YAML::Syck n/a
version 0.9902
--
Summary of my perl5 (revision 5 version 18 subversion 2) configuration:
Platform:
osname=linux, osvers=3.2.0-4-amd64, archname=x86_64-linux
uname='linux iscah 3.2.0-4-amd64 #1 smp debian 3.2.54-2 x86_64 gnulinux '
config_args='-de -Dprefix=/home/ollisg/perl5/perlbrew/perls/perl-5.18.2c34 -Dcc=clang -Aeval:scriptdir=/home/ollisg/perl5/perlbrew/perls/perl-5.18.2c34/bin'
hint=recommended, useposix=true, d_sigaction=define
useithreads=undef, usemultiplicity=undef
useperlio=define, d_sfio=undef, uselargefiles=define, usesocks=undef
use64bitint=define, use64bitall=define, uselongdouble=undef
usemymalloc=n, bincompat5005=undef
Compiler:
cc='clang', ccflags ='-fno-strict-aliasing -pipe -fstack-protector -I/usr/local/include -D_LARGEFILE_SOURCE -D_FILE_OFFSET_BITS=64',
optimize='-O2',
cppflags='-fno-strict-aliasing -pipe -fstack-protector -I/usr/local/include'
ccversion='', gccversion='4.2.1 Compatible Clang 3.4 (tags/RELEASE_34/final)', gccosandvers=''
intsize=4, longsize=8, ptrsize=8, doublesize=8, byteorder=12345678
d_longlong=define, longlongsize=8, d_longdbl=define, longdblsize=16
ivtype='long', ivsize=8, nvtype='double', nvsize=8, Off_t='off_t', lseeksize=8
alignbytes=8, prototype=define
Linker and Libraries:
ld='clang', ldflags =' -fstack-protector -L/usr/local/lib'
libpth=/usr/local/lib /lib/x86_64-linux-gnu /lib/../lib /usr/lib/x86_64-linux-gnu /usr/lib/../lib /lib /usr/lib /lib64 /usr/lib64
libs=-lnsl -ldl -lm -lcrypt -lutil -lc
perllibs=-lnsl -ldl -lm -lcrypt -lutil -lc
libc=, so=so, useshrplib=false, libperl=libperl.a
gnulibc_version='2.13'
Dynamic Linking:
dlsrc=dl_dlopen.xs, dlext=so, d_dlsymun=undef, ccdlflags='-Wl,-E'
cccdlflags='-fPIC', lddlflags='-shared -O2 -L/usr/local/lib -fstack-protector'
Characteristics of this binary (from libperl):
Compile-time options: HAS_TIMES PERLIO_LAYERS PERL_DONT_CREATE_GVSV
PERL_HASH_FUNC_ONE_AT_A_TIME_HARD PERL_MALLOC_WRAP
PERL_PRESERVE_IVUV PERL_SAWAMPERSAND USE_64_BIT_ALL
USE_64_BIT_INT USE_LARGE_FILES USE_LOCALE
USE_LOCALE_COLLATE USE_LOCALE_CTYPE
USE_LOCALE_NUMERIC USE_PERLIO USE_PERL_ATOF
Built under linux
Compiled at Apr 29 2014 17:33:36
%ENV:
PERL5LIB="/home/ollisg/.perlbrew/libs/perl-5.18.2c34@dev/lib/perl5"
PERLBREW_CSHRC_VERSION="0.67"
PERLBREW_HOME="/home/ollisg/.perlbrew"
PERLBREW_LIB="dev"
PERLBREW_MANPATH="/home/ollisg/.perlbrew/libs/perl-5.18.2c34@dev/man:/home/ollisg/perl5/perlbrew/perls/perl-5.18.2c34/man"
PERLBREW_PATH="/home/ollisg/.perlbrew/libs/perl-5.18.2c34@dev/bin:/home/ollisg/perl5/perlbrew/bin:/home/ollisg/perl5/perlbrew/perls/perl-5.18.2c34/bin"
PERLBREW_PERL="perl-5.18.2c34"
PERLBREW_ROOT="/home/ollisg/perl5/perlbrew"
PERLBREW_VERSION="0.67"
PERL_CPANM_OPT="--mirror /home/ollisg/minicpan --mirror-only"
PERL_LOCAL_LIB_ROOT="/home/ollisg/.perlbrew/libs/perl-5.18.2c34@dev"
PERL_MB_OPT="--install_base /home/ollisg/.perlbrew/libs/perl-5.18.2c34@dev"
PERL_MM_OPT="INSTALL_BASE=/home/ollisg/.perlbrew/libs/perl-5.18.2c34@dev"
@INC:
/home/ollisg/.perlbrew/libs/perl-5.18.2c34@dev/lib/perl5/x86_64-linux
/home/ollisg/.perlbrew/libs/perl-5.18.2c34@dev/lib/perl5
/home/ollisg/perl5/perlbrew/perls/perl-5.18.2c34/lib/site_perl/5.18.2/x86_64-linux
/home/ollisg/perl5/perlbrew/perls/perl-5.18.2c34/lib/site_perl/5.18.2
/home/ollisg/perl5/perlbrew/perls/perl-5.18.2c34/lib/5.18.2/x86_64-linux
/home/ollisg/perl5/perlbrew/perls/perl-5.18.2c34/lib/5.18.2
.