Back
From: metabase:user:320bfe00-2aae-11df-837a-5e0a49663a4f
Subject: PASS classes-0.944 v5.12.4 GNU/Linux
Date: 2011-11-21T02:20:51Z
This distribution has been tested as part of the CPAN Testers
project, supporting the Perl programming language.  See
http://wiki.cpantesters.org/ for more information or email
questions to cpan-testers-discuss@perl.org
--
Dear Robert S. Muhlestein,
This is a computer-generated report for classes-0.944
on perl 5.12.4, created by CPAN-Reporter-1.1902.
Thank you for uploading your work to CPAN.  Congratulations!
All tests were successful.
Sections of this report:
    * Tester comments
    * Program output
    * Prerequisites
    * Environment and other context
------------------------------
TESTER COMMENTS
------------------------------
Additional comments from tester:
this report is from an automated smoke testing program
and was not reviewed by a human for accuracy
------------------------------
PROGRAM OUTPUT
------------------------------
Output from '/usr/bin/make test':
PERL_DL_NONLAZY=1 /home/sand/src/perl/repoperls/installed-perls/perl/v5.12.4/2a56/bin/perl "-MExtUtils::Command::MM" "-e" "test_harness(0, 'blib/lib', 'blib/arch')" t/00-load.t t/classes.t t/dump.t t/init_args.t t/load.t t/ok.t t/pod-coverage.t t/pod.t t/sprintf.t t/SUPER.t t/throwable.t t/xclasses.t t/tags/attrs.t t/tags/attrs_pr.t t/tags/attrs_ro.t t/tags/base_exception.t t/tags/caller.t t/tags/class_attrs.t t/tags/class_attrs_pr.t t/tags/class_attrs_ro.t t/tags/def_base_exception.t t/tags/exceptions.t t/tags/extends.t t/tags/inherits.t t/tags/justahash.t t/tags/mixes.t t/tags/name.t t/tags/needs.t t/tags/noaccessors.t t/tags/unqualified.t
# Testing classes 0.944, Perl 5.012004, /home/sand/src/perl/repoperls/installed-perls/perl/v5.12.4/2a56/bin/perl
t/00-load.t .................. ok
t/classes.t .................. ok
t/dump.t ..................... ok
t/init_args.t ................ ok
t/load.t ..................... ok
t/ok.t ....................... ok
t/pod-coverage.t ............. ok
t/pod.t ...................... ok
t/sprintf.t .................. ok
t/SUPER.t .................... ok
t/tags/attrs.t ............... ok
t/tags/attrs_pr.t ............ ok
t/tags/attrs_ro.t ............ ok
t/tags/base_exception.t ...... ok
t/tags/caller.t .............. ok
t/tags/class_attrs.t ......... ok
t/tags/class_attrs_pr.t ...... ok
t/tags/class_attrs_ro.t ...... ok
t/tags/def_base_exception.t .. ok
t/tags/exceptions.t .......... ok
t/tags/extends.t ............. ok
t/tags/inherits.t ............ ok
t/tags/justahash.t ........... ok
t/tags/mixes.t ............... ok
t/tags/name.t ................ ok
t/tags/needs.t ............... ok
t/tags/noaccessors.t ......... ok
t/tags/unqualified.t ......... ok
t/throwable.t ................ ok
t/xclasses.t ................. ok
All tests successful.
Files=30, Tests=612,  4 wallclock secs ( 0.16 usr  0.06 sys +  3.24 cusr  0.37 csys =  3.83 CPU)
Result: PASS
------------------------------
PREREQUISITES
------------------------------
Prerequisite modules loaded:
requires:
    Module              Need Have        
    ------------------- ---- ------------
    Data::Dumper        0    2.131       
    Scalar::Util        0    1.23        
    Test::More          0    1.005000_001
build_requires:
    Module              Need Have        
    ------------------- ---- ------------
    ExtUtils::MakeMaker 0    6.63_02     
------------------------------
ENVIRONMENT AND OTHER CONTEXT
------------------------------
Environment variables:
    AUTOMATED_TESTING = 1
    LANG = en_US.UTF-8
    LANGUAGE = en_US:en
    PATH = /home/sand/bin:/usr/local/bin:/usr/bin:/bin:/usr/bin/X11:/usr/games:/usr/local/perl/bin:/usr/X11/bin:/sbin:/usr/sbin
    PERL5LIB = 
    PERL5OPT = 
    PERL5_CPANPLUS_IS_RUNNING = 30433
    PERL5_CPAN_IS_RUNNING = 30433
    PERL_MM_USE_DEFAULT = 1
    SHELL = /usr/bin/zsh
    TERM = screen
Perl special variables (and OS-specific diagnostics, for MSWin32):
    $^X = /home/sand/src/perl/repoperls/installed-perls/perl/v5.12.4/2a56/bin/perl
    $UID/$EUID = 1005 / 1005
    $GID = 1005 1005
    $EGID = 1005 1005
Perl module toolchain versions installed:
    Module              Have        
    ------------------- ------------
    CPAN                1.9800      
    Cwd                 3.33        
    ExtUtils::CBuilder  0.280202    
    ExtUtils::Command   1.17        
    ExtUtils::Install   1.55        
    ExtUtils::MakeMaker 6.63_02     
    ExtUtils::Manifest  1.58        
    ExtUtils::ParseXS   3.05        
    File::Spec          3.33        
    Module::Build       0.39_01     
    Module::Signature   0.68        
    Test::Harness       3.23        
    Test::More          1.005000_001
    YAML                0.77        
    YAML::Syck          1.19        
    version             0.95        
--
Summary of my perl5 (revision 5 version 12 subversion 4) configuration:
  Commit id: 0cfb50b2327c758fdfe77a5cda07b115e58aed0b
  Platform:
    osname=linux, osvers=2.6.32-5-amd64, archname=x86_64-linux-thread-multi-ld
    uname='linux k83 2.6.32-5-amd64 #1 smp mon oct 3 03:59:20 utc 2011 x86_64 gnulinux '
    config_args='-Dprefix=/home/src/perl/repoperls/installed-perls/perl/v5.12.4/2a56 -Dinstallusrbinperl=n -Uversiononly -Dusedevel -des -Ui_db -Duseithreads -Duselongdouble -DDEBUGGING=-g'
    hint=recommended, useposix=true, d_sigaction=define
    useithreads=define, usemultiplicity=define
    useperlio=define, d_sfio=undef, uselargefiles=define, usesocks=undef
    use64bitint=define, use64bitall=define, uselongdouble=define
    usemymalloc=n, bincompat5005=undef
  Compiler:
    cc='cc', ccflags ='-D_REENTRANT -D_GNU_SOURCE -fno-strict-aliasing -pipe -fstack-protector -I/usr/local/include -D_LARGEFILE_SOURCE -D_FILE_OFFSET_BITS=64',
    optimize='-O2 -g',
    cppflags='-D_REENTRANT -D_GNU_SOURCE -fno-strict-aliasing -pipe -fstack-protector -I/usr/local/include'
    ccversion='', gccversion='4.4.5', gccosandvers=''
    intsize=4, longsize=8, ptrsize=8, doublesize=8, byteorder=12345678
    d_longlong=define, longlongsize=8, d_longdbl=define, longdblsize=16
    ivtype='long', ivsize=8, nvtype='long double', nvsize=16, Off_t='off_t', lseeksize=8
    alignbytes=16, prototype=define
  Linker and Libraries:
    ld='cc', ldflags =' -fstack-protector -L/usr/local/lib'
    libpth=/usr/local/lib /lib/../lib /usr/lib/../lib /lib /usr/lib /lib64 /usr/lib64
    libs=-lnsl -ldl -lm -lcrypt -lutil -lpthread -lc
    perllibs=-lnsl -ldl -lm -lcrypt -lutil -lpthread -lc
    libc=/lib/libc-2.11.2.so, so=so, useshrplib=false, libperl=libperl.a
    gnulibc_version='2.11.2'
  Dynamic Linking:
    dlsrc=dl_dlopen.xs, dlext=so, d_dlsymun=undef, ccdlflags='-Wl,-E'
    cccdlflags='-fPIC', lddlflags='-shared -O2 -g -L/usr/local/lib -fstack-protector'
Characteristics of this binary (from libperl): 
  Compile-time options: MULTIPLICITY PERL_DONT_CREATE_GVSV
                        PERL_IMPLICIT_CONTEXT PERL_MALLOC_WRAP PERL_USE_DEVEL
                        USE_64_BIT_ALL USE_64_BIT_INT USE_ITHREADS
                        USE_LARGE_FILES USE_LONG_DOUBLE USE_PERLIO
                        USE_PERL_ATOF USE_REENTRANT_API
  Built under linux
  Compiled at Oct 10 2011 08:05:04
  %ENV:
    PERL5LIB=""
    PERL5OPT=""
    PERL5_CPANPLUS_IS_RUNNING="30433"
    PERL5_CPAN_IS_RUNNING="30433"
    PERL_MM_USE_DEFAULT="1"
  @INC:
    /home/src/perl/repoperls/installed-perls/perl/v5.12.4/2a56/lib/site_perl/5.12.4/x86_64-linux-thread-multi-ld
    /home/src/perl/repoperls/installed-perls/perl/v5.12.4/2a56/lib/site_perl/5.12.4
    /home/src/perl/repoperls/installed-perls/perl/v5.12.4/2a56/lib/5.12.4/x86_64-linux-thread-multi-ld
    /home/src/perl/repoperls/installed-perls/perl/v5.12.4/2a56/lib/5.12.4
    .