Template-Mustache v1.1.0 Perl 5 v5.14.3 x86_64-linux-thread-multi

Status
Pass
From
Nigel Horne
Dist
Template-Mustache v1.1.0
Platform
Perl 5 v5.14.3 x86_64-linux-thread-multi
Date
2017-09-27 22:37:24
ID
6e8434b8-a3d4-11e7-9be1-bbe64cf6c7cd
This distribution has been tested as part of the CPAN Testers
project, supporting the Perl programming language.  See
http://wiki.cpantesters.org/ for more information or email
questions to cpan-testers-discuss@perl.org


--
Dear Yanick Champoux,

This is a computer-generated report for Template-Mustache-1.1.0
on perl 5.14.3, created by CPAN-Reporter-1.2018.

Thank you for uploading your work to CPAN.  Congratulations!
All tests were successful.

Sections of this report:

    * Tester comments
    * Program output
    * Prerequisites
    * Environment and other context

------------------------------
TESTER COMMENTS
------------------------------

Additional comments from tester:

this report is from an automated smoke testing program
and was not reviewed by a human for accuracy

------------------------------
PROGRAM OUTPUT
------------------------------

Output from '/usr/bin/make test':

PERL_DL_NONLAZY=1 "/home/njh/perl5/perlbrew/perls/perl-5.14.3/bin/perl" "-MExtUtils::Command::MM" "-MTest::Harness" "-e" "undef *Test::Harness::Switches; test_harness(0, 'blib/lib', 'blib/arch')" t/*.t
# 
# Versions for all modules listed in MYMETA.json (including optional ones):
# 
# === Configure Requires ===
# 
#     Module              Want Have
#     ------------------- ---- ----
#     ExtUtils::MakeMaker  any 7.24
# 
# === Build Requires ===
# 
#     Module              Want Have
#     ------------------- ---- ----
#     ExtUtils::MakeMaker  any 7.24
# 
# === Test Requires ===
# 
#     Module              Want     Have
#     ------------------- ---- --------
#     ExtUtils::MakeMaker  any     7.24
#     File::Spec           any     3.40
#     File::Temp           any   0.2301
#     IO::Handle           any     1.31
#     IPC::Open3           any   1.0901
#     Test::Exception      any     0.32
#     Test::More          0.88 1.302062
#     Test::Most           any     0.31
#     Test::Requires       any     0.07
#     base                 any     2.18
# 
# === Test Recommends ===
# 
#     Module         Want     Have
#     ---------- -------- --------
#     CPAN::Meta 2.120900 2.150005
# 
# === Runtime Requires ===
# 
#     Module                Want     Have
#     ----------------- -------- --------
#     Carp                   any     1.26
#     Escape::Houdini        any    0.3.0
#     List::AllUtils         any     0.14
#     Moo                    any 1.003000
#     MooseX::MungeHas       any    0.008
#     Parse::RecDescent 1.967015 1.967015
#     Path::Tiny             any    0.098
#     Scalar::Util           any     1.49
#     Text::Balanced         any     2.02
#     YAML::XS               any     0.66
#     autodie                any     2.20
#     strict                 any     1.04
#     vars                   any     1.02
#     warnings               any     1.12
# 
t/00-report-prereqs.t .................. ok
t/basic.t .............................. ok
t/lambdas_receive_render_helper.t ...... ok

       ERROR (line 3): Invalid template: Was expecting eofile but found
                       "{{#section}}" instead

       ERROR (line 2): Invalid template: Was expecting eofile but found
                       "{{#a}}" instead

       ERROR (line 3): Invalid template: Was expecting eofile but found
                       "{{/section}}" instead
t/001_spec_compatibility.t ............. skipped: Couldn't find specs; try running `git submodule update --init`



       ERROR (line 1): Invalid template: Was expecting eofile but found "{{%
                       something }}" instead
t/parse_errors.t ....................... ok
t/00-compile.t ......................... ok
t/moose-trait.t ........................ ok
t/read_data_from_classes.t ............. ok
t/partials.t ........................... ok
t/read_data_from_hashes.t .............. ok
t/read_data_from_instances.t ........... ok
t/read_data_from_subclass.t ............ ok
t/read_partials_from_file_system.t ..... ok
t/read_partials_from_hashes.t .......... ok
t/read_partials_from_partial_method.t .. ok
t/read_partials_from_subs.t ............ ok
t/read_templates_from_subclass.t ....... ok
t/read_templates_from_file_system.t .... ok

       ERROR (line 1): Invalid template: Was expecting eofile but found
                       "{{#foo}}{{.}}{{#/foo}}" instead
t/sections.t ........................... ok
t/variable-resolution.t ................ ok
All tests successful.
Files=20, Tests=49,  1 wallclock secs ( 0.06 usr  0.01 sys +  2.64 cusr  0.38 csys =  3.09 CPU)
Result: PASS

------------------------------
PREREQUISITES
------------------------------

Prerequisite modules loaded:

requires:

    Module              Need     Have    
    ------------------- -------- --------
    autodie             0        2.20    
    Carp                0        1.26    
    Escape::Houdini     0        0.3.0   
    List::AllUtils      0        0.14    
    Moo                 0        1.003000
    MooseX::MungeHas    0        0.008   
    Parse::RecDescent   1.967015 1.967015
    Path::Tiny          0        0.098   
    perl                5.012000 5.014003
    Scalar::Util        0        1.49    
    strict              0        1.04    
    Text::Balanced      0        2.02    
    vars                0        1.02    
    warnings            0        1.12    
    YAML::XS            0        0.66    

build_requires:

    Module              Need     Have    
    ------------------- -------- --------
    base                0        2.18    
    ExtUtils::MakeMaker 0        7.24    
    File::Spec          0        3.40    
    File::Temp          0        0.2301  
    IO::Handle          0        1.31    
    IPC::Open3          0        1.0901  
    Test::Exception     0        0.32    
    Test::More          0.88     1.302062
    Test::Most          0        0.31    
    Test::Requires      0        0.07    

configure_requires:

    Module              Need     Have    
    ------------------- -------- --------
    ExtUtils::MakeMaker 0        7.24    


------------------------------
ENVIRONMENT AND OTHER CONTEXT
------------------------------

Environment variables:

    AUTOMATED_TESTING = 1
    HARNESS_OPTIONS = j4
    LANG = en_GB.UTF-8
    LANGUAGE = en_GB:en
    PATH = /home/njh/perl5/perlbrew/bin:/home/njh/perl5/perlbrew/perls/perl-5.14.3/bin:/home/njh/perl5/perlbrew/bin:/usr/bin:/bin
    PERL5LIB = /home/njh/.cpan/build/Parse-RecDescent-1.967015-4/blib/arch:/home/njh/.cpan/build/Parse-RecDescent-1.967015-4/blib/lib:/home/njh/.cpan/build/MooseX-MungeHas-0.008-4/blib/arch:/home/njh/.cpan/build/MooseX-MungeHas-0.008-4/blib/lib:/home/njh/.cpan/build/List-AllUtils-0.14-4/blib/arch:/home/njh/.cpan/build/List-AllUtils-0.14-4/blib/lib:/home/njh/.cpan/build/List-UtilsBy-0.10-4/blib/arch:/home/njh/.cpan/build/List-UtilsBy-0.10-4/blib/lib:/home/njh/.cpan/build/Scalar-List-Utils-1.49-2/blib/arch:/home/njh/.cpan/build/Scalar-List-Utils-1.49-2/blib/lib:/home/njh/.cpan/build/List-SomeUtils-0.56-1/blib/arch:/home/njh/.cpan/build/List-SomeUtils-0.56-1/blib/lib:/home/njh/.cpan/build/List-SomeUtils-XS-0.55-1/blib/arch:/home/njh/.cpan/build/List-SomeUtils-XS-0.55-1/blib/lib:/home/njh/.cpan/build/Test-LeakTrace-0.16-0/blib/arch:/home/njh/.cpan/build/Test-LeakTrace-0.16-0/blib/lib:/home/njh/.cpan/build/Escape-Houdini-0.3.0-4/blib/arch:/home/njh/.cpan/build/Escape-Houdini-0.3.0-4/blib/lib
    PERL5OPT = 
    PERL5_CPANPLUS_IS_RUNNING = 9440
    PERL5_CPAN_IS_RUNNING = 9440
    PERLBREW_BASHRC_VERSION = 0.80
    PERLBREW_HOME = /home/njh/.perlbrew
    PERLBREW_LIB = 
    PERLBREW_MANPATH = /home/njh/perl5/perlbrew/perls/perl-5.14.3/man
    PERLBREW_PATH = /home/njh/perl5/perlbrew/bin:/home/njh/perl5/perlbrew/perls/perl-5.14.3/bin
    PERLBREW_PERL = perl-5.14.3
    PERLBREW_ROOT = /home/njh/perl5/perlbrew
    PERLBREW_VERSION = 0.80
    PERL_LOCAL_LIB_ROOT = 
    SHELL = /bin/sh

Perl special variables (and OS-specific diagnostics, for MSWin32):

    $^X = /home/njh/perl5/perlbrew/perls/perl-5.14.3/bin/perl
    $UID/$EUID = 1000 / 1000
    $GID = 1000 4 24 25 29 30 44 46 108 112 1000
    $EGID = 1000 4 24 25 29 30 44 46 108 112 1000

Perl module toolchain versions installed:

    Module              Have    
    ------------------- --------
    CPAN                2.16    
    CPAN::Meta          2.150005
    Cwd                 3.40    
    ExtUtils::CBuilder  0.280216
    ExtUtils::Command   7.24    
    ExtUtils::Install   1.56    
    ExtUtils::MakeMaker 7.24    
    ExtUtils::Manifest  1.70    
    ExtUtils::ParseXS   3.30    
    File::Spec          3.40    
    JSON                2.93    
    JSON::PP            2.27400 
    Module::Build       0.4206  
    Module::Signature   0.73    
    Parse::CPAN::Meta   1.4422  
    Test::Harness       3.36    
    Test::More          1.302062
    YAML                1.23    
    YAML::Syck          1.30    
    version             0.9902  


--

Summary of my perl5 (revision 5 version 14 subversion 3) configuration:
   
  Platform:
    osname=linux, osvers=3.2.0-4-amd64, archname=x86_64-linux-thread-multi
    uname='linux nigelhorne.force9.co.uk 3.2.0-4-amd64 #1 smp debian 3.2.32-1 x86_64 gnulinux '
    config_args='-de -Dprefix=/home/njh/perl5/perlbrew/perls/perl-5.14.3 -Duseithreads -Dusemultiplicity -Accflags=-O2 -W -Wformat=2 -Wswitch -Wshadow -Wwrite-strings -Wuninitialized -Wall -pipe -mtune=native -march=native -fomit-frame-pointer -mfpmath=sse -pedantic -D_FORTIFY_SOURCE=2 -Wpointer-arith -Wstrict-prototypes -fstack-protector -Wstack-protector -Wextra -Wbad-function-cast -Wcast-align -Wcast-qual -Wdisabled-optimization -Wendif-labels -Wfloat-equal -Wformat-nonliteral -Winline -Wmissing-declarations -Wmissing-prototypes -Wnested-externs -Wpointer-arith -Wundef -Wformat-security -Aeval:scriptdir=/home/njh/perl5/perlbrew/perls/perl-5.14.3/bin'
    hint=recommended, useposix=true, d_sigaction=define
    useithreads=define, usemultiplicity=define
    useperlio=define, d_sfio=undef, uselargefiles=define, usesocks=undef
    use64bitint=define, use64bitall=define, uselongdouble=undef
    usemymalloc=n, bincompat5005=undef
  Compiler:
    cc='cc', ccflags ='-D_REENTRANT -D_GNU_SOURCE -O2 -W -Wformat=2 -Wswitch -Wshadow -Wwrite-strings -Wuninitialized -Wall -pipe -mtune=native -march=native -fomit-frame-pointer -mfpmath=sse -pedantic -D_FORTIFY_SOURCE=2 -Wpointer-arith -Wstrict-prototypes -fstack-protector -Wstack-protector -Wextra -Wbad-function-cast -Wcast-align -Wcast-qual -Wdisabled-optimization -Wendif-labels -Wfloat-equal -Wformat-nonliteral -Winline -Wmissing-declarations -Wmissing-prototypes -Wnested-externs -Wpointer-arith -Wundef -Wformat-security -fno-strict-aliasing -I/usr/local/include -D_LARGEFILE_SOURCE -D_FILE_OFFSET_BITS=64',
    optimize='-O2',
    cppflags='-D_REENTRANT -D_GNU_SOURCE -O2 -W -Wformat=2 -Wswitch -Wshadow -Wwrite-strings -Wuninitialized -Wall -pipe -mtune=native -march=native -fomit-frame-pointer -mfpmath=sse -pedantic -D_FORTIFY_SOURCE=2 -Wpointer-arith -Wstrict-prototypes -fstack-protector -Wstack-protector -Wextra -Wbad-function-cast -Wcast-align -Wcast-qual -Wdisabled-optimization -Wendif-labels -Wfloat-equal -Wformat-nonliteral -Winline -Wmissing-declarations -Wmissing-prototypes -Wnested-externs -Wpointer-arith -Wundef -Wformat-security -fno-strict-aliasing -I/usr/local/include'
    ccversion='', gccversion='4.7.2', gccosandvers=''
    intsize=4, longsize=8, ptrsize=8, doublesize=8, byteorder=12345678
    d_longlong=define, longlongsize=8, d_longdbl=define, longdblsize=16
    ivtype='long', ivsize=8, nvtype='double', nvsize=8, Off_t='off_t', lseeksize=8
    alignbytes=8, prototype=define
  Linker and Libraries:
    ld='cc', ldflags =' -fstack-protector -L/usr/local/lib'
    libpth=/usr/local/lib /lib/x86_64-linux-gnu /lib/../lib /usr/lib/x86_64-linux-gnu /usr/lib/../lib /lib /usr/lib
    libs=-lnsl -lgdbm -ldb -ldl -lm -lcrypt -lutil -lpthread -lc -lgdbm_compat
    perllibs=-lnsl -ldl -lm -lcrypt -lutil -lpthread -lc
    libc=, so=so, useshrplib=false, libperl=libperl.a
    gnulibc_version='2.13'
  Dynamic Linking:
    dlsrc=dl_dlopen.xs, dlext=so, d_dlsymun=undef, ccdlflags='-Wl,-E'
    cccdlflags='-fPIC', lddlflags='-shared -O2 -L/usr/local/lib -fstack-protector'


Characteristics of this binary (from libperl): 
  Compile-time options: MULTIPLICITY PERL_DONT_CREATE_GVSV
                        PERL_IMPLICIT_CONTEXT PERL_MALLOC_WRAP
                        PERL_PRESERVE_IVUV USE_64_BIT_ALL USE_64_BIT_INT
                        USE_ITHREADS USE_LARGE_FILES USE_PERLIO USE_PERL_ATOF
                        USE_REENTRANT_API
  Built under linux
  Compiled at Mar  5 2013 02:01:19
  %ENV:
    PERL5LIB="/home/njh/.cpan/build/Parse-RecDescent-1.967015-4/blib/arch:/home/njh/.cpan/build/Parse-RecDescent-1.967015-4/blib/lib:/home/njh/.cpan/build/MooseX-MungeHas-0.008-4/blib/arch:/home/njh/.cpan/build/MooseX-MungeHas-0.008-4/blib/lib:/home/njh/.cpan/build/List-AllUtils-0.14-4/blib/arch:/home/njh/.cpan/build/List-AllUtils-0.14-4/blib/lib:/home/njh/.cpan/build/List-UtilsBy-0.10-4/blib/arch:/home/njh/.cpan/build/List-UtilsBy-0.10-4/blib/lib:/home/njh/.cpan/build/Scalar-List-Utils-1.49-2/blib/arch:/home/njh/.cpan/build/Scalar-List-Utils-1.49-2/blib/lib:/home/njh/.cpan/build/List-SomeUtils-0.56-1/blib/arch:/home/njh/.cpan/build/List-SomeUtils-0.56-1/blib/lib:/home/njh/.cpan/build/List-SomeUtils-XS-0.55-1/blib/arch:/home/njh/.cpan/build/List-SomeUtils-XS-0.55-1/blib/lib:/home/njh/.cpan/build/Test-LeakTrace-0.16-0/blib/arch:/home/njh/.cpan/build/Test-LeakTrace-0.16-0/blib/lib:/home/njh/.cpan/build/Escape-Houdini-0.3.0-4/blib/arch:/home/njh/.cpan/build/Escape-Houdini-0.3.0-4/blib/lib"
    PERL5OPT=""
    PERL5_CPANPLUS_IS_RUNNING="9440"
    PERL5_CPAN_IS_RUNNING="9440"
    PERLBREW_BASHRC_VERSION="0.80"
    PERLBREW_HOME="/home/njh/.perlbrew"
    PERLBREW_LIB=""
    PERLBREW_MANPATH="/home/njh/perl5/perlbrew/perls/perl-5.14.3/man"
    PERLBREW_PATH="/home/njh/perl5/perlbrew/bin:/home/njh/perl5/perlbrew/perls/perl-5.14.3/bin"
    PERLBREW_PERL="perl-5.14.3"
    PERLBREW_ROOT="/home/njh/perl5/perlbrew"
    PERLBREW_VERSION="0.80"
    PERL_LOCAL_LIB_ROOT=""
  @INC:
    /home/njh/.cpan/build/Parse-RecDescent-1.967015-4/blib/arch
    /home/njh/.cpan/build/Parse-RecDescent-1.967015-4/blib/lib
    /home/njh/.cpan/build/MooseX-MungeHas-0.008-4/blib/arch
    /home/njh/.cpan/build/MooseX-MungeHas-0.008-4/blib/lib
    /home/njh/.cpan/build/List-AllUtils-0.14-4/blib/arch
    /home/njh/.cpan/build/List-AllUtils-0.14-4/blib/lib
    /home/njh/.cpan/build/List-UtilsBy-0.10-4/blib/arch
    /home/njh/.cpan/build/List-UtilsBy-0.10-4/blib/lib
    /home/njh/.cpan/build/Scalar-List-Utils-1.49-2/blib/arch
    /home/njh/.cpan/build/Scalar-List-Utils-1.49-2/blib/lib
    /home/njh/.cpan/build/List-SomeUtils-0.56-1/blib/arch
    /home/njh/.cpan/build/List-SomeUtils-0.56-1/blib/lib
    /home/njh/.cpan/build/List-SomeUtils-XS-0.55-1/blib/arch
    /home/njh/.cpan/build/List-SomeUtils-XS-0.55-1/blib/lib
    /home/njh/.cpan/build/Test-LeakTrace-0.16-0/blib/arch
    /home/njh/.cpan/build/Test-LeakTrace-0.16-0/blib/lib
    /home/njh/.cpan/build/Escape-Houdini-0.3.0-4/blib/arch
    /home/njh/.cpan/build/Escape-Houdini-0.3.0-4/blib/lib
    /home/njh/perl5/perlbrew/perls/perl-5.14.3/lib/site_perl/5.14.3/x86_64-linux-thread-multi
    /home/njh/perl5/perlbrew/perls/perl-5.14.3/lib/site_perl/5.14.3
    /home/njh/perl5/perlbrew/perls/perl-5.14.3/lib/5.14.3/x86_64-linux-thread-multi
    /home/njh/perl5/perlbrew/perls/perl-5.14.3/lib/5.14.3
    .