Chart-Clicker v2.90 Perl 5 v5.18.4 amd64-freebsd

Status
Pass
From
Slaven Rezić (SREZIC)
Dist
Chart-Clicker v2.90
Platform
Perl 5 v5.18.4 amd64-freebsd
Date
2018-08-13 09:44:11
ID
6e7d2c0e-9edd-11e8-ace6-ec6b7c36bca8
This distribution has been tested as part of the CPAN Testers
project, supporting the Perl programming language.  See
http://wiki.cpantesters.org/ for more information or email
questions to cpan-testers-discuss@perl.org


--
Dear Cory G Watson,

This is a computer-generated report for Chart-Clicker-2.90
on perl 5.18.4, created by CPAN-Reporter-1.2018.

Thank you for uploading your work to CPAN.  Congratulations!
All tests were successful.

Sections of this report:

    * Tester comments
    * Program output
    * Prerequisites
    * Environment and other context

------------------------------
TESTER COMMENTS
------------------------------

Additional comments from tester:

none provided

------------------------------
PROGRAM OUTPUT
------------------------------

Output from '/usr/bin/make test':

PERL_DL_NONLAZY=1 "/usr/perl5.18.4p/bin/perl5.18.4" "-MExtUtils::Command::MM" "-MTest::Harness" "-e" "undef *Test::Harness::Switches; test_harness(0, 'blib/lib', 'blib/arch')" t/*.t t/series/*.t t/xt/*.t
t/add-data.t .................... ok
t/author-pod-syntax.t ........... skipped: these tests are for testing by the author
t/author-synopsis.t ............. skipped: these tests are for testing by the author
t/axis-datetime.t ............... ok
t/axis-division-rounded.t ....... ok
t/axis.t ........................ ok
t/basic.t ....................... ok
t/context.t ..................... ok
t/data-dataset.t ................ ok
t/data-marker.t ................. ok
t/data-range.t .................. ok
t/datetime.t .................... ok
t/decoration-color_allocator.t .. ok
t/decoration-glass.t ............ ok
t/decoration-grid.t ............. ok
t/decoration-legend.t ........... ok
t/decoration-markeroverlay.t .... ok
t/decoration-plot.t ............. ok
t/decoration.t .................. ok
t/drawing-colorallocator.t ...... ok
t/example.t ..................... ok
t/invisible.t ................... ok
t/renderer-area.t ............... ok
t/renderer-bar.t ................ ok
t/renderer-base.t ............... ok
t/renderer-bubble.t ............. ok
t/renderer-candlestick.t ........ ok
t/renderer-line.t ............... ok
t/renderer-pie.t ................ ok
t/renderer-point.t .............. ok
t/same-axes-ctx.t ............... ok
t/series/highlow.t .............. ok
t/series/series.t ............... ok
t/series/size.t ................. ok
t/simple-ctx.t .................. ok
t/xt/pod.t ...................... ok
All tests successful.
Files=36, Tests=341, 32 wallclock secs ( 0.18 usr  0.03 sys + 27.94 cusr  3.71 csys = 31.86 CPU)
Result: PASS

------------------------------
PREREQUISITES
------------------------------

Prerequisite modules loaded:

requires:

    Module                                       Need Have    
    -------------------------------------------- ---- --------
    Carp                                         0    1.38    
    Class::Load                                  0    0.24    
    Color::Scheme                                0    1.07    
    constant                                     0    1.27    
    DateTime                                     0    1.49    
    DateTime::Set                                0    0.3900  
    English                                      0    1.06_01 
    Geometry::Primitive::Arc                     0    0       
    Geometry::Primitive::Circle                  0    0       
    Geometry::Primitive::Point                   0    0       
    Graphics::Color::RGB                         0    0.31    
    Graphics::Primitive::Border                  0    0       
    Graphics::Primitive::Brush                   0    0       
    Graphics::Primitive::Canvas                  0    0       
    Graphics::Primitive::Component               0    0       
    Graphics::Primitive::Container               0    0       
    Graphics::Primitive::Driver::Cairo           0    0.47    
    Graphics::Primitive::Font                    0    0       
    Graphics::Primitive::Insets                  0    0       
    Graphics::Primitive::Operation::Fill         0    0       
    Graphics::Primitive::Operation::Stroke       0    0       
    Graphics::Primitive::Oriented                0    0       
    Graphics::Primitive::Paint::Gradient::Linear 0    0       
    Graphics::Primitive::Paint::Gradient::Radial 0    0       
    Graphics::Primitive::Paint::Solid            0    0       
    Graphics::Primitive::Path                    0    0       
    Graphics::Primitive::TextBox                 0    0       
    Layout::Manager::Absolute                    0    0       
    Layout::Manager::Axis                        0    0       
    Layout::Manager::Compass                     0    0       
    Layout::Manager::Flow                        0    0       
    Layout::Manager::Grid                        0    0       
    Layout::Manager::Single                      0    0       
    List::Util                                   0    1.50    
    Math::Trig                                   0    1.23    
    Moose                                        0    2.2011  
    Moose::Role                                  0    2.2011  
    Moose::Util                                  0    2.2011  
    Moose::Util::TypeConstraints                 0    2.2011  
    POSIX                                        0    1.32    
    Scalar::Util                                 0    1.50    
    strict                                       0    1.07    
    warnings                                     0    1.18    

build_requires:

    Module                                       Need Have    
    -------------------------------------------- ---- --------
    ExtUtils::MakeMaker                          0    7.34    
    Test::Exception                              0    0.43    
    Test::Fatal                                  0    0.014   
    Test::More                                   0    1.302136

configure_requires:

    Module                                       Need Have    
    -------------------------------------------- ---- --------
    ExtUtils::MakeMaker                          0    7.34    


------------------------------
ENVIRONMENT AND OTHER CONTEXT
------------------------------

Environment variables:

    PATH = /usr/local/bin:/usr/bin:/bin:/usr/local/sbin:/usr/sbin:/sbin:/home/cpansand/bin/sh:/home/cpansand/bin:/usr/games:/home/cpansand/devel:/home/eserte/src/srezic-misc/scripts
    PERL5LIB = /home/cpansand/.cpan/build/2018081318/Layout-Manager-0.35-1/blib/arch:/home/cpansand/.cpan/build/2018081318/Layout-Manager-0.35-1/blib/lib:/home/cpansand/.cpan/build/2018081318/Graphics-Primitive-Driver-Cairo-0.47-1/blib/arch:/home/cpansand/.cpan/build/2018081318/Graphics-Primitive-Driver-Cairo-0.47-1/blib/lib:/home/cpansand/.cpan/build/2018081318/Text-Flow-0.01-1/blib/arch:/home/cpansand/.cpan/build/2018081318/Text-Flow-0.01-1/blib/lib:/home/cpansand/.cpan/build/2018081318/Graphics-Primitive-0.67-1/blib/arch:/home/cpansand/.cpan/build/2018081318/Graphics-Primitive-0.67-1/blib/lib:/home/cpansand/.cpan/build/2018081318/Geometry-Primitive-0.24-1/blib/arch:/home/cpansand/.cpan/build/2018081318/Geometry-Primitive-0.24-1/blib/lib:/home/cpansand/.cpan/build/2018081318/Check-ISA-0.09-1/blib/arch:/home/cpansand/.cpan/build/2018081318/Check-ISA-0.09-1/blib/lib:/home/cpansand/.cpan/build/2018081318/Color-Scheme-1.07-1/blib/arch:/home/cpansand/.cpan/build/2018081318/Color-Scheme-1.07-1/blib/lib
    PERL5OPT = 
    PERL5_CPANPLUS_IS_RUNNING = 78334
    PERL5_CPAN_IS_RUNNING = 78334
    PERL5_CPAN_IS_RUNNING_IN_RECURSION = 77038,78334
    PERL_BATCH = yes
    PERL_CANARY_STABILITY_NOPROMPT = 1
    PERL_CPAN_REPORTER_CONFIG = /var/tmp/cpansmoker-1023/2018081318/cpanreporter_000_config.ini
    PERL_EXTUTILS_AUTOINSTALL = --defaultdeps
    SHELL = /bin/sh
    TMPDIR = /var/tmp/cpansmoker-1023/2018081318

Perl special variables (and OS-specific diagnostics, for MSWin32):

    $^X = /usr/perl5.18.4p/bin/perl5.18.4
    $UID/$EUID = 1023 / 1023
    $GID = 1023 1023
    $EGID = 1023 1023

Perl module toolchain versions installed:

    Module              Have    
    ------------------- --------
    CPAN                2.16    
    CPAN::Meta          2.150010
    Cwd                 3.74    
    ExtUtils::CBuilder  0.280230
    ExtUtils::Command   7.34    
    ExtUtils::Install   2.06    
    ExtUtils::MakeMaker 7.34    
    ExtUtils::Manifest  1.70    
    ExtUtils::ParseXS   3.35    
    File::Spec          3.74    
    JSON                2.97001 
    JSON::PP            2.94    
    Module::Build       0.4224  
    Module::Signature   0.81    
    Parse::CPAN::Meta   2.150010
    Test::Harness       3.42    
    Test::More          1.302136
    YAML                1.26    
    YAML::Syck          1.30    
    version             0.9924  


--

Summary of my perl5 (revision 5 version 18 subversion 4) configuration:
   
  Platform:
    osname=freebsd, osvers=11.1-stable, archname=amd64-freebsd
    uname='freebsd ali3.bbbike.org 11.1-stable freebsd 11.1-stable #0 b7ba9aef7e5(stable11): wed oct 11 00:23:27 utc 2017 root@ali3.bbbike.org:usrobjhomeprojectsfreebsdsysgeneric amd64 '
    config_args='-ds -e -Dprefix=/usr/perl5.18.4p -Dcf_email=srezic@cpan.org -Doptimize=-O2 -pipe'
    hint=recommended, useposix=true, d_sigaction=define
    useithreads=undef, usemultiplicity=undef
    useperlio=define, d_sfio=undef, uselargefiles=define, usesocks=undef
    use64bitint=define, use64bitall=define, uselongdouble=undef
    usemymalloc=n, bincompat5005=undef
  Compiler:
    cc='cc', ccflags ='-DHAS_FPSETMASK -DHAS_FLOATINGPOINT_H -fno-strict-aliasing -pipe -fstack-protector -I/usr/local/include',
    optimize='-O2 -pipe',
    cppflags='-DHAS_FPSETMASK -DHAS_FLOATINGPOINT_H -fno-strict-aliasing -pipe -fstack-protector -I/usr/local/include'
    ccversion='', gccversion='4.2.1 Compatible FreeBSD Clang 5.0.0 (tags/RELEASE_500/final 312559)', gccosandvers=''
    intsize=4, longsize=8, ptrsize=8, doublesize=8, byteorder=12345678
    d_longlong=define, longlongsize=8, d_longdbl=define, longdblsize=16
    ivtype='long', ivsize=8, nvtype='double', nvsize=8, Off_t='off_t', lseeksize=8
    alignbytes=8, prototype=define
  Linker and Libraries:
    ld='cc', ldflags ='-pthread -Wl,-E  -fstack-protector -L/usr/local/lib'
    libpth=/usr/lib /usr/local/lib
    libs=-lgdbm -lm -lcrypt -lutil -lc
    perllibs=-lm -lcrypt -lutil -lc
    libc=, so=so, useshrplib=false, libperl=libperl.a
    gnulibc_version=''
  Dynamic Linking:
    dlsrc=dl_dlopen.xs, dlext=so, d_dlsymun=undef, ccdlflags=' '
    cccdlflags='-DPIC -fPIC', lddlflags='-shared  -L/usr/local/lib -fstack-protector'


Characteristics of this binary (from libperl): 
  Compile-time options: HAS_TIMES PERLIO_LAYERS PERL_DONT_CREATE_GVSV
                        PERL_HASH_FUNC_ONE_AT_A_TIME_HARD PERL_MALLOC_WRAP
                        PERL_PRESERVE_IVUV PERL_SAWAMPERSAND USE_64_BIT_ALL
                        USE_64_BIT_INT USE_LARGE_FILES USE_LOCALE
                        USE_LOCALE_COLLATE USE_LOCALE_CTYPE
                        USE_LOCALE_NUMERIC USE_PERLIO USE_PERL_ATOF
  Built under freebsd
  Compiled at Oct 19 2017 14:17:00
  %ENV:
    PERL5LIB="/home/cpansand/.cpan/build/2018081318/Layout-Manager-0.35-1/blib/arch:/home/cpansand/.cpan/build/2018081318/Layout-Manager-0.35-1/blib/lib:/home/cpansand/.cpan/build/2018081318/Graphics-Primitive-Driver-Cairo-0.47-1/blib/arch:/home/cpansand/.cpan/build/2018081318/Graphics-Primitive-Driver-Cairo-0.47-1/blib/lib:/home/cpansand/.cpan/build/2018081318/Text-Flow-0.01-1/blib/arch:/home/cpansand/.cpan/build/2018081318/Text-Flow-0.01-1/blib/lib:/home/cpansand/.cpan/build/2018081318/Graphics-Primitive-0.67-1/blib/arch:/home/cpansand/.cpan/build/2018081318/Graphics-Primitive-0.67-1/blib/lib:/home/cpansand/.cpan/build/2018081318/Geometry-Primitive-0.24-1/blib/arch:/home/cpansand/.cpan/build/2018081318/Geometry-Primitive-0.24-1/blib/lib:/home/cpansand/.cpan/build/2018081318/Check-ISA-0.09-1/blib/arch:/home/cpansand/.cpan/build/2018081318/Check-ISA-0.09-1/blib/lib:/home/cpansand/.cpan/build/2018081318/Color-Scheme-1.07-1/blib/arch:/home/cpansand/.cpan/build/2018081318/Color-Scheme-1.07-1/blib/lib"
    PERL5OPT=""
    PERL5_CPANPLUS_IS_RUNNING="78334"
    PERL5_CPAN_IS_RUNNING="78334"
    PERL5_CPAN_IS_RUNNING_IN_RECURSION="77038,78334"
    PERL_BATCH="yes"
    PERL_CANARY_STABILITY_NOPROMPT="1"
    PERL_CPAN_REPORTER_CONFIG="/var/tmp/cpansmoker-1023/2018081318/cpanreporter_000_config.ini"
    PERL_EXTUTILS_AUTOINSTALL="--defaultdeps"
  @INC:
    /home/cpansand/.cpan/build/2018081318/Layout-Manager-0.35-1/blib/arch
    /home/cpansand/.cpan/build/2018081318/Layout-Manager-0.35-1/blib/lib
    /home/cpansand/.cpan/build/2018081318/Graphics-Primitive-Driver-Cairo-0.47-1/blib/arch
    /home/cpansand/.cpan/build/2018081318/Graphics-Primitive-Driver-Cairo-0.47-1/blib/lib
    /home/cpansand/.cpan/build/2018081318/Text-Flow-0.01-1/blib/arch
    /home/cpansand/.cpan/build/2018081318/Text-Flow-0.01-1/blib/lib
    /home/cpansand/.cpan/build/2018081318/Graphics-Primitive-0.67-1/blib/arch
    /home/cpansand/.cpan/build/2018081318/Graphics-Primitive-0.67-1/blib/lib
    /home/cpansand/.cpan/build/2018081318/Geometry-Primitive-0.24-1/blib/arch
    /home/cpansand/.cpan/build/2018081318/Geometry-Primitive-0.24-1/blib/lib
    /home/cpansand/.cpan/build/2018081318/Check-ISA-0.09-1/blib/arch
    /home/cpansand/.cpan/build/2018081318/Check-ISA-0.09-1/blib/lib
    /home/cpansand/.cpan/build/2018081318/Color-Scheme-1.07-1/blib/arch
    /home/cpansand/.cpan/build/2018081318/Color-Scheme-1.07-1/blib/lib
    /usr/perl5.18.4p/lib/site_perl/5.18.4/amd64-freebsd
    /usr/perl5.18.4p/lib/site_perl/5.18.4
    /usr/perl5.18.4p/lib/5.18.4/amd64-freebsd
    /usr/perl5.18.4p/lib/5.18.4
    .