Mail-Mbox-MessageParser v1.5111 Perl 5 v5.14.4 amd64-netbsd-thread-multi
- Status
- Pass
- From
- Chris Williams (BINGOS)
- Dist
-
Mail-Mbox-MessageParser v1.5111
- Platform
- Perl 5 v5.14.4 amd64-netbsd-thread-multi
- Date
- 2018-07-13 09:16:31
- ID
- 6e6790e2-867d-11e8-bed3-aefc88cf513b
This distribution has been tested as part of the CPAN Testers
project, supporting the Perl programming language. See
http://wiki.cpantesters.org/ for more information or email
questions to cpan-testers-discuss@perl.org
--
Dear David Coppit,
This is a computer-generated error report created automatically by
CPANPLUS, version 0.9174. Testers personal comments may appear
at the end of this report.
Thank you for uploading your work to CPAN. Congratulations!
All tests were successful.
TEST RESULTS:
Below is the error stack from stage 'make test':
PERL_DL_NONLAZY=1 "/home/cpan/pit/thr/perl-5.14.4/bin/perl" "-MExtUtils::Command::MM" "-MTest::Harness" "-e" "undef *Test::Harness::Switches; test_harness(1, 'blib/lib', 'blib/arch')" t/*.t
t/000_standard__compile.t .......
1..6
ok 1 - Compile test for blib/lib/Mail/Mbox/MessageParser.pm
ok 2 - Compile test for blib/lib/Mail/Mbox/MessageParser/Perl.pm
ok 3 - Compile test for blib/lib/Mail/Mbox/MessageParser/Grep.pm
ok 4 - Compile test for blib/lib/Mail/Mbox/MessageParser/MetaInfo.pm
ok 5 - Compile test for blib/lib/Mail/Mbox/MessageParser/Cache.pm
ok 6 - Compile test for blib/lib/Mail/Mbox/MessageParser/Config.pm
ok
t/000_standard__perl_critic.t ... skipped: Author test. Set $ENV{TEST_AUTHOR} to a true value to run.
t/000_standard__pod.t ........... skipped: Test::Pod required for testing POD
t/000_standard__pod_coverage.t .. skipped: Test::Pod::Coverage required for testing POD coverage
t/appended_mailbox.t ............
1..6
Testing modified mailbox with Perl implementation
Comparing /tmp/cJqKLybouZ to t/mailboxes/mailarc-1.txt
Output /tmp/cJqKLybouZ looks good.
ok 1 - Computing differences
Testing modified mailbox with Cache implementation
Comparing /tmp/jnYRjikc7V to t/mailboxes/mailarc-1.txt
Output /tmp/jnYRjikc7V looks good.
ok 2 - Computing differences
Testing modified mailbox with Grep implementation
ok 3 # skip GNU grep not available
Testing modified mailbox with Perl implementation
Comparing /tmp/HPuMnlmmIA to t/mailboxes/mailarc-1.txt
Output /tmp/HPuMnlmmIA looks good.
ok 4 - Computing differences
Testing modified mailbox with Cache implementation
Comparing /tmp/zdu24fKmEw to t/mailboxes/mailarc-1.txt
Output /tmp/zdu24fKmEw looks good.
ok 5 - Computing differences
Testing modified mailbox with Grep implementation
ok 6 # skip GNU grep not available
ok
t/bzip2.t .......................
1..1
Running test:
"/bin/cat" "t/mailboxes/mailarc-2.txt.bz2" | "/usr/bin/bzip2" -cd
Comparing /tmp/ErB8D5tyvC to t/results/mailarc-2.txt
Output /tmp/ErB8D5tyvC looks good.
Comparing /tmp/PRFsmREV1a to t/results/none
Output /tmp/PRFsmREV1a looks good.
ok 1 - Computing differences
ok
t/endline.t .....................
1..8
Testing filename: t/mailboxes/mailarc-1-dos.txt
ok 1 - Dos endline expected
ok 2 - Dos endline expected
ok 3 - Dos endline expected
ok 4 # skip GNU grep not available
Testing filename: t/mailboxes/mailarc-1.txt
ok 5 - Unix endline expected
ok 6 - Unix endline expected
ok 7 - Unix endline expected
ok 8 # skip GNU grep not available
ok
t/filehandle_compressed.t .......
1..16
Testing filename: t/mailboxes/mailarc-2.txt.bz2
Comparing /tmp/0Q_6GK4IWV to t/mailboxes/mailarc-2.txt
Output /tmp/0Q_6GK4IWV looks good.
ok 1 - Computing differences
Comparing /tmp/EFXqBAmHG_ to t/mailboxes/mailarc-2.txt
Output /tmp/EFXqBAmHG_ looks good.
ok 2 - Computing differences
Comparing /tmp/FIAPRHiPDs to t/mailboxes/mailarc-2.txt
Output /tmp/FIAPRHiPDs looks good.
ok 3 - Computing differences
ok 4 # skip GNU grep not available
Testing filename: t/mailboxes/mailarc-2.txt.gz
Comparing /tmp/JGdIaeXoXe to t/mailboxes/mailarc-2.txt
Output /tmp/JGdIaeXoXe looks good.
ok 5 - Computing differences
Comparing /tmp/7VPytp3aFV to t/mailboxes/mailarc-2.txt
Output /tmp/7VPytp3aFV looks good.
ok 6 - Computing differences
Comparing /tmp/9919xFSdh_ to t/mailboxes/mailarc-2.txt
Output /tmp/9919xFSdh_ looks good.
ok 7 - Computing differences
ok 8 # skip GNU grep not available
Testing filename: t/mailboxes/mailarc-2.txt.lz
ok 9 # skip lzip not available
ok 10 # skip lzip not available
ok 11 # skip lzip not available
ok 12 # skip lzip not available
Testing filename: t/mailboxes/mailarc-2.txt.xz
Comparing /tmp/pwQ_VM4VE3 to t/mailboxes/mailarc-2.txt
Output /tmp/pwQ_VM4VE3 looks good.
ok 13 - Computing differences
Comparing /tmp/9oo9OnpIM1 to t/mailboxes/mailarc-2.txt
Output /tmp/9oo9OnpIM1 looks good.
ok 14 - Computing differences
Comparing /tmp/KCz4nM7g8S to t/mailboxes/mailarc-2.txt
Output /tmp/KCz4nM7g8S looks good.
ok 15 - Computing differences
ok 16 # skip GNU grep not available
ok
t/filehandle_noncompressed.t ....
1..44
Testing filename: t/mailboxes/binary_body.txt
Comparing /tmp/oFtHGPzwOC to t/mailboxes/binary_body.txt
Output /tmp/oFtHGPzwOC looks good.
ok 1 - Computing differences
Comparing /tmp/7c_J5kqhys to t/mailboxes/binary_body.txt
Output /tmp/7c_J5kqhys looks good.
ok 2 - Computing differences
Comparing /tmp/38uJduXsaa to t/mailboxes/binary_body.txt
Output /tmp/38uJduXsaa looks good.
ok 3 - Computing differences
ok 4 # skip GNU grep not available
Testing filename: t/mailboxes/hessbug.txt
Comparing /tmp/NbiErZwYAI to t/mailboxes/hessbug.txt
Output /tmp/NbiErZwYAI looks good.
ok 5 - Computing differences
Comparing /tmp/6_iorQffJS to t/mailboxes/hessbug.txt
Output /tmp/6_iorQffJS looks good.
ok 6 - Computing differences
Comparing /tmp/VhYcxKcLXs to t/mailboxes/hessbug.txt
Output /tmp/VhYcxKcLXs looks good.
ok 7 - Computing differences
ok 8 # skip GNU grep not available
Testing filename: t/mailboxes/invalid-boundaries.txt
Comparing /tmp/mX_p27hXuB to t/mailboxes/invalid-boundaries.txt
Output /tmp/mX_p27hXuB looks good.
ok 9 - Computing differences
Comparing /tmp/QiOhSyxmlf to t/mailboxes/invalid-boundaries.txt
Output /tmp/QiOhSyxmlf looks good.
ok 10 - Computing differences
Comparing /tmp/Cjf79qcZnQ to t/mailboxes/invalid-boundaries.txt
Output /tmp/Cjf79qcZnQ looks good.
ok 11 - Computing differences
ok 12 # skip GNU grep not available
Testing filename: t/mailboxes/mailarc-1-dos.txt
Comparing /tmp/umQsRdXazZ to t/mailboxes/mailarc-1-dos.txt
Output /tmp/umQsRdXazZ looks good.
ok 13 - Computing differences
Comparing /tmp/iujrIjY5lY to t/mailboxes/mailarc-1-dos.txt
Output /tmp/iujrIjY5lY looks good.
ok 14 - Computing differences
Comparing /tmp/Kyv73VG9yD to t/mailboxes/mailarc-1-dos.txt
Output /tmp/Kyv73VG9yD looks good.
ok 15 - Computing differences
ok 16 # skip GNU grep not available
Testing filename: t/mailboxes/mailarc-1.txt
Comparing /tmp/9YkJqqSesJ to t/mailboxes/mailarc-1.txt
Output /tmp/9YkJqqSesJ looks good.
ok 17 - Computing differences
Comparing /tmp/ARkMib1dDa to t/mailboxes/mailarc-1.txt
Output /tmp/ARkMib1dDa looks good.
ok 18 - Computing differences
Comparing /tmp/hwbMSzEfZx to t/mailboxes/mailarc-1.txt
Output /tmp/hwbMSzEfZx looks good.
ok 19 - Computing differences
ok 20 # skip GNU grep not available
Testing filename: t/mailboxes/mailarc-2.txt
Comparing /tmp/k6i5Hne2d1 to t/mailboxes/mailarc-2.txt
Output /tmp/k6i5Hne2d1 looks good.
ok 21 - Computing differences
Comparing /tmp/rvBSBaU9Ox to t/mailboxes/mailarc-2.txt
Output /tmp/rvBSBaU9Ox looks good.
ok 22 - Computing differences
Comparing /tmp/m8YzhHLoEV to t/mailboxes/mailarc-2.txt
Output /tmp/m8YzhHLoEV looks good.
ok 23 - Computing differences
ok 24 # skip GNU grep not available
Testing filename: t/mailboxes/mailarc-3.txt
Comparing /tmp/7TJnEkiGrf to t/mailboxes/mailarc-3.txt
Output /tmp/7TJnEkiGrf looks good.
ok 25 - Computing differences
Comparing /tmp/RyHJUj8ARP to t/mailboxes/mailarc-3.txt
Output /tmp/RyHJUj8ARP looks good.
ok 26 - Computing differences
Comparing /tmp/5XI_B6br_i to t/mailboxes/mailarc-3.txt
Output /tmp/5XI_B6br_i looks good.
ok 27 - Computing differences
ok 28 # skip GNU grep not available
Testing filename: t/mailboxes/mailseparators.txt
Comparing /tmp/EptRGLK8_N to t/mailboxes/mailseparators.txt
Output /tmp/EptRGLK8_N looks good.
ok 29 - Computing differences
Comparing /tmp/MMQehXblfd to t/mailboxes/mailseparators.txt
Output /tmp/MMQehXblfd looks good.
ok 30 - Computing differences
Comparing /tmp/BWOlPMsMji to t/mailboxes/mailseparators.txt
Output /tmp/BWOlPMsMji looks good.
ok 31 - Computing differences
ok 32 # skip GNU grep not available
Testing filename: t/mailboxes/malformed.txt
Comparing /tmp/Pihxot9nxW to t/mailboxes/malformed.txt
Output /tmp/Pihxot9nxW looks good.
ok 33 - Computing differences
Comparing /tmp/DBFQu_WRHb to t/mailboxes/malformed.txt
Output /tmp/DBFQu_WRHb looks good.
ok 34 - Computing differences
Comparing /tmp/1xfkF6BQ4h to t/mailboxes/malformed.txt
Output /tmp/1xfkF6BQ4h looks good.
ok 35 - Computing differences
ok 36 # skip GNU grep not available
Testing filename: t/mailboxes/newlines_at_beginning.txt
Comparing /tmp/k4L4uJJu95 to t/mailboxes/newlines_at_beginning.txt
Output /tmp/k4L4uJJu95 looks good.
ok 37 - Computing differences
Comparing /tmp/fUBrioIvoV to t/mailboxes/newlines_at_beginning.txt
Output /tmp/fUBrioIvoV looks good.
ok 38 - Computing differences
Comparing /tmp/xM0wsDHZkQ to t/mailboxes/newlines_at_beginning.txt
Output /tmp/xM0wsDHZkQ looks good.
ok 39 - Computing differences
ok 40 # skip GNU grep not available
Testing filename: t/mailboxes/vm-emacs.txt
Comparing /tmp/nxiQpQeelx to t/mailboxes/vm-emacs.txt
Output /tmp/nxiQpQeelx looks good.
ok 41 - Computing differences
Comparing /tmp/ufk376FGLB to t/mailboxes/vm-emacs.txt
Output /tmp/ufk376FGLB looks good.
ok 42 - Computing differences
Comparing /tmp/_ORFhvvLwm to t/mailboxes/vm-emacs.txt
Output /tmp/_ORFhvvLwm looks good.
ok 43 - Computing differences
ok 44 # skip GNU grep not available
ok
t/filename_compressed.t .........
1..4
Testing filename: t/mailboxes/mailarc-2.txt.bz2
Comparing /tmp/YWriQSOEmE to t/mailboxes/mailarc-2.txt
Output /tmp/YWriQSOEmE looks good.
ok 1 - Computing differences
Testing filename: t/mailboxes/mailarc-2.txt.gz
Comparing /tmp/nJDCcqM3ru to t/mailboxes/mailarc-2.txt
Output /tmp/nJDCcqM3ru looks good.
ok 2 - Computing differences
Testing filename: t/mailboxes/mailarc-2.txt.lz
ok 3 # skip lzip not available
Testing filename: t/mailboxes/mailarc-2.txt.xz
Comparing /tmp/IfBKfgEGwE to t/mailboxes/mailarc-2.txt
Output /tmp/IfBKfgEGwE looks good.
ok 4 - Computing differences
ok
t/filename_noncompressed.t ......
1..11
Testing filename: t/mailboxes/binary_body.txt
Comparing /tmp/dbIzgibq_J to t/mailboxes/binary_body.txt
Output /tmp/dbIzgibq_J looks good.
ok 1 - Computing differences
Testing filename: t/mailboxes/hessbug.txt
Comparing /tmp/vNfUVUgb0B to t/mailboxes/hessbug.txt
Output /tmp/vNfUVUgb0B looks good.
ok 2 - Computing differences
Testing filename: t/mailboxes/invalid-boundaries.txt
Comparing /tmp/TbwKyCm33M to t/mailboxes/invalid-boundaries.txt
Output /tmp/TbwKyCm33M looks good.
ok 3 - Computing differences
Testing filename: t/mailboxes/mailarc-1-dos.txt
Comparing /tmp/dRhHSX_Gqt to t/mailboxes/mailarc-1-dos.txt
Output /tmp/dRhHSX_Gqt looks good.
ok 4 - Computing differences
Testing filename: t/mailboxes/mailarc-1.txt
Comparing /tmp/gAC7GOBG0S to t/mailboxes/mailarc-1.txt
Output /tmp/gAC7GOBG0S looks good.
ok 5 - Computing differences
Testing filename: t/mailboxes/mailarc-2.txt
Comparing /tmp/qMmJTM23Vr to t/mailboxes/mailarc-2.txt
Output /tmp/qMmJTM23Vr looks good.
ok 6 - Computing differences
Testing filename: t/mailboxes/mailarc-3.txt
Comparing /tmp/u8wykgywyx to t/mailboxes/mailarc-3.txt
Output /tmp/u8wykgywyx looks good.
ok 7 - Computing differences
Testing filename: t/mailboxes/mailseparators.txt
Comparing /tmp/Btza9w4o69 to t/mailboxes/mailseparators.txt
Output /tmp/Btza9w4o69 looks good.
ok 8 - Computing differences
Testing filename: t/mailboxes/malformed.txt
Comparing /tmp/DFqp5q8cSs to t/mailboxes/malformed.txt
Output /tmp/DFqp5q8cSs looks good.
ok 9 - Computing differences
Testing filename: t/mailboxes/newlines_at_beginning.txt
Comparing /tmp/jXD3V63q6R to t/mailboxes/newlines_at_beginning.txt
Output /tmp/jXD3V63q6R looks good.
ok 10 - Computing differences
Testing filename: t/mailboxes/vm-emacs.txt
Comparing /tmp/llS7Szleag to t/mailboxes/vm-emacs.txt
Output /tmp/llS7Szleag looks good.
ok 11 - Computing differences
ok
t/grep.t ........................
1..4
Running test:
unset LC_ALL LC_COLLATE LANG LC_CTYPE LC_MESSAGES; grep --extended-regexp --line-number --byte-offset --binary-files=text "^From [^:]+(:[0-9][0-9]){1,2}( *([A-Z]{2,6}|[+-]?[0-9]{4})){1,3}( remote from .*)?
?$" t/mailboxes/mailarc-1.txt
ok 1 # skip 1
Running test:
unset LC_ALL LC_COLLATE LANG LC_CTYPE LC_MESSAGES; grep --extended-regexp --line-number --byte-offset --binary-files=text "^From [^:]+(:[0-9][0-9]){1,2}( *([A-Z]{2,6}|[+-]?[0-9]{4})){1,3}( remote from .*)?
?$" t/mailboxes/mailarc-2.txt
ok 2 # skip 1
Running test:
unset LC_ALL LC_COLLATE LANG LC_CTYPE LC_MESSAGES; grep --extended-regexp --line-number --byte-offset --binary-files=text "^From [^:]+(:[0-9][0-9]){1,2}( *([A-Z]{2,6}|[+-]?[0-9]{4})){1,3}( remote from .*)?
?$" t/mailboxes/mailarc-3.txt
ok 3 # skip 1
Running test:
unset LC_ALL LC_COLLATE LANG LC_CTYPE LC_MESSAGES; grep --extended-regexp --line-number --byte-offset --binary-files=text "^From [^:]+(:[0-9][0-9]){1,2}( *([A-Z]{2,6}|[+-]?[0-9]{4})){1,3}( remote from .*)?
?$" t/mailboxes/mailseparators.txt
ok 4 # skip 1
ok
t/gzip.t ........................
1..1
Running test:
"/bin/cat" "t/mailboxes/mailarc-2.txt.gz" | "/usr/bin/gzip" -cd
Comparing /tmp/cgfDzh1OZt to t/results/mailarc-2.txt
Output /tmp/cgfDzh1OZt looks good.
Comparing /tmp/mktEXJxcs5 to t/results/none
Output /tmp/mktEXJxcs5 looks good.
ok 1 - Computing differences
ok
t/length.t ......................
1..30
Testing filename: t/mailboxes/binary_body.txt
Comparing /tmp/xuR1PodHSp to t/results/length_binary_body.stdout
Output /tmp/xuR1PodHSp looks good.
ok 1 - Computing differences
Comparing /tmp/8WWo9pFor_ to t/results/length_binary_body.stdout
Output /tmp/8WWo9pFor_ looks good.
ok 2 - Computing differences
ok 3 # skip GNU grep not available
Testing filename: t/mailboxes/hessbug.txt
Comparing /tmp/4eltAdDAKl to t/results/length_hessbug.stdout
Output /tmp/4eltAdDAKl looks good.
ok 4 - Computing differences
Comparing /tmp/nnBVk8iqB2 to t/results/length_hessbug.stdout
Output /tmp/nnBVk8iqB2 looks good.
ok 5 - Computing differences
ok 6 # skip GNU grep not available
Testing filename: t/mailboxes/invalid-boundaries.txt
Comparing /tmp/BBjHCXpku2 to t/results/length_invalid-boundaries.stdout
Output /tmp/BBjHCXpku2 looks good.
ok 7 - Computing differences
Comparing /tmp/VrEpEfzXUz to t/results/length_invalid-boundaries.stdout
Output /tmp/VrEpEfzXUz looks good.
ok 8 - Computing differences
ok 9 # skip GNU grep not available
Testing filename: t/mailboxes/mailarc-1-dos.txt
Comparing /tmp/SikQm2ZB3k to t/results/length_mailarc-1-dos.stdout
Output /tmp/SikQm2ZB3k looks good.
ok 10 - Computing differences
Comparing /tmp/4lrq43uBpj to t/results/length_mailarc-1-dos.stdout
Output /tmp/4lrq43uBpj looks good.
ok 11 - Computing differences
ok 12 # skip GNU grep not available
Testing filename: t/mailboxes/mailarc-1.txt
Comparing /tmp/ekChwkVW1l to t/results/length_mailarc-1.stdout
Output /tmp/ekChwkVW1l looks good.
ok 13 - Computing differences
Comparing /tmp/4Zf_B5SmC2 to t/results/length_mailarc-1.stdout
Output /tmp/4Zf_B5SmC2 looks good.
ok 14 - Computing differences
ok 15 # skip GNU grep not available
Testing filename: t/mailboxes/mailarc-2.txt
Comparing /tmp/v8G_sfo3Vy to t/results/length_mailarc-2.stdout
Output /tmp/v8G_sfo3Vy looks good.
ok 16 - Computing differences
Comparing /tmp/U9i2q0S6Z5 to t/results/length_mailarc-2.stdout
Output /tmp/U9i2q0S6Z5 looks good.
ok 17 - Computing differences
ok 18 # skip GNU grep not available
Testing filename: t/mailboxes/mailarc-3.txt
Comparing /tmp/pVuTceben2 to t/results/length_mailarc-3.stdout
Output /tmp/pVuTceben2 looks good.
ok 19 - Computing differences
Comparing /tmp/4lRL3sNwJn to t/results/length_mailarc-3.stdout
Output /tmp/4lRL3sNwJn looks good.
ok 20 - Computing differences
ok 21 # skip GNU grep not available
Testing filename: t/mailboxes/mailseparators.txt
Comparing /tmp/GqQioYIj6l to t/results/length_mailseparators.stdout
Output /tmp/GqQioYIj6l looks good.
ok 22 - Computing differences
Comparing /tmp/FXvGlMl4Il to t/results/length_mailseparators.stdout
Output /tmp/FXvGlMl4Il looks good.
ok 23 - Computing differences
ok 24 # skip GNU grep not available
Testing filename: t/mailboxes/malformed.txt
Comparing /tmp/tVfxdUwuvU to t/results/length_malformed.stdout
Output /tmp/tVfxdUwuvU looks good.
ok 25 - Computing differences
Comparing /tmp/MnjDcJFTLk to t/results/length_malformed.stdout
Output /tmp/MnjDcJFTLk looks good.
ok 26 - Computing differences
ok 27 # skip GNU grep not available
Testing filename: t/mailboxes/newlines_at_beginning.txt
Comparing /tmp/CSCP0d6UnW to t/results/length_newlines_at_beginning.stdout
Output /tmp/CSCP0d6UnW looks good.
ok 28 - Computing differences
Comparing /tmp/EIjfo_16Ws to t/results/length_newlines_at_beginning.stdout
Output /tmp/EIjfo_16Ws looks good.
ok 29 - Computing differences
ok 30 # skip GNU grep not available
ok
t/line_number.t .................
1..30
Testing filename: t/mailboxes/binary_body.txt
Comparing /tmp/jwV6Cuo1mS to t/results/line_number_binary_body.stdout
Output /tmp/jwV6Cuo1mS looks good.
ok 1 - Computing differences
Comparing /tmp/o7DCMa9KsE to t/results/line_number_binary_body.stdout
Output /tmp/o7DCMa9KsE looks good.
ok 2 - Computing differences
ok 3 # skip GNU grep not available
Testing filename: t/mailboxes/hessbug.txt
Comparing /tmp/wibAjSZDoZ to t/results/line_number_hessbug.stdout
Output /tmp/wibAjSZDoZ looks good.
ok 4 - Computing differences
Comparing /tmp/CTM9sbMA81 to t/results/line_number_hessbug.stdout
Output /tmp/CTM9sbMA81 looks good.
ok 5 - Computing differences
ok 6 # skip GNU grep not available
Testing filename: t/mailboxes/invalid-boundaries.txt
Comparing /tmp/FmlOHrDNht to t/results/line_number_invalid-boundaries.stdout
Output /tmp/FmlOHrDNht looks good.
ok 7 - Computing differences
Comparing /tmp/powhh1rNnM to t/results/line_number_invalid-boundaries.stdout
Output /tmp/powhh1rNnM looks good.
ok 8 - Computing differences
ok 9 # skip GNU grep not available
Testing filename: t/mailboxes/mailarc-1-dos.txt
Comparing /tmp/juoHB6gbLI to t/results/line_number_mailarc-1-dos.stdout
Output /tmp/juoHB6gbLI looks good.
ok 10 - Computing differences
Comparing /tmp/_8licvf3si to t/results/line_number_mailarc-1-dos.stdout
Output /tmp/_8licvf3si looks good.
ok 11 - Computing differences
ok 12 # skip GNU grep not available
Testing filename: t/mailboxes/mailarc-1.txt
Comparing /tmp/2JVVKjG1jd to t/results/line_number_mailarc-1.stdout
Output /tmp/2JVVKjG1jd looks good.
ok 13 - Computing differences
Comparing /tmp/oyxjeRlD9z to t/results/line_number_mailarc-1.stdout
Output /tmp/oyxjeRlD9z looks good.
ok 14 - Computing differences
ok 15 # skip GNU grep not available
Testing filename: t/mailboxes/mailarc-2.txt
Comparing /tmp/qupy73Jk6d to t/results/line_number_mailarc-2.stdout
Output /tmp/qupy73Jk6d looks good.
ok 16 - Computing differences
Comparing /tmp/UDxIkah_1D to t/results/line_number_mailarc-2.stdout
Output /tmp/UDxIkah_1D looks good.
ok 17 - Computing differences
ok 18 # skip GNU grep not available
Testing filename: t/mailboxes/mailarc-3.txt
Comparing /tmp/tT3us_jriw to t/results/line_number_mailarc-3.stdout
Output /tmp/tT3us_jriw looks good.
ok 19 - Computing differences
Comparing /tmp/MDX0Eu00Y5 to t/results/line_number_mailarc-3.stdout
Output /tmp/MDX0Eu00Y5 looks good.
ok 20 - Computing differences
ok 21 # skip GNU grep not available
Testing filename: t/mailboxes/mailseparators.txt
Comparing /tmp/pNrCE5WpZ9 to t/results/line_number_mailseparators.stdout
Output /tmp/pNrCE5WpZ9 looks good.
ok 22 - Computing differences
Comparing /tmp/N5BK1xizH7 to t/results/line_number_mailseparators.stdout
Output /tmp/N5BK1xizH7 looks good.
ok 23 - Computing differences
ok 24 # skip GNU grep not available
Testing filename: t/mailboxes/malformed.txt
Comparing /tmp/XUVGwR83BW to t/results/line_number_malformed.stdout
Output /tmp/XUVGwR83BW looks good.
ok 25 - Computing differences
Comparing /tmp/NcsZvDnDHN to t/results/line_number_malformed.stdout
Output /tmp/NcsZvDnDHN looks good.
ok 26 - Computing differences
ok 27 # skip GNU grep not available
Testing filename: t/mailboxes/newlines_at_beginning.txt
Comparing /tmp/AUgaKIVci7 to t/results/line_number_newlines_at_beginning.stdout
Output /tmp/AUgaKIVci7 looks good.
ok 28 - Computing differences
Comparing /tmp/7Z0xqAlaB1 to t/results/line_number_newlines_at_beginning.stdout
Output /tmp/7Z0xqAlaB1 looks good.
ok 29 - Computing differences
ok 30 # skip GNU grep not available
ok
t/lzip.t ........................
1..1
Running test:
"/bin/cat" "t/mailboxes/mailarc-2.txt.lz" | "lzip" -cd
ok 1 # skip lzip not available
ok
t/number.t ......................
1..30
Testing filename: t/mailboxes/binary_body.txt
Comparing /tmp/zAU1MxLSRH to t/results/number_binary_body.stdout
Output /tmp/zAU1MxLSRH looks good.
ok 1 - Computing differences
Comparing /tmp/WPFPXLpnl_ to t/results/number_binary_body.stdout
Output /tmp/WPFPXLpnl_ looks good.
ok 2 - Computing differences
ok 3 # skip GNU grep not available
Testing filename: t/mailboxes/hessbug.txt
Comparing /tmp/SWWBFByJZg to t/results/number_hessbug.stdout
Output /tmp/SWWBFByJZg looks good.
ok 4 - Computing differences
Comparing /tmp/zYDefTiqRp to t/results/number_hessbug.stdout
Output /tmp/zYDefTiqRp looks good.
ok 5 - Computing differences
ok 6 # skip GNU grep not available
Testing filename: t/mailboxes/invalid-boundaries.txt
Comparing /tmp/arJHSnuxsu to t/results/number_invalid-boundaries.stdout
Output /tmp/arJHSnuxsu looks good.
ok 7 - Computing differences
Comparing /tmp/vqMXLO6dsB to t/results/number_invalid-boundaries.stdout
Output /tmp/vqMXLO6dsB looks good.
ok 8 - Computing differences
ok 9 # skip GNU grep not available
Testing filename: t/mailboxes/mailarc-1-dos.txt
Comparing /tmp/fbaqWqH1Ns to t/results/number_mailarc-1-dos.stdout
Output /tmp/fbaqWqH1Ns looks good.
ok 10 - Computing differences
Comparing /tmp/FpXDXqv2m7 to t/results/number_mailarc-1-dos.stdout
Output /tmp/FpXDXqv2m7 looks good.
ok 11 - Computing differences
ok 12 # skip GNU grep not available
Testing filename: t/mailboxes/mailarc-1.txt
Comparing /tmp/hDXl3mSPI_ to t/results/number_mailarc-1.stdout
Output /tmp/hDXl3mSPI_ looks good.
ok 13 - Computing differences
Comparing /tmp/0pgO744A_L to t/results/number_mailarc-1.stdout
Output /tmp/0pgO744A_L looks good.
ok 14 - Computing differences
ok 15 # skip GNU grep not available
Testing filename: t/mailboxes/mailarc-2.txt
Comparing /tmp/0DlYWF5Ddo to t/results/number_mailarc-2.stdout
Output /tmp/0DlYWF5Ddo looks good.
ok 16 - Computing differences
Comparing /tmp/YDvGX8XRju to t/results/number_mailarc-2.stdout
Output /tmp/YDvGX8XRju looks good.
ok 17 - Computing differences
ok 18 # skip GNU grep not available
Testing filename: t/mailboxes/mailarc-3.txt
Comparing /tmp/nDbVwRDFdZ to t/results/number_mailarc-3.stdout
Output /tmp/nDbVwRDFdZ looks good.
ok 19 - Computing differences
Comparing /tmp/azYPZHjGpC to t/results/number_mailarc-3.stdout
Output /tmp/azYPZHjGpC looks good.
ok 20 - Computing differences
ok 21 # skip GNU grep not available
Testing filename: t/mailboxes/mailseparators.txt
Comparing /tmp/fsJeLJ1wTO to t/results/number_mailseparators.stdout
Output /tmp/fsJeLJ1wTO looks good.
ok 22 - Computing differences
Comparing /tmp/Kt1tpMqRIZ to t/results/number_mailseparators.stdout
Output /tmp/Kt1tpMqRIZ looks good.
ok 23 - Computing differences
ok 24 # skip GNU grep not available
Testing filename: t/mailboxes/malformed.txt
Comparing /tmp/2FyHKztqJu to t/results/number_malformed.stdout
Output /tmp/2FyHKztqJu looks good.
ok 25 - Computing differences
Comparing /tmp/lYAO1tjXw2 to t/results/number_malformed.stdout
Output /tmp/lYAO1tjXw2 looks good.
ok 26 - Computing differences
ok 27 # skip GNU grep not available
Testing filename: t/mailboxes/newlines_at_beginning.txt
Comparing /tmp/BsvdTJIatG to t/results/number_newlines_at_beginning.stdout
Output /tmp/BsvdTJIatG looks good.
ok 28 - Computing differences
Comparing /tmp/usL7wZzS6W to t/results/number_newlines_at_beginning.stdout
Output /tmp/usL7wZzS6W looks good.
ok 29 - Computing differences
ok 30 # skip GNU grep not available
ok
t/offset.t ......................
1..30
Testing filename: t/mailboxes/binary_body.txt
Comparing /tmp/qqPlEJUK3a to t/results/offset_binary_body.stdout
Output /tmp/qqPlEJUK3a looks good.
ok 1 - Computing differences
Comparing /tmp/9ndLCFPfDA to t/results/offset_binary_body.stdout
Output /tmp/9ndLCFPfDA looks good.
ok 2 - Computing differences
ok 3 # skip GNU grep not available
Testing filename: t/mailboxes/hessbug.txt
Comparing /tmp/oeNDUpDHI_ to t/results/offset_hessbug.stdout
Output /tmp/oeNDUpDHI_ looks good.
ok 4 - Computing differences
Comparing /tmp/k7Y7yZMmvS to t/results/offset_hessbug.stdout
Output /tmp/k7Y7yZMmvS looks good.
ok 5 - Computing differences
ok 6 # skip GNU grep not available
Testing filename: t/mailboxes/invalid-boundaries.txt
Comparing /tmp/HjJi4tZLRz to t/results/offset_invalid-boundaries.stdout
Output /tmp/HjJi4tZLRz looks good.
ok 7 - Computing differences
Comparing /tmp/K1t4Tdd4ZQ to t/results/offset_invalid-boundaries.stdout
Output /tmp/K1t4Tdd4ZQ looks good.
ok 8 - Computing differences
ok 9 # skip GNU grep not available
Testing filename: t/mailboxes/mailarc-1-dos.txt
Comparing /tmp/QZwSsD4Z_Z to t/results/offset_mailarc-1-dos.stdout
Output /tmp/QZwSsD4Z_Z looks good.
ok 10 - Computing differences
Comparing /tmp/fu8UVQDE3K to t/results/offset_mailarc-1-dos.stdout
Output /tmp/fu8UVQDE3K looks good.
ok 11 - Computing differences
ok 12 # skip GNU grep not available
Testing filename: t/mailboxes/mailarc-1.txt
Comparing /tmp/oPbdrk9e8c to t/results/offset_mailarc-1.stdout
Output /tmp/oPbdrk9e8c looks good.
ok 13 - Computing differences
Comparing /tmp/CAXYeVhhN2 to t/results/offset_mailarc-1.stdout
Output /tmp/CAXYeVhhN2 looks good.
ok 14 - Computing differences
ok 15 # skip GNU grep not available
Testing filename: t/mailboxes/mailarc-2.txt
Comparing /tmp/EA2V57yRD6 to t/results/offset_mailarc-2.stdout
Output /tmp/EA2V57yRD6 looks good.
ok 16 - Computing differences
Comparing /tmp/SPQE_6pBcY to t/results/offset_mailarc-2.stdout
Output /tmp/SPQE_6pBcY looks good.
ok 17 - Computing differences
ok 18 # skip GNU grep not available
Testing filename: t/mailboxes/mailarc-3.txt
Comparing /tmp/5kOv7ecJqu to t/results/offset_mailarc-3.stdout
Output /tmp/5kOv7ecJqu looks good.
ok 19 - Computing differences
Comparing /tmp/5KkfpGOZxq to t/results/offset_mailarc-3.stdout
Output /tmp/5KkfpGOZxq looks good.
ok 20 - Computing differences
ok 21 # skip GNU grep not available
Testing filename: t/mailboxes/mailseparators.txt
Comparing /tmp/RDdfYkwEZ0 to t/results/offset_mailseparators.stdout
Output /tmp/RDdfYkwEZ0 looks good.
ok 22 - Computing differences
Comparing /tmp/VRfhBabTR0 to t/results/offset_mailseparators.stdout
Output /tmp/VRfhBabTR0 looks good.
ok 23 - Computing differences
ok 24 # skip GNU grep not available
Testing filename: t/mailboxes/malformed.txt
Comparing /tmp/h2plhVGZij to t/results/offset_malformed.stdout
Output /tmp/h2plhVGZij looks good.
ok 25 - Computing differences
Comparing /tmp/uw43fZ11LD to t/results/offset_malformed.stdout
Output /tmp/uw43fZ11LD looks good.
ok 26 - Computing differences
ok 27 # skip GNU grep not available
Testing filename: t/mailboxes/newlines_at_beginning.txt
Comparing /tmp/yqB9Lt1bEz to t/results/offset_newlines_at_beginning.stdout
Output /tmp/yqB9Lt1bEz looks good.
ok 28 - Computing differences
Comparing /tmp/R6c_StyCxA to t/results/offset_newlines_at_beginning.stdout
Output /tmp/R6c_StyCxA looks good.
ok 29 - Computing differences
ok 30 # skip GNU grep not available
ok
t/prologue.t ....................
1..33
Testing filename: t/mailboxes/binary_body.txt
Comparing /tmp/1vsZ0ozlgK to t/mailboxes/binary_body.txt
Output /tmp/1vsZ0ozlgK looks good.
ok 1 - Computing differences
Comparing /tmp/mM0fDOLpfK to t/mailboxes/binary_body.txt
Output /tmp/mM0fDOLpfK looks good.
ok 2 - Computing differences
ok 3 # skip GNU grep not available
Testing filename: t/mailboxes/hessbug.txt
Comparing /tmp/mEqx9AT9S5 to t/mailboxes/hessbug.txt
Output /tmp/mEqx9AT9S5 looks good.
ok 4 - Computing differences
Comparing /tmp/POwC0bts3c to t/mailboxes/hessbug.txt
Output /tmp/POwC0bts3c looks good.
ok 5 - Computing differences
ok 6 # skip GNU grep not available
Testing filename: t/mailboxes/invalid-boundaries.txt
Comparing /tmp/0NQCSC4ZS9 to t/mailboxes/invalid-boundaries.txt
Output /tmp/0NQCSC4ZS9 looks good.
ok 7 - Computing differences
Comparing /tmp/txILiC0Znf to t/mailboxes/invalid-boundaries.txt
Output /tmp/txILiC0Znf looks good.
ok 8 - Computing differences
ok 9 # skip GNU grep not available
Testing filename: t/mailboxes/mailarc-1-dos.txt
Comparing /tmp/IuasslKJoF to t/mailboxes/mailarc-1-dos.txt
Output /tmp/IuasslKJoF looks good.
ok 10 - Computing differences
Comparing /tmp/Z23gdcKzOX to t/mailboxes/mailarc-1-dos.txt
Output /tmp/Z23gdcKzOX looks good.
ok 11 - Computing differences
ok 12 # skip GNU grep not available
Testing filename: t/mailboxes/mailarc-1.txt
Comparing /tmp/Eu38Hd6MHP to t/mailboxes/mailarc-1.txt
Output /tmp/Eu38Hd6MHP looks good.
ok 13 - Computing differences
Comparing /tmp/FZiJ03WXJZ to t/mailboxes/mailarc-1.txt
Output /tmp/FZiJ03WXJZ looks good.
ok 14 - Computing differences
ok 15 # skip GNU grep not available
Testing filename: t/mailboxes/mailarc-2.txt
Comparing /tmp/FHZKhoebF_ to t/mailboxes/mailarc-2.txt
Output /tmp/FHZKhoebF_ looks good.
ok 16 - Computing differences
Comparing /tmp/pug6vziDey to t/mailboxes/mailarc-2.txt
Output /tmp/pug6vziDey looks good.
ok 17 - Computing differences
ok 18 # skip GNU grep not available
Testing filename: t/mailboxes/mailarc-3.txt
Comparing /tmp/T3WTurEXOz to t/mailboxes/mailarc-3.txt
Output /tmp/T3WTurEXOz looks good.
ok 19 - Computing differences
Comparing /tmp/NfbdLtzbFH to t/mailboxes/mailarc-3.txt
Output /tmp/NfbdLtzbFH looks good.
ok 20 - Computing differences
ok 21 # skip GNU grep not available
Testing filename: t/mailboxes/mailseparators.txt
Comparing /tmp/SVGJYXoYZ8 to t/mailboxes/mailseparators.txt
Output /tmp/SVGJYXoYZ8 looks good.
ok 22 - Computing differences
Comparing /tmp/g7Lkpm8Wv1 to t/mailboxes/mailseparators.txt
Output /tmp/g7Lkpm8Wv1 looks good.
ok 23 - Computing differences
ok 24 # skip GNU grep not available
Testing filename: t/mailboxes/malformed.txt
Comparing /tmp/otKEhOfaDA to t/mailboxes/malformed.txt
Output /tmp/otKEhOfaDA looks good.
ok 25 - Computing differences
Comparing /tmp/gUqo7egY2q to t/mailboxes/malformed.txt
Output /tmp/gUqo7egY2q looks good.
ok 26 - Computing differences
ok 27 # skip GNU grep not available
Testing filename: t/mailboxes/newlines_at_beginning.txt
Comparing /tmp/ed96VdLJ6M to t/mailboxes/newlines_at_beginning.txt
Output /tmp/ed96VdLJ6M looks good.
ok 28 - Computing differences
Comparing /tmp/4j3wHCH2Uw to t/mailboxes/newlines_at_beginning.txt
Output /tmp/4j3wHCH2Uw looks good.
ok 29 - Computing differences
ok 30 # skip GNU grep not available
Testing filename: t/mailboxes/vm-emacs.txt
Comparing /tmp/WsKq9bcSYk to t/mailboxes/vm-emacs.txt
Output /tmp/WsKq9bcSYk looks good.
ok 31 - Computing differences
Comparing /tmp/4ha73lpmZg to t/mailboxes/vm-emacs.txt
Output /tmp/4ha73lpmZg looks good.
ok 32 - Computing differences
ok 33 # skip GNU grep not available
ok
t/reset.t .......................
1..60
Testing filename: t/mailboxes/binary_body.txt
Testing partial mailbox reset with Perl implementation
Comparing /tmp/8fbOEBwkun to t/results/reset_binary_body.stdout
Output /tmp/8fbOEBwkun looks good.
ok 1 - Computing differences
Testing partial mailbox reset with Cache implementation
Comparing /tmp/GZNTtMPrnB to t/results/reset_binary_body.stdout
Output /tmp/GZNTtMPrnB looks good.
ok 2 - Computing differences
Testing partial mailbox reset with Grep implementation
ok 3 # skip GNU grep not available
Testing full mailbox reset with Perl implementation
Comparing /tmp/6O1eeQFOF4 to t/results/reset_binary_body.stdout
Output /tmp/6O1eeQFOF4 looks good.
ok 4 - Computing differences
Testing full mailbox reset with Cache implementation
Comparing /tmp/v8FhU0nqoT to t/results/reset_binary_body.stdout
Output /tmp/v8FhU0nqoT looks good.
ok 5 - Computing differences
Testing full mailbox reset with Grep implementation
ok 6 # skip GNU grep not available
Testing filename: t/mailboxes/hessbug.txt
Testing partial mailbox reset with Perl implementation
Comparing /tmp/QJLjDkz3MN to t/results/reset_hessbug.stdout
Output /tmp/QJLjDkz3MN looks good.
ok 7 - Computing differences
Testing partial mailbox reset with Cache implementation
Comparing /tmp/ZjdHHcOCnm to t/results/reset_hessbug.stdout
Output /tmp/ZjdHHcOCnm looks good.
ok 8 - Computing differences
Testing partial mailbox reset with Grep implementation
ok 9 # skip GNU grep not available
Testing full mailbox reset with Perl implementation
Comparing /tmp/JS70G06Ffa to t/results/reset_hessbug.stdout
Output /tmp/JS70G06Ffa looks good.
ok 10 - Computing differences
Testing full mailbox reset with Cache implementation
Comparing /tmp/nBOM2iqGg7 to t/results/reset_hessbug.stdout
Output /tmp/nBOM2iqGg7 looks good.
ok 11 - Computing differences
Testing full mailbox reset with Grep implementation
ok 12 # skip GNU grep not available
Testing filename: t/mailboxes/invalid-boundaries.txt
Testing partial mailbox reset with Perl implementation
Comparing /tmp/xBj0L1TVwr to t/results/reset_invalid-boundaries.stdout
Output /tmp/xBj0L1TVwr looks good.
ok 13 - Computing differences
Testing partial mailbox reset with Cache implementation
Comparing /tmp/Clo60c9TD_ to t/results/reset_invalid-boundaries.stdout
Output /tmp/Clo60c9TD_ looks good.
ok 14 - Computing differences
Testing partial mailbox reset with Grep implementation
ok 15 # skip GNU grep not available
Testing full mailbox reset with Perl implementation
Comparing /tmp/jffoLfrJ8e to t/results/reset_invalid-boundaries.stdout
Output /tmp/jffoLfrJ8e looks good.
ok 16 - Computing differences
Testing full mailbox reset with Cache implementation
Comparing /tmp/6PNfleM6SM to t/results/reset_invalid-boundaries.stdout
Output /tmp/6PNfleM6SM looks good.
ok 17 - Computing differences
Testing full mailbox reset with Grep implementation
ok 18 # skip GNU grep not available
Testing filename: t/mailboxes/mailarc-1-dos.txt
Testing partial mailbox reset with Perl implementation
Comparing /tmp/3q2Bum3CPF to t/results/reset_mailarc-1-dos.stdout
Output /tmp/3q2Bum3CPF looks good.
ok 19 - Computing differences
Testing partial mailbox reset with Cache implementation
Comparing /tmp/CFAfRwmMmG to t/results/reset_mailarc-1-dos.stdout
Output /tmp/CFAfRwmMmG looks good.
ok 20 - Computing differences
Testing partial mailbox reset with Grep implementation
ok 21 # skip GNU grep not available
Testing full mailbox reset with Perl implementation
Comparing /tmp/IktkSfNjwG to t/results/reset_mailarc-1-dos.stdout
Output /tmp/IktkSfNjwG looks good.
ok 22 - Computing differences
Testing full mailbox reset with Cache implementation
Comparing /tmp/MlJFSiudog to t/results/reset_mailarc-1-dos.stdout
Output /tmp/MlJFSiudog looks good.
ok 23 - Computing differences
Testing full mailbox reset with Grep implementation
ok 24 # skip GNU grep not available
Testing filename: t/mailboxes/mailarc-1.txt
Testing partial mailbox reset with Perl implementation
Comparing /tmp/RuaIW5DTZM to t/results/reset_mailarc-1.stdout
Output /tmp/RuaIW5DTZM looks good.
ok 25 - Computing differences
Testing partial mailbox reset with Cache implementation
Comparing /tmp/RXlsMwHyAb to t/results/reset_mailarc-1.stdout
Output /tmp/RXlsMwHyAb looks good.
ok 26 - Computing differences
Testing partial mailbox reset with Grep implementation
ok 27 # skip GNU grep not available
Testing full mailbox reset with Perl implementation
Comparing /tmp/kfDpP1J2SJ to t/results/reset_mailarc-1.stdout
Output /tmp/kfDpP1J2SJ looks good.
ok 28 - Computing differences
Testing full mailbox reset with Cache implementation
Comparing /tmp/Dvs8wZ2e0_ to t/results/reset_mailarc-1.stdout
Output /tmp/Dvs8wZ2e0_ looks good.
ok 29 - Computing differences
Testing full mailbox reset with Grep implementation
ok 30 # skip GNU grep not available
Testing filename: t/mailboxes/mailarc-2.txt
Testing partial mailbox reset with Perl implementation
Comparing /tmp/aSAZqetfoE to t/results/reset_mailarc-2.stdout
Output /tmp/aSAZqetfoE looks good.
ok 31 - Computing differences
Testing partial mailbox reset with Cache implementation
Comparing /tmp/ejoMinm1s_ to t/results/reset_mailarc-2.stdout
Output /tmp/ejoMinm1s_ looks good.
ok 32 - Computing differences
Testing partial mailbox reset with Grep implementation
ok 33 # skip GNU grep not available
Testing full mailbox reset with Perl implementation
Comparing /tmp/N88XNrQ1zo to t/results/reset_mailarc-2.stdout
Output /tmp/N88XNrQ1zo looks good.
ok 34 - Computing differences
Testing full mailbox reset with Cache implementation
Comparing /tmp/siwELqseEe to t/results/reset_mailarc-2.stdout
Output /tmp/siwELqseEe looks good.
ok 35 - Computing differences
Testing full mailbox reset with Grep implementation
ok 36 # skip GNU grep not available
Testing filename: t/mailboxes/mailarc-3.txt
Testing partial mailbox reset with Perl implementation
Comparing /tmp/8UhAFzaLef to t/results/reset_mailarc-3.stdout
Output /tmp/8UhAFzaLef looks good.
ok 37 - Computing differences
Testing partial mailbox reset with Cache implementation
Comparing /tmp/zRmLZ4COUp to t/results/reset_mailarc-3.stdout
Output /tmp/zRmLZ4COUp looks good.
ok 38 - Computing differences
Testing partial mailbox reset with Grep implementation
ok 39 # skip GNU grep not available
Testing full mailbox reset with Perl implementation
Comparing /tmp/uSqTOg4bgb to t/results/reset_mailarc-3.stdout
Output /tmp/uSqTOg4bgb looks good.
ok 40 - Computing differences
Testing full mailbox reset with Cache implementation
Comparing /tmp/TpOYKJbho9 to t/results/reset_mailarc-3.stdout
Output /tmp/TpOYKJbho9 looks good.
ok 41 - Computing differences
Testing full mailbox reset with Grep implementation
ok 42 # skip GNU grep not available
Testing filename: t/mailboxes/mailseparators.txt
Testing partial mailbox reset with Perl implementation
Comparing /tmp/ulZU8iLaVH to t/results/reset_mailseparators.stdout
Output /tmp/ulZU8iLaVH looks good.
ok 43 - Computing differences
Testing partial mailbox reset with Cache implementation
Comparing /tmp/u67E4bxqyQ to t/results/reset_mailseparators.stdout
Output /tmp/u67E4bxqyQ looks good.
ok 44 - Computing differences
Testing partial mailbox reset with Grep implementation
ok 45 # skip GNU grep not available
Testing full mailbox reset with Perl implementation
Comparing /tmp/j7fD0iz0lD to t/results/reset_mailseparators.stdout
Output /tmp/j7fD0iz0lD looks good.
ok 46 - Computing differences
Testing full mailbox reset with Cache implementation
Comparing /tmp/nrPsmS7iJy to t/results/reset_mailseparators.stdout
Output /tmp/nrPsmS7iJy looks good.
ok 47 - Computing differences
Testing full mailbox reset with Grep implementation
ok 48 # skip GNU grep not available
Testing filename: t/mailboxes/malformed.txt
Testing partial mailbox reset with Perl implementation
Comparing /tmp/YsvJi39W7t to t/results/reset_malformed.stdout
Output /tmp/YsvJi39W7t looks good.
ok 49 - Computing differences
Testing partial mailbox reset with Cache implementation
Comparing /tmp/ojr6o34C1K to t/results/reset_malformed.stdout
Output /tmp/ojr6o34C1K looks good.
ok 50 - Computing differences
Testing partial mailbox reset with Grep implementation
ok 51 # skip GNU grep not available
Testing full mailbox reset with Perl implementation
Comparing /tmp/GiqIL13Xoh to t/results/reset_malformed.stdout
Output /tmp/GiqIL13Xoh looks good.
ok 52 - Computing differences
Testing full mailbox reset with Cache implementation
Comparing /tmp/Gy7_vu8rQq to t/results/reset_malformed.stdout
Output /tmp/Gy7_vu8rQq looks good.
ok 53 - Computing differences
Testing full mailbox reset with Grep implementation
ok 54 # skip GNU grep not available
Testing filename: t/mailboxes/newlines_at_beginning.txt
Testing partial mailbox reset with Perl implementation
Comparing /tmp/n5QWuZryg7 to t/results/reset_newlines_at_beginning.stdout
Output /tmp/n5QWuZryg7 looks good.
ok 55 - Computing differences
Testing partial mailbox reset with Cache implementation
Comparing /tmp/m9RG4gFZCk to t/results/reset_newlines_at_beginning.stdout
Output /tmp/m9RG4gFZCk looks good.
ok 56 - Computing differences
Testing partial mailbox reset with Grep implementation
ok 57 # skip GNU grep not available
Testing full mailbox reset with Perl implementation
Comparing /tmp/4S3tvAfZrY to t/results/reset_newlines_at_beginning.stdout
Output /tmp/4S3tvAfZrY looks good.
ok 58 - Computing differences
Testing full mailbox reset with Cache implementation
Comparing /tmp/Ike0VmRG6t to t/results/reset_newlines_at_beginning.stdout
Output /tmp/Ike0VmRG6t looks good.
ok 59 - Computing differences
Testing full mailbox reset with Grep implementation
ok 60 # skip GNU grep not available
ok
t/separators.t ..................
1..6
Testing filename: t/mailboxes/separators2.sep
ok 1 - Number of emails in t/mailboxes/separators2.sep
ok 2 - Number of emails in t/mailboxes/separators2.sep
ok 3 # skip GNU grep not available
Testing filename: t/mailboxes/separators1.sep
ok 4 - Number of emails in t/mailboxes/separators1.sep
ok 5 - Number of emails in t/mailboxes/separators1.sep
ok 6 # skip GNU grep not available
ok
t/stdin_compressed.t ............
1..4
Testing filename: t/mailboxes/mailarc-2.txt.bz2
Comparing /tmp/Q1gGvhflpT to t/mailboxes/mailarc-2.txt
Output /tmp/Q1gGvhflpT looks good.
ok 1 - Computing differences
Testing filename: t/mailboxes/mailarc-2.txt.gz
Comparing /tmp/AHSPerZsKL to t/mailboxes/mailarc-2.txt
Output /tmp/AHSPerZsKL looks good.
ok 2 - Computing differences
Testing filename: t/mailboxes/mailarc-2.txt.lz
ok 3 # skip lzip not available
Testing filename: t/mailboxes/mailarc-2.txt.xz
Comparing /tmp/J_Ek9ZFNyl to t/mailboxes/mailarc-2.txt
Output /tmp/J_Ek9ZFNyl looks good.
ok 4 - Computing differences
ok
t/stdin_uncompressed.t ..........
1..11
Testing filename: t/mailboxes/binary_body.txt
Comparing /tmp/gXf76iN2S_ to t/mailboxes/binary_body.txt
Output /tmp/gXf76iN2S_ looks good.
ok 1 - Computing differences
Testing filename: t/mailboxes/hessbug.txt
Comparing /tmp/FfesQh315r to t/mailboxes/hessbug.txt
Output /tmp/FfesQh315r looks good.
ok 2 - Computing differences
Testing filename: t/mailboxes/invalid-boundaries.txt
Comparing /tmp/EfUiIDtr7l to t/mailboxes/invalid-boundaries.txt
Output /tmp/EfUiIDtr7l looks good.
ok 3 - Computing differences
Testing filename: t/mailboxes/mailarc-1-dos.txt
Comparing /tmp/eUEQhMpe4U to t/mailboxes/mailarc-1-dos.txt
Output /tmp/eUEQhMpe4U looks good.
ok 4 - Computing differences
Testing filename: t/mailboxes/mailarc-1.txt
Comparing /tmp/s9FspOF04o to t/mailboxes/mailarc-1.txt
Output /tmp/s9FspOF04o looks good.
ok 5 - Computing differences
Testing filename: t/mailboxes/mailarc-2.txt
Comparing /tmp/_9TXECyUph to t/mailboxes/mailarc-2.txt
Output /tmp/_9TXECyUph looks good.
ok 6 - Computing differences
Testing filename: t/mailboxes/mailarc-3.txt
Comparing /tmp/TAlhlgwPey to t/mailboxes/mailarc-3.txt
Output /tmp/TAlhlgwPey looks good.
ok 7 - Computing differences
Testing filename: t/mailboxes/mailseparators.txt
Comparing /tmp/x7c8VvYuuk to t/mailboxes/mailseparators.txt
Output /tmp/x7c8VvYuuk looks good.
ok 8 - Computing differences
Testing filename: t/mailboxes/malformed.txt
Comparing /tmp/NN3RiQ7rCk to t/mailboxes/malformed.txt
Output /tmp/NN3RiQ7rCk looks good.
ok 9 - Computing differences
Testing filename: t/mailboxes/newlines_at_beginning.txt
Comparing /tmp/sCTpPJICYx to t/mailboxes/newlines_at_beginning.txt
Output /tmp/sCTpPJICYx looks good.
ok 10 - Computing differences
Testing filename: t/mailboxes/vm-emacs.txt
Comparing /tmp/YLhqqHzYrY to t/mailboxes/vm-emacs.txt
Output /tmp/YLhqqHzYrY looks good.
ok 11 - Computing differences
ok
t/undef_return_value.t ..........
1..33
Testing Perl
Comparing /tmp/iNoxAWm62C to t/mailboxes/binary_body.txt
Output /tmp/iNoxAWm62C looks good.
ok 1 - Computing differences
Testing Cache implementation
Comparing /tmp/2n8UxvIImu to t/mailboxes/binary_body.txt
Output /tmp/2n8UxvIImu looks good.
ok 2 - Computing differences
ok 3 # skip GNU grep not available
Testing Perl
Comparing /tmp/_VLdqHJz_U to t/mailboxes/hessbug.txt
Output /tmp/_VLdqHJz_U looks good.
ok 4 - Computing differences
Testing Cache implementation
Comparing /tmp/SchB28d1Be to t/mailboxes/hessbug.txt
Output /tmp/SchB28d1Be looks good.
ok 5 - Computing differences
ok 6 # skip GNU grep not available
Testing Perl
Comparing /tmp/mpSVWyhzC5 to t/mailboxes/invalid-boundaries.txt
Output /tmp/mpSVWyhzC5 looks good.
ok 7 - Computing differences
Testing Cache implementation
Comparing /tmp/Ha1ufBdFDZ to t/mailboxes/invalid-boundaries.txt
Output /tmp/Ha1ufBdFDZ looks good.
ok 8 - Computing differences
ok 9 # skip GNU grep not available
Testing Perl
Comparing /tmp/vrMwVwQdIo to t/mailboxes/mailarc-1-dos.txt
Output /tmp/vrMwVwQdIo looks good.
ok 10 - Computing differences
Testing Cache implementation
Comparing /tmp/shxR1jNnFi to t/mailboxes/mailarc-1-dos.txt
Output /tmp/shxR1jNnFi looks good.
ok 11 - Computing differences
ok 12 # skip GNU grep not available
Testing Perl
Comparing /tmp/KhqMt3FOju to t/mailboxes/mailarc-1.txt
Output /tmp/KhqMt3FOju looks good.
ok 13 - Computing differences
Testing Cache implementation
Comparing /tmp/vjsICw58D7 to t/mailboxes/mailarc-1.txt
Output /tmp/vjsICw58D7 looks good.
ok 14 - Computing differences
ok 15 # skip GNU grep not available
Testing Perl
Comparing /tmp/Gh8FUFs2UG to t/mailboxes/mailarc-2.txt
Output /tmp/Gh8FUFs2UG looks good.
ok 16 - Computing differences
Testing Cache implementation
Comparing /tmp/yuH67_ZZv8 to t/mailboxes/mailarc-2.txt
Output /tmp/yuH67_ZZv8 looks good.
ok 17 - Computing differences
ok 18 # skip GNU grep not available
Testing Perl
Comparing /tmp/3uVPIiC0PP to t/mailboxes/mailarc-3.txt
Output /tmp/3uVPIiC0PP looks good.
ok 19 - Computing differences
Testing Cache implementation
Comparing /tmp/_e3DN6PovB to t/mailboxes/mailarc-3.txt
Output /tmp/_e3DN6PovB looks good.
ok 20 - Computing differences
ok 21 # skip GNU grep not available
Testing Perl
Comparing /tmp/2nTeEqWqbI to t/mailboxes/mailseparators.txt
Output /tmp/2nTeEqWqbI looks good.
ok 22 - Computing differences
Testing Cache implementation
Comparing /tmp/ZEkV7RlKNH to t/mailboxes/mailseparators.txt
Output /tmp/ZEkV7RlKNH looks good.
ok 23 - Computing differences
ok 24 # skip GNU grep not available
Testing Perl
Comparing /tmp/3tpUMYxaBW to t/mailboxes/malformed.txt
Output /tmp/3tpUMYxaBW looks good.
ok 25 - Computing differences
Testing Cache implementation
Comparing /tmp/EwLDYr1WcN to t/mailboxes/malformed.txt
Output /tmp/EwLDYr1WcN looks good.
ok 26 - Computing differences
ok 27 # skip GNU grep not available
Testing Perl
Comparing /tmp/yc_QXUf6kc to t/mailboxes/newlines_at_beginning.txt
Output /tmp/yc_QXUf6kc looks good.
ok 28 - Computing differences
Testing Cache implementation
Comparing /tmp/ltcN2kFPZa to t/mailboxes/newlines_at_beginning.txt
Output /tmp/ltcN2kFPZa looks good.
ok 29 - Computing differences
ok 30 # skip GNU grep not available
Testing Perl
Comparing /tmp/RuBZnIs0qq to t/mailboxes/vm-emacs.txt
Output /tmp/RuBZnIs0qq looks good.
ok 31 - Computing differences
Testing Cache implementation
Comparing /tmp/TOTdSf42XD to t/mailboxes/vm-emacs.txt
Output /tmp/TOTdSf42XD looks good.
ok 32 - Computing differences
ok 33 # skip GNU grep not available
ok
t/xz.t ..........................
1..1
Running test:
"/bin/cat" "t/mailboxes/mailarc-2.txt.xz" | "/usr/bin/xz" -cd
Comparing /tmp/tnPhHN7z5M to t/results/mailarc-2.txt
Output /tmp/tnPhHN7z5M looks good.
Comparing /tmp/b9ZcQlNa7W to t/results/none
Output /tmp/b9ZcQlNa7W looks good.
ok 1 - Computing differences
ok
All tests successful.
Files=25, Tests=370, 8 wallclock secs ( 0.19 usr 0.03 sys + 4.83 cusr 2.32 csys = 7.37 CPU)
Result: PASS
PREREQUISITES:
Here is a list of prerequisites you specified and versions we
managed to load:
Module Name Have Want
ExtUtils::MakeMaker 7.34 6.36
File::Path 2.15 2.08
File::Slurper 0.012 0
FileHandle::Unget 0.1634 0
Storable 3.11 0
Test::Compile v1.3.0 0
Test::More 1.302136 0
Text::Diff 1.45 0
UNIVERSAL::require 0.18 0
URI::Escape 3.31 0
Perl module toolchain versions installed:
Module Name Have
CPANPLUS 0.9174
CPANPLUS::Dist::Build 0.88
Cwd 3.74
ExtUtils::CBuilder 0.280230
ExtUtils::Command 7.34
ExtUtils::Install 2.14
ExtUtils::MakeMaker 7.34
ExtUtils::Manifest 1.71
ExtUtils::ParseXS 3.35
File::Spec 3.74
Module::Build 0.4224
Pod::Parser 1.37
Pod::Simple 3.16
Test2 1.302136
Test::Harness 3.42
Test::More 1.302136
version 0.9924
******************************** NOTE ********************************
The comments above are created mechanically, possibly without manual
checking by the sender. As there are many people performing automatic
tests on each upload to CPAN, it is likely that you will receive
identical messages about the same problem.
If you believe that the message is mistaken, please reply to the first
one with correction and/or additional informations, and do not take
it personally. We appreciate your patience. :)
**********************************************************************
Additional comments:
This report was machine-generated by CPANPLUS::Dist::YACSmoke 1.02.
Powered by minismokebox version 0.68
------------------------------
ENVIRONMENT AND OTHER CONTEXT
------------------------------
Environment variables:
AUTOMATED_TESTING = 1
NONINTERACTIVE_TESTING = 1
PATH = /home/cpan/bin:/bin:/sbin:/usr/bin:/usr/sbin:/usr/X11R7/bin:/usr/X11R6/bin:/usr/pkg/bin:/usr/pkg/sbin:/usr/games:/usr/local/bin:/usr/local/sbin
PERL5LIB = :/home/cpan/pit/thr/conf/perl-5.14.4/.cpanplus/5.14.4/build/xVNgkqPDth/File-Slurp-9999.19/blib/lib:/home/cpan/pit/thr/conf/perl-5.14.4/.cpanplus/5.14.4/build/xVNgkqPDth/File-Slurp-9999.19/blib/arch:/home/cpan/pit/thr/conf/perl-5.14.4/.cpanplus/5.14.4/build/nmqXSlXkD5/Test-Needs-0.002005/blib/lib:/home/cpan/pit/thr/conf/perl-5.14.4/.cpanplus/5.14.4/build/nmqXSlXkD5/Test-Needs-0.002005/blib/arch:/home/cpan/pit/thr/conf/perl-5.14.4/.cpanplus/5.14.4/build/M7Lz9cGqEw/URI-1.74/blib/lib:/home/cpan/pit/thr/conf/perl-5.14.4/.cpanplus/5.14.4/build/M7Lz9cGqEw/URI-1.74/blib/arch:/home/cpan/pit/thr/conf/perl-5.14.4/.cpanplus/5.14.4/build/E5u4IlnpW1/TimeDate-2.30/blib/lib:/home/cpan/pit/thr/conf/perl-5.14.4/.cpanplus/5.14.4/build/E5u4IlnpW1/TimeDate-2.30/blib/arch:/home/cpan/pit/thr/conf/perl-5.14.4/.cpanplus/5.14.4/build/TWtKikNPvX/Test-Warnings-0.026/blib/lib:/home/cpan/pit/thr/conf/perl-5.14.4/.cpanplus/5.14.4/build/TWtKikNPvX/Test-Warnings-0.026/blib/arch:/home/cpan/pit/thr/conf/perl-5.14.4/.cpanplus/5.14.4/build/7iaeVoqeI3/File-Slurper-0.012/blib/lib:/home/cpan/pit/thr/conf/perl-5.14.4/.cpanplus/5.14.4/build/7iaeVoqeI3/File-Slurper-0.012/blib/arch:/home/cpan/pit/thr/conf/perl-5.14.4/.cpanplus/5.14.4/build/fbLu_ftNQm/UNIVERSAL-require-0.18/blib/lib:/home/cpan/pit/thr/conf/perl-5.14.4/.cpanplus/5.14.4/build/fbLu_ftNQm/UNIVERSAL-require-0.18/blib/arch:/home/cpan/pit/thr/conf/perl-5.14.4/.cpanplus/5.14.4/build/jHQl2YcFEy/Test-Compile-v1.3.0/blib/lib:/home/cpan/pit/thr/conf/perl-5.14.4/.cpanplus/5.14.4/build/jHQl2YcFEy/Test-Compile-v1.3.0/blib/arch:/home/cpan/pit/thr/conf/perl-5.14.4/.cpanplus/5.14.4/build/6r9sCceSSK/FileHandle-Unget-0.1634/blib/lib:/home/cpan/pit/thr/conf/perl-5.14.4/.cpanplus/5.14.4/build/6r9sCceSSK/FileHandle-Unget-0.1634/blib/arch:/home/cpan/pit/thr/conf/perl-5.14.4/.cpanplus/5.14.4/build/i0NU36GITv/Algorithm-Diff-1.1903/blib/lib:/home/cpan/pit/thr/conf/perl-5.14.4/.cpanplus/5.14.4/build/i0NU36GITv/Algorithm-Diff-1.1903/blib/arch:/home/cpan/pit/thr/conf/perl-5.14.4/.cpanplus/5.14.4/build/jHV5hesGrf/Text-Diff-1.45/blib/lib:/home/cpan/pit/thr/conf/perl-5.14.4/.cpanplus/5.14.4/build/jHV5hesGrf/Text-Diff-1.45/blib/arch:/home/cpan/pit/thr/conf/perl-5.14.4/.cpanplus/5.14.4/build/yxWpzTVL_H/Mail-Mbox-MessageParser-1.5111/blib/lib:/home/cpan/pit/thr/conf/perl-5.14.4/.cpanplus/5.14.4/build/yxWpzTVL_H/Mail-Mbox-MessageParser-1.5111/blib/arch
PERL5_CPANPLUS_IS_RUNNING = 13515
PERL5_CPANPLUS_IS_VERSION = 0.9174
PERL5_MINISMOKEBOX = 0.68
PERL5_YACSMOKE_BASE = /home/cpan/pit/thr/conf/perl-5.14.4
PERL_EXTUTILS_AUTOINSTALL = --defaultdeps
PERL_MM_USE_DEFAULT = 1
PERL_USE_UNSAFE_INC = 1
SHELL = /usr/pkg/bin/bash
TERM = screen
Perl special variables (and OS-specific diagnostics, for MSWin32):
Perl: $^X = /home/cpan/pit/thr/perl-5.14.4/bin/perl
UID: $< = 1002
EUID: $> = 1002
GID: $( = 100 100
EGID: $) = 100 100
-------------------------------
--
Summary of my perl5 (revision 5 version 14 subversion 4) configuration:
Platform:
osname=netbsd, osvers=6.1.4, archname=amd64-netbsd-thread-multi
uname='netbsd naboo.bingosnet.co.uk 6.1.4 netbsd 6.1.4 (generic) amd64 '
config_args='-des -Dprefix=/home/cpan/pit/thr/perl-5.14.4 -Dusethreads'
hint=recommended, useposix=true, d_sigaction=define
useithreads=define, usemultiplicity=define
useperlio=define, d_sfio=undef, uselargefiles=define, usesocks=undef
use64bitint=define, use64bitall=define, uselongdouble=undef
usemymalloc=n, bincompat5005=undef
Compiler:
cc='cc', ccflags ='-fno-strict-aliasing -pipe -fstack-protector -I/usr/pkg/include',
optimize='-O',
cppflags='-fno-strict-aliasing -pipe -fstack-protector -I/usr/pkg/include'
ccversion='', gccversion='4.5.3', gccosandvers=''
intsize=4, longsize=8, ptrsize=8, doublesize=8, byteorder=12345678
d_longlong=define, longlongsize=8, d_longdbl=define, longdblsize=16
ivtype='long', ivsize=8, nvtype='double', nvsize=8, Off_t='off_t', lseeksize=8
alignbytes=8, prototype=define
Linker and Libraries:
ld='cc', ldflags =' -Wl,-rpath,/usr/pkg/lib -Wl,-rpath,/usr/local/lib -fstack-protector -L/usr/pkg/lib'
libpth=/usr/pkg/lib /lib /usr/lib
libs=-lgdbm -lm -lcrypt -lutil -lc -lposix -lpthread
perllibs=-lm -lcrypt -lutil -lc -lposix -lpthread
libc=/lib/libc.so, so=so, useshrplib=false, libperl=libperl.a
gnulibc_version=''
Dynamic Linking:
dlsrc=dl_dlopen.xs, dlext=so, d_dlsymun=undef, ccdlflags='-Wl,-E '
cccdlflags='-DPIC -fPIC ', lddlflags='--whole-archive -shared -L/usr/pkg/lib -fstack-protector'
Characteristics of this binary (from libperl):
Compile-time options: MULTIPLICITY PERL_DONT_CREATE_GVSV
PERL_IMPLICIT_CONTEXT PERL_MALLOC_WRAP
PERL_PRESERVE_IVUV USE_64_BIT_ALL USE_64_BIT_INT
USE_ITHREADS USE_LARGE_FILES USE_PERLIO USE_PERL_ATOF
USE_REENTRANT_API
Built under netbsd
Compiled at May 9 2014 21:01:24
%ENV:
PERL5LIB=":/home/cpan/pit/thr/conf/perl-5.14.4/.cpanplus/5.14.4/build/xVNgkqPDth/File-Slurp-9999.19/blib/lib:/home/cpan/pit/thr/conf/perl-5.14.4/.cpanplus/5.14.4/build/xVNgkqPDth/File-Slurp-9999.19/blib/arch:/home/cpan/pit/thr/conf/perl-5.14.4/.cpanplus/5.14.4/build/nmqXSlXkD5/Test-Needs-0.002005/blib/lib:/home/cpan/pit/thr/conf/perl-5.14.4/.cpanplus/5.14.4/build/nmqXSlXkD5/Test-Needs-0.002005/blib/arch:/home/cpan/pit/thr/conf/perl-5.14.4/.cpanplus/5.14.4/build/M7Lz9cGqEw/URI-1.74/blib/lib:/home/cpan/pit/thr/conf/perl-5.14.4/.cpanplus/5.14.4/build/M7Lz9cGqEw/URI-1.74/blib/arch:/home/cpan/pit/thr/conf/perl-5.14.4/.cpanplus/5.14.4/build/E5u4IlnpW1/TimeDate-2.30/blib/lib:/home/cpan/pit/thr/conf/perl-5.14.4/.cpanplus/5.14.4/build/E5u4IlnpW1/TimeDate-2.30/blib/arch:/home/cpan/pit/thr/conf/perl-5.14.4/.cpanplus/5.14.4/build/TWtKikNPvX/Test-Warnings-0.026/blib/lib:/home/cpan/pit/thr/conf/perl-5.14.4/.cpanplus/5.14.4/build/TWtKikNPvX/Test-Warnings-0.026/blib/arch:/home/cpan/pit/thr/conf/perl-5.14.4/.cpanplus/5.14.4/build/7iaeVoqeI3/File-Slurper-0.012/blib/lib:/home/cpan/pit/thr/conf/perl-5.14.4/.cpanplus/5.14.4/build/7iaeVoqeI3/File-Slurper-0.012/blib/arch:/home/cpan/pit/thr/conf/perl-5.14.4/.cpanplus/5.14.4/build/fbLu_ftNQm/UNIVERSAL-require-0.18/blib/lib:/home/cpan/pit/thr/conf/perl-5.14.4/.cpanplus/5.14.4/build/fbLu_ftNQm/UNIVERSAL-require-0.18/blib/arch:/home/cpan/pit/thr/conf/perl-5.14.4/.cpanplus/5.14.4/build/jHQl2YcFEy/Test-Compile-v1.3.0/blib/lib:/home/cpan/pit/thr/conf/perl-5.14.4/.cpanplus/5.14.4/build/jHQl2YcFEy/Test-Compile-v1.3.0/blib/arch:/home/cpan/pit/thr/conf/perl-5.14.4/.cpanplus/5.14.4/build/6r9sCceSSK/FileHandle-Unget-0.1634/blib/lib:/home/cpan/pit/thr/conf/perl-5.14.4/.cpanplus/5.14.4/build/6r9sCceSSK/FileHandle-Unget-0.1634/blib/arch:/home/cpan/pit/thr/conf/perl-5.14.4/.cpanplus/5.14.4/build/i0NU36GITv/Algorithm-Diff-1.1903/blib/lib:/home/cpan/pit/thr/conf/perl-5.14.4/.cpanplus/5.14.4/build/i0NU36GITv/Algorithm-Diff-1.1903/blib/arch:/home/cpan/pit/thr/conf/perl-5.14.4/.cpanplus/5.14.4/build/jHV5hesGrf/Text-Diff-1.45/blib/lib:/home/cpan/pit/thr/conf/perl-5.14.4/.cpanplus/5.14.4/build/jHV5hesGrf/Text-Diff-1.45/blib/arch:/home/cpan/pit/thr/conf/perl-5.14.4/.cpanplus/5.14.4/build/yxWpzTVL_H/Mail-Mbox-MessageParser-1.5111/blib/lib:/home/cpan/pit/thr/conf/perl-5.14.4/.cpanplus/5.14.4/build/yxWpzTVL_H/Mail-Mbox-MessageParser-1.5111/blib/arch"
PERL5_CPANPLUS_IS_RUNNING="13515"
PERL5_CPANPLUS_IS_VERSION="0.9174"
PERL5_MINISMOKEBOX="0.68"
PERL5_YACSMOKE_BASE="/home/cpan/pit/thr/conf/perl-5.14.4"
PERL_EXTUTILS_AUTOINSTALL="--defaultdeps"
PERL_MM_USE_DEFAULT="1"
PERL_USE_UNSAFE_INC="1"
@INC:
/home/cpan/pit/thr/conf/perl-5.14.4/.cpanplus/5.14.4/build/xVNgkqPDth/File-Slurp-9999.19/blib/lib
/home/cpan/pit/thr/conf/perl-5.14.4/.cpanplus/5.14.4/build/xVNgkqPDth/File-Slurp-9999.19/blib/arch
/home/cpan/pit/thr/conf/perl-5.14.4/.cpanplus/5.14.4/build/nmqXSlXkD5/Test-Needs-0.002005/blib/lib
/home/cpan/pit/thr/conf/perl-5.14.4/.cpanplus/5.14.4/build/nmqXSlXkD5/Test-Needs-0.002005/blib/arch
/home/cpan/pit/thr/conf/perl-5.14.4/.cpanplus/5.14.4/build/M7Lz9cGqEw/URI-1.74/blib/lib
/home/cpan/pit/thr/conf/perl-5.14.4/.cpanplus/5.14.4/build/M7Lz9cGqEw/URI-1.74/blib/arch
/home/cpan/pit/thr/conf/perl-5.14.4/.cpanplus/5.14.4/build/E5u4IlnpW1/TimeDate-2.30/blib/lib
/home/cpan/pit/thr/conf/perl-5.14.4/.cpanplus/5.14.4/build/E5u4IlnpW1/TimeDate-2.30/blib/arch
/home/cpan/pit/thr/conf/perl-5.14.4/.cpanplus/5.14.4/build/TWtKikNPvX/Test-Warnings-0.026/blib/lib
/home/cpan/pit/thr/conf/perl-5.14.4/.cpanplus/5.14.4/build/TWtKikNPvX/Test-Warnings-0.026/blib/arch
/home/cpan/pit/thr/conf/perl-5.14.4/.cpanplus/5.14.4/build/7iaeVoqeI3/File-Slurper-0.012/blib/lib
/home/cpan/pit/thr/conf/perl-5.14.4/.cpanplus/5.14.4/build/7iaeVoqeI3/File-Slurper-0.012/blib/arch
/home/cpan/pit/thr/conf/perl-5.14.4/.cpanplus/5.14.4/build/fbLu_ftNQm/UNIVERSAL-require-0.18/blib/lib
/home/cpan/pit/thr/conf/perl-5.14.4/.cpanplus/5.14.4/build/fbLu_ftNQm/UNIVERSAL-require-0.18/blib/arch
/home/cpan/pit/thr/conf/perl-5.14.4/.cpanplus/5.14.4/build/jHQl2YcFEy/Test-Compile-v1.3.0/blib/lib
/home/cpan/pit/thr/conf/perl-5.14.4/.cpanplus/5.14.4/build/jHQl2YcFEy/Test-Compile-v1.3.0/blib/arch
/home/cpan/pit/thr/conf/perl-5.14.4/.cpanplus/5.14.4/build/6r9sCceSSK/FileHandle-Unget-0.1634/blib/lib
/home/cpan/pit/thr/conf/perl-5.14.4/.cpanplus/5.14.4/build/6r9sCceSSK/FileHandle-Unget-0.1634/blib/arch
/home/cpan/pit/thr/conf/perl-5.14.4/.cpanplus/5.14.4/build/i0NU36GITv/Algorithm-Diff-1.1903/blib/lib
/home/cpan/pit/thr/conf/perl-5.14.4/.cpanplus/5.14.4/build/i0NU36GITv/Algorithm-Diff-1.1903/blib/arch
/home/cpan/pit/thr/conf/perl-5.14.4/.cpanplus/5.14.4/build/jHV5hesGrf/Text-Diff-1.45/blib/lib
/home/cpan/pit/thr/conf/perl-5.14.4/.cpanplus/5.14.4/build/jHV5hesGrf/Text-Diff-1.45/blib/arch
/home/cpan/pit/thr/conf/perl-5.14.4/.cpanplus/5.14.4/build/yxWpzTVL_H/Mail-Mbox-MessageParser-1.5111/blib/lib
/home/cpan/pit/thr/conf/perl-5.14.4/.cpanplus/5.14.4/build/yxWpzTVL_H/Mail-Mbox-MessageParser-1.5111/blib/arch
/home/cpan/pit/thr/perl-5.14.4/lib/site_perl/5.14.4/amd64-netbsd-thread-multi
/home/cpan/pit/thr/perl-5.14.4/lib/site_perl/5.14.4
/home/cpan/pit/thr/perl-5.14.4/lib/5.14.4/amd64-netbsd-thread-multi
/home/cpan/pit/thr/perl-5.14.4/lib/5.14.4
.