Report for Class-Value-Net-1.110250

Back
From: metabase:user:d2c9f356-b46f-11df-9a90-20a83c0b7757
Subject: PASS Class-Value-Net-1.110250 v5.12.4 SunOS/Solaris
Date: 2011-07-12T05:26:01Z

This distribution has been tested as part of the CPAN Testers
project, supporting the Perl programming language.  See
http://wiki.cpantesters.org/ for more information or email
questions to cpan-testers-discuss@perl.org


--
Dear Marcel Gruenauer,

This is a computer-generated report for Class-Value-Net-1.110250
on perl 5.12.4, created by CPAN-Reporter-1.1902.

Thank you for uploading your work to CPAN.  Congratulations!
All tests were successful.

Sections of this report:

    * Tester comments
    * Program output
    * Prerequisites
    * Environment and other context

------------------------------
TESTER COMMENTS
------------------------------

Additional comments from tester:

this report is from an automated smoke testing program
and was not reviewed by a human for accuracy

------------------------------
PROGRAM OUTPUT
------------------------------

Output from '/usr/local/bin/make test':

PERL_DL_NONLAZY=1 /export/home/cpant3/perl5/bin/perl5.12.4 "-MExtUtils::Command::MM" "-e" "test_harness(0, 'blib/lib', 'blib/arch')" t/*.t
t/00-compile.t ............... ok
# Testing with Perl 5.012004, /export/home/cpant3/perl5/bin/perl5.12.4
#     Carp version is 1.17
#     Class::Value version is 1.100840
#     Class::Value::Boolean version is 1.100840
#     Class::Value::Enum version is 1.100840
#     Class::Value::Exception::Base version is 1.100840
#     Class::Value::SemanticAdapter version is 1.100841
#     Class::Value::String version is 1.100840
#     Class::Value::Test version is 1.100840
#     Data::Semantic::Net::IPAddress::TestData::IPv4 version is 1.101760
#     Data::Semantic::Net::IPAddress::TestData::IPv6 version is 1.101760
#     English version is 1.04
#     Error version is 0.17016
#     Error::Hierarchy::Mixin version is 1.103530
#     Error::Hierarchy::Test version is 1.103530
#     ExtUtils::MakeMaker version is 6.56
#     File::Find version is 1.15
#     File::Temp version is 0.22
#     Scalar::Util version is 1.23
#     Test::CompanionClasses version is 1.101370
#     Test::CompanionClasses::Base version is 1.101370
#     Test::More version is 0.98
#     constant version is 1.21
#     parent version is 0.225
t/000-report-versions.t ...... ok
t/01_companion_classes.t ..... ok
t/02_hostname.t .............. ok
t/author-critic.t ............ skipped: these tests are for testing by the author
t/release-check-changes.t .... skipped: these tests are for release candidate testing
t/release-dist-manifest.t .... skipped: these tests are for release candidate testing
t/release-distmeta.t ......... skipped: these tests are for release candidate testing
t/release-eol.t .............. skipped: these tests are for release candidate testing
t/release-has-version.t ...... skipped: these tests are for release candidate testing
t/release-kwalitee.t ......... skipped: these tests are for release candidate testing
t/release-minimum-version.t .. skipped: these tests are for release candidate testing
t/release-no-tabs.t .......... skipped: these tests are for release candidate testing
t/release-pod-coverage.t ..... skipped: these tests are for release candidate testing
t/release-pod-spell.t ........ skipped: these tests are for release candidate testing
t/release-pod-syntax.t ....... skipped: these tests are for release candidate testing
t/release-portability.t ...... skipped: these tests are for release candidate testing
t/release-synopsis.t ......... skipped: these tests are for release candidate testing
t/release-unused-vars.t ...... skipped: these tests are for release candidate testing
All tests successful.
Files=19, Tests=96, 15 wallclock secs ( 0.14 usr  0.05 sys +  3.05 cusr  1.09 csys =  4.33 CPU)
Result: PASS

------------------------------
PREREQUISITES
------------------------------

Prerequisite modules loaded:

requires:

    Module                                         Need     Have    
    ---------------------------------------------- -------- --------
    Class::Value::Boolean                          0        1.100840
    Class::Value::Enum                             0        1.100840
    Class::Value::Exception::Base                  0        1.100840
    Class::Value::SemanticAdapter                  0        1.100841
    Class::Value::String                           0        1.100840
    Class::Value::Test                             0        1.100840
    constant                                       0        1.21    
    Data::Semantic::Net::IPAddress::TestData::IPv4 1.101750 1.101760
    Data::Semantic::Net::IPAddress::TestData::IPv6 0        1.101760
    Error::Hierarchy::Mixin                        0        1.103530
    Error::Hierarchy::Test                         0        1.103530
    parent                                         0        0.225   
    perl                                           5.008    5.012004
    Test::CompanionClasses::Base                   0        1.101370
    Test::More                                     0        0.98    

build_requires:

    Module                                         Need     Have    
    ---------------------------------------------- -------- --------
    Carp                                           0        1.17    
    Class::Value                                   0        1.100840
    English                                        0        1.04    
    Error                                          0        0.17016 
    File::Find                                     0        1.15    
    File::Temp                                     0        0.22    
    Scalar::Util                                   0        1.23    
    Test::CompanionClasses                         0        1.101370
    Test::More                                     0.94     0.98    

configure_requires:

    Module                                         Need     Have    
    ---------------------------------------------- -------- --------
    ExtUtils::MakeMaker                            6.31     6.56    


------------------------------
ENVIRONMENT AND OTHER CONTEXT
------------------------------

Environment variables:

    AUTOMATED_TESTING = 1
    LANG = C
    LD_LIBRARY_PATH = /usr/local/lib:
    PATH = /export/home/cpant3/perl5/bin:/usr/local/bin:/usr/bin
    PERL5LIB = /export/home/cpant3/.cpan/build/Class-Value-SemanticAdapter-1.100841-k5L8SV/blib/arch:/export/home/cpant3/.cpan/build/Class-Value-SemanticAdapter-1.100841-k5L8SV/blib/lib:/export/home/cpant3/.cpan/build/Data-Semantic-Net-1.101760-nnLlW9/blib/arch:/export/home/cpant3/.cpan/build/Data-Semantic-Net-1.101760-nnLlW9/blib/lib:/export/home/cpant3/.cpan/build/Class-Value-1.100840-6vzV96/blib/arch:/export/home/cpant3/.cpan/build/Class-Value-1.100840-6vzV96/blib/lib:/export/home/cpant3/.cpan/build/Data-Semantic-1.101620-xzy_iu/blib/arch:/export/home/cpant3/.cpan/build/Data-Semantic-1.101620-xzy_iu/blib/lib:/export/home/cpant3/.cpan/build/Test-CompanionClasses-1.101370-wyqwlK/blib/arch:/export/home/cpant3/.cpan/build/Test-CompanionClasses-1.101370-wyqwlK/blib/lib:/export/home/cpant3/.cpan/build/Error-Hierarchy-1.103530-WP1XHA/blib/arch:/export/home/cpant3/.cpan/build/Error-Hierarchy-1.103530-WP1XHA/blib/lib:/export/home/cpant3/.cpan/build/Data-Container-1.100840-icXFr3/blib/arch:/export/home/cpant3/.cpan/build/Data-Container-1.100840-icXFr3/blib/lib:/export/home/cpant3/.cpan/build/Class-Accessor-Constructor-1.111590-7UtUjy/blib/arch:/export/home/cpant3/.cpan/build/Class-Accessor-Constructor-1.111590-7UtUjy/blib/lib:/export/home/cpant3/.cpan/build/Data-Inherited-1.100860-KHEBTP/blib/arch:/export/home/cpant3/.cpan/build/Data-Inherited-1.100860-KHEBTP/blib/lib
    PERL5OPT = 
    PERL5_CPANPLUS_IS_RUNNING = 9686
    PERL5_CPAN_IS_RUNNING = 9686
    PERL5_CPAN_IS_RUNNING_IN_RECURSION = 3460,9686
    PERL_CR_SMOKER_CURRENT = Class-Value-Net-1.110250
    PERL_EXTUTILS_AUTOINSTALL = --defaultdeps
    PERL_MM_USE_DEFAULT = 1
    SHELL = /usr/bin/bash
    TERM = xterm

Perl special variables (and OS-specific diagnostics, for MSWin32):

    $^X = /export/home/cpant3/perl5/bin/perl5.12.4
    $UID/$EUID = 103 / 103
    $GID = 1 1
    $EGID = 1 1

Perl module toolchain versions installed:

    Module              Have    
    ------------------- --------
    CPAN                1.9600  
    Cwd                 3.33    
    ExtUtils::CBuilder  0.280202
    ExtUtils::Command   1.17    
    ExtUtils::Install   1.55    
    ExtUtils::MakeMaker 6.56    
    ExtUtils::Manifest  1.58    
    ExtUtils::ParseXS   2.2206  
    File::Spec          3.33    
    Module::Build       0.3800  
    Module::Signature   n/a     
    Test::Harness       3.23    
    Test::More          0.98    
    YAML                0.73    
    YAML::Syck          1.17    
    version             0.91    


--

Summary of my perl5 (revision 5 version 12 subversion 4) configuration:
   
  Platform:
    osname=solaris, osvers=2.10, archname=i86pc-solaris-64int
    uname='sunos vmrz0046 5.10 generic_141445-09 i86pc i386 i86pc solaris '
    config_args='-Dcc=gcc -Dprefix=~/perl5 -Duse64bitint -Dusedevel -d'
    hint=recommended, useposix=true, d_sigaction=define
    useithreads=undef, usemultiplicity=undef
    useperlio=define, d_sfio=undef, uselargefiles=define, usesocks=undef
    use64bitint=define, use64bitall=undef, uselongdouble=undef
    usemymalloc=n, bincompat5005=undef
  Compiler:
    cc='gcc', ccflags ='-DPTR_IS_LONG -fno-strict-aliasing -pipe -I/usr/local/include -D_LARGEFILE_SOURCE -D_FILE_OFFSET_BITS=64 -DPERL_USE_SAFE_PUTENV',
    optimize='-O',
    cppflags='-DPTR_IS_LONG -fno-strict-aliasing -pipe -I/usr/local/include'
    ccversion='', gccversion='3.4.6', gccosandvers='solaris2.10'
    intsize=4, longsize=4, ptrsize=4, doublesize=8, byteorder=12345678
    d_longlong=define, longlongsize=8, d_longdbl=define, longdblsize=12
    ivtype='long long', ivsize=8, nvtype='double', nvsize=8, Off_t='off_t', lseeksize=8
    alignbytes=4, prototype=define
  Linker and Libraries:
    ld='gcc', ldflags =' -L/usr/local/lib '
    libpth=/usr/local/lib /usr/lib /usr/ccs/lib
    libs=-lsocket -lnsl -lgdbm -ldl -lm -lc
    perllibs=-lsocket -lnsl -ldl -lm -lc
    libc=/lib/libc.so, so=so, useshrplib=false, libperl=libperl.a
    gnulibc_version=''
  Dynamic Linking:
    dlsrc=dl_dlopen.xs, dlext=so, d_dlsymun=undef, ccdlflags=' '
    cccdlflags='-fPIC', lddlflags='-G -L/usr/local/lib'


Characteristics of this binary (from libperl): 
  Compile-time options: PERL_DONT_CREATE_GVSV PERL_MALLOC_WRAP PERL_USE_DEVEL
                        PERL_USE_SAFE_PUTENV USE_64_BIT_INT USE_LARGE_FILES
                        USE_PERLIO USE_PERL_ATOF
  Built under solaris
  Compiled at Jun 21 2011 15:53:50
  %ENV:
    PERL5LIB="/export/home/cpant3/.cpan/build/Class-Value-SemanticAdapter-1.100841-k5L8SV/blib/arch:/export/home/cpant3/.cpan/build/Class-Value-SemanticAdapter-1.100841-k5L8SV/blib/lib:/export/home/cpant3/.cpan/build/Data-Semantic-Net-1.101760-nnLlW9/blib/arch:/export/home/cpant3/.cpan/build/Data-Semantic-Net-1.101760-nnLlW9/blib/lib:/export/home/cpant3/.cpan/build/Class-Value-1.100840-6vzV96/blib/arch:/export/home/cpant3/.cpan/build/Class-Value-1.100840-6vzV96/blib/lib:/export/home/cpant3/.cpan/build/Data-Semantic-1.101620-xzy_iu/blib/arch:/export/home/cpant3/.cpan/build/Data-Semantic-1.101620-xzy_iu/blib/lib:/export/home/cpant3/.cpan/build/Test-CompanionClasses-1.101370-wyqwlK/blib/arch:/export/home/cpant3/.cpan/build/Test-CompanionClasses-1.101370-wyqwlK/blib/lib:/export/home/cpant3/.cpan/build/Error-Hierarchy-1.103530-WP1XHA/blib/arch:/export/home/cpant3/.cpan/build/Error-Hierarchy-1.103530-WP1XHA/blib/lib:/export/home/cpant3/.cpan/build/Data-Container-1.100840-icXFr3/blib/arch:/export/home/cpant3/.cpan/build/Data-Container-1.100840-icXFr3/blib/lib:/export/home/cpant3/.cpan/build/Class-Accessor-Constructor-1.111590-7UtUjy/blib/arch:/export/home/cpant3/.cpan/build/Class-Accessor-Constructor-1.111590-7UtUjy/blib/lib:/export/home/cpant3/.cpan/build/Data-Inherited-1.100860-KHEBTP/blib/arch:/export/home/cpant3/.cpan/build/Data-Inherited-1.100860-KHEBTP/blib/lib"
    PERL5OPT=""
    PERL5_CPANPLUS_IS_RUNNING="9686"
    PERL5_CPAN_IS_RUNNING="9686"
    PERL5_CPAN_IS_RUNNING_IN_RECURSION="3460,9686"
    PERL_CR_SMOKER_CURRENT="Class-Value-Net-1.110250"
    PERL_EXTUTILS_AUTOINSTALL="--defaultdeps"
    PERL_MM_USE_DEFAULT="1"
  @INC:
    /export/home/cpant3/.cpan/build/Class-Value-SemanticAdapter-1.100841-k5L8SV/blib/arch
    /export/home/cpant3/.cpan/build/Class-Value-SemanticAdapter-1.100841-k5L8SV/blib/lib
    /export/home/cpant3/.cpan/build/Data-Semantic-Net-1.101760-nnLlW9/blib/arch
    /export/home/cpant3/.cpan/build/Data-Semantic-Net-1.101760-nnLlW9/blib/lib
    /export/home/cpant3/.cpan/build/Class-Value-1.100840-6vzV96/blib/arch
    /export/home/cpant3/.cpan/build/Class-Value-1.100840-6vzV96/blib/lib
    /export/home/cpant3/.cpan/build/Data-Semantic-1.101620-xzy_iu/blib/arch
    /export/home/cpant3/.cpan/build/Data-Semantic-1.101620-xzy_iu/blib/lib
    /export/home/cpant3/.cpan/build/Test-CompanionClasses-1.101370-wyqwlK/blib/arch
    /export/home/cpant3/.cpan/build/Test-CompanionClasses-1.101370-wyqwlK/blib/lib
    /export/home/cpant3/.cpan/build/Error-Hierarchy-1.103530-WP1XHA/blib/arch
    /export/home/cpant3/.cpan/build/Error-Hierarchy-1.103530-WP1XHA/blib/lib
    /export/home/cpant3/.cpan/build/Data-Container-1.100840-icXFr3/blib/arch
    /export/home/cpant3/.cpan/build/Data-Container-1.100840-icXFr3/blib/lib
    /export/home/cpant3/.cpan/build/Class-Accessor-Constructor-1.111590-7UtUjy/blib/arch
    /export/home/cpant3/.cpan/build/Class-Accessor-Constructor-1.111590-7UtUjy/blib/lib
    /export/home/cpant3/.cpan/build/Data-Inherited-1.100860-KHEBTP/blib/arch
    /export/home/cpant3/.cpan/build/Data-Inherited-1.100860-KHEBTP/blib/lib
    /export/home/cpant3/perl5/lib/site_perl/5.12.4/i86pc-solaris-64int
    /export/home/cpant3/perl5/lib/site_perl/5.12.4
    /export/home/cpant3/perl5/lib/5.12.4/i86pc-solaris-64int
    /export/home/cpant3/perl5/lib/5.12.4
    /export/home/cpant3/perl5/lib/site_perl
    .