Data-LnArray-XS v0.11 Perl 5 v5.43.5 i86pc-solaris-64
- Status
- Pass
- From
- Carlos Guevara
- Dist
-
Data-LnArray-XS v0.11
- Platform
- Perl 5 v5.43.5 i86pc-solaris-64
- Date
- 2025-11-10 10:31:34
- ID
- 6e2ff10e-be20-11f0-97f7-9aec40d4876b
This distribution has been tested as part of the CPAN Testers
project, supporting the Perl programming language. See
http://wiki.cpantesters.org/ for more information or email
questions to cpan-testers-discuss@perl.org
--
Dear Robert Acock,
This is a computer-generated report for Data-LnArray-XS-0.11
on perl 5.43.5, created by CPAN-Reporter-1.2020.
Thank you for uploading your work to CPAN. Congratulations!
All tests were successful.
Sections of this report:
* Tester comments
* Program output
* Prerequisites
* Environment and other context
------------------------------
TESTER COMMENTS
------------------------------
Additional comments from tester:
this report is from an automated smoke testing program
and was not reviewed by a human for accuracy
------------------------------
PROGRAM OUTPUT
------------------------------
Output from '/usr/bin/make test':
"/export/home/cpan/bin/perl/bin/perl5.43.5" -MExtUtils::Command::MM -e 'cp_nonempty' -- lib/Data/LnArray/XS.bs blib/arch/auto/Data/LnArray/XS/XS.bs 644
PERL_DL_NONLAZY=1 "/export/home/cpan/bin/perl/bin/perl5.43.5" "-MExtUtils::Command::MM" "-MTest::Harness" "-e" "undef *Test::Harness::Switches; test_harness(0, 'blib/lib', 'blib/arch')" t/*.t
# Testing Data::LnArray::XS 0.11, Perl 5.043005, /export/home/cpan/bin/perl/bin/perl5.43.5
t/00-load.t ......... ok
t/01-length.t ....... ok
t/02-retrieve.t ..... ok
t/03-from.t ......... ok
t/04-of.t ........... ok
t/05-copyWithin.t ... ok
t/06-fill.t ......... ok
t/07-pop.t .......... ok
t/08-push.t ......... ok
t/09-reverse.t ...... ok
t/10-shift.t ........ ok
t/11-sort.t ......... ok
t/12-splice.t ....... ok
t/13-unshift.t ...... ok
t/14-concat.t ....... ok
t/15-filter.t ....... ok
t/16-includes.t ..... ok
t/17-indexOf.t ...... ok
t/18-join.t ......... ok
t/19-lastIndexOf.t .. ok
t/20-slice.t ........ ok
t/21-toString.t ..... ok
t/22-entries.t ...... ok
t/23-every.t ........ ok
t/24-find.t ......... ok
t/25-findIndex.t .... ok
t/26-keys.t ......... ok
t/27-map.t .......... ok
t/28-reduce.t ....... ok
t/29-reduceRight.t .. ok
t/30-some.t ......... ok
t/31-values.t ....... ok
t/32-forEach.t ...... ok
t/33-arr.t .......... ok
t/43-get.t .......... ok
t/44-set.t .......... ok
t/manifest.t ........ skipped: Author tests not required for installation
t/pod-coverage.t .... skipped: Author tests not required for installation
t/pod.t ............. skipped: Author tests not required for installation
All tests successful.
Files=39, Tests=92, 2 wallclock secs ( 0.10 usr 0.08 sys + 1.63 cusr 0.47 csys = 2.28 CPU)
Result: PASS
------------------------------
PREREQUISITES
------------------------------
Prerequisite modules loaded:
requires:
Module Need Have
------------------- ----- --------
Import::Export 1.00 1.02
perl 5.006 5.043005
build_requires:
Module Need Have
------------------- ----- --------
ExtUtils::MakeMaker 0 7.76
Test::More 0 1.302214
configure_requires:
Module Need Have
------------------- ----- --------
ExtUtils::MakeMaker 0 7.76
------------------------------
ENVIRONMENT AND OTHER CONTEXT
------------------------------
Environment variables:
AUTOMATED_TESTING = 1
CJG_PERL_COMMIT = e89128203f
DATE_MANIP_TEST_DM5 = 1
LANG = en_US.UTF-8
LC_ALL = C
NONINTERACTIVE_TESTING = 1
NO_NETWORK_TESTING = 1
PATH = /export/home/cpan/bin/perl/bin:/usr/bin:/usr/sbin:/sbin:/opt/ooce/bin:/usr/gnu/bin
PERL5LIB =
PERL5OPT =
PERL5_CPANPLUS_IS_RUNNING = 14394
PERL5_CPAN_IS_RUNNING = 14394
PERL_MM_USE_DEFAULT = 1
PERL_PERTURB_KEYS = 0
PERL_USE_UNSAFE_INC = 1
SHELL = /usr/bin/bash
TERM = screen
Perl special variables (and OS-specific diagnostics, for MSWin32):
$^X = /export/home/cpan/bin/perl/bin/perl5.43.5
$UID/$EUID = 101 / 101
$GID = 1 1
$EGID = 1 1
Perl module toolchain versions installed:
Module Have
------------------- --------
CPAN 2.38
CPAN::Meta 2.150010
Cwd 3.94
ExtUtils::CBuilder 0.280242
ExtUtils::Command 7.76
ExtUtils::Install 2.22
ExtUtils::MakeMaker 7.76
ExtUtils::Manifest 1.75
ExtUtils::ParseXS 3.60
File::Spec 3.94
JSON 4.10
JSON::PP 4.16
Module::Build 0.4234
Module::Signature n/a
Parse::CPAN::Meta 2.150010
Test2 1.302214
Test::Harness 3.52
Test::More 1.302214
YAML 1.31
YAML::Syck 1.36
version 0.9933
--
Summary of my perl5 (revision 5 version 43 subversion 5) configuration:
Commit id: e89128203ffb2dfab52ecaafaddefe3fd67e1ad3
Platform:
osname=solaris
osvers=2.11
archname=i86pc-solaris-64
uname='sunos cjg-omniosce 5.11 omnios-r151052-92934720d80 i86pc i386 i86pc '
config_args='-des -Dprefix=/export/home/cpan/bin/perl -Dscriptdir=/export/home/cpan/bin/perl/bin -Dusedevel -Duse64bitall -Dcc=gcc'
hint=recommended
useposix=true
d_sigaction=define
useithreads=undef
usemultiplicity=undef
use64bitint=define
use64bitall=define
uselongdouble=undef
usemymalloc=n
default_inc_excludes_dot=define
Compiler:
cc='gcc'
ccflags ='-m64 -fwrapv -fno-strict-aliasing -pipe -fstack-protector-strong -D_LARGEFILE_SOURCE -D_FILE_OFFSET_BITS=64 -D_FORTIFY_SOURCE=2'
optimize='-O'
cppflags='-m64 -fwrapv -fno-strict-aliasing -pipe -fstack-protector-strong'
ccversion=''
gccversion='14.2.0'
gccosandvers=''
intsize=4
longsize=8
ptrsize=8
doublesize=8
byteorder=12345678
doublekind=3
d_longlong=define
longlongsize=8
d_longdbl=define
longdblsize=16
longdblkind=3
ivtype='long'
ivsize=8
nvtype='double'
nvsize=8
Off_t='off_t'
lseeksize=8
alignbytes=8
prototype=define
Linker and Libraries:
ld='gcc'
ldflags =' -m64 -fstack-protector-strong -L/usr/gnu/lib '
libpth=/opt/gcc-14/lib /usr/lib /usr/gnu/lib /usr/ccs/lib
libs=-lpthread -lsocket -lnsl -ldl -lm -lc
perllibs=-lpthread -lsocket -lnsl -ldl -lm -lc
libc=/lib/libc.so
so=so
useshrplib=true
libperl=libperl.so
gnulibc_version=''
Dynamic Linking:
dlsrc=dl_dlopen.xs
dlext=so
d_dlsymun=undef
ccdlflags=' -R /export/home/cpan/bin/perl/lib/5.43.5/i86pc-solaris-64/CORE'
cccdlflags='-fPIC'
lddlflags=' -shared -m64 -L/usr/gnu/lib -fstack-protector-strong'
Characteristics of this binary (from libperl):
Compile-time options:
HAS_LONG_DOUBLE
HAS_STRTOLD
HAS_TIMES
PERLIO_LAYERS
PERL_COPY_ON_WRITE
PERL_DONT_CREATE_GVSV
PERL_HASH_FUNC_SIPHASH13
PERL_HASH_USE_SBOX32
PERL_MALLOC_WRAP
PERL_OP_PARENT
PERL_PRESERVE_IVUV
PERL_USE_DEVEL
PERL_USE_SAFE_PUTENV
USE_64_BIT_ALL
USE_64_BIT_INT
USE_LARGE_FILES
USE_LOCALE
USE_LOCALE_COLLATE
USE_LOCALE_CTYPE
USE_LOCALE_NUMERIC
USE_LOCALE_TIME
USE_PERLIO
USE_PERL_ATOF
Built under solaris
Compiled at Nov 9 2025 01:06:08
%ENV:
PERL5LIB=""
PERL5OPT=""
PERL5_CPANPLUS_IS_RUNNING="14394"
PERL5_CPAN_IS_RUNNING="14394"
PERL_MM_USE_DEFAULT="1"
PERL_PERTURB_KEYS="0"
PERL_USE_UNSAFE_INC="1"
@INC:
/export/home/cpan/bin/perl/lib/site_perl/5.43.5/i86pc-solaris-64
/export/home/cpan/bin/perl/lib/site_perl/5.43.5
/export/home/cpan/bin/perl/lib/5.43.5/i86pc-solaris-64
/export/home/cpan/bin/perl/lib/5.43.5
.