File-DataClass v0.73.1 Perl 5 v5.30.0 RC1 x86_64-linux

Status
Pass
From
Slaven Rezić (SREZIC)
Dist
File-DataClass v0.73.1
Platform
Perl 5 v5.30.0 RC1 x86_64-linux
Date
2019-05-13 21:38:21
ID
6e2f58f0-75c7-11e9-a85c-a6331f24ea8f
This distribution has been tested as part of the CPAN Testers
project, supporting the Perl programming language.  See
http://wiki.cpantesters.org/ for more information or email
questions to cpan-testers-discuss@perl.org


--
Dear Peter Flanigan,

This is a computer-generated report for File-DataClass-0.73.1
on perl 5.30.0, created by CPAN-Reporter-1.2018.

Thank you for uploading your work to CPAN.  Congratulations!
All tests were successful.

Sections of this report:

    * Tester comments
    * Program output
    * Prerequisites
    * Environment and other context

------------------------------
TESTER COMMENTS
------------------------------

Additional comments from tester:

none provided

------------------------------
PROGRAM OUTPUT
------------------------------

Output from './Build test':


OS: linux, Host: fedora-4gb-hel1-1

=== Environment variables ===

    $AUTHOR_TESTING                   undef
    $AUTOMATED_TESTING                undef
    $EXTENDED_TESTING                 undef
    $NONINTERACTIVE_TESTING           undef
    $PERL_CPAN_REPORTER_CONFIG        /var/tmp/cpansmoker-1023/2019051322/cpanreporter_000_config.ini
    $PERL_CR_SMOKER_CURRENT           undef
    $PERL5_CPAN_IS_RUNNING            12348
    $PERL5_CPANPLUS_IS_VERSION        undef
    $TEST_CRITIC                      undef
    $TEST_SPELLING                    undef

Versions for all modules listed in MYMETA.json (including optional ones):

=== Configure Requires ===

    Module          Want   Have
    ------------- ------ ------
    Module::Build 0.4004 0.4229
    version         0.88 0.9924

=== Build Requires ===

    Module          Want   Have
    ------------- ------ ------
    Module::Build 0.4004 0.4229
    version         0.88 0.9924

=== Test Requires ===

    Module             Want     Have
    ---------------- ------ --------
    Capture::Tiny      0.30     0.48
    File::Spec          any     3.78
    File::pushd        1.00    1.016
    Module::Build    0.4004   0.4229
    Module::Metadata    any 1.000036
    Path::Tiny        0.013    0.108
    Sys::Hostname       any     1.22
    Test::Deep        0.117    1.128
    Test::Requires     0.06     0.10
    Text::Diff         1.37     1.45
    version            0.88   0.9924

=== Test Recommends ===

    Module         Want     Have
    ---------- -------- --------
    CPAN::Meta 2.120900 2.150010

=== Runtime Requires ===

    Module                   Want     Have
    -------------------- -------- --------
    Cache::FastMmap          1.40     1.48
    Class::Null          2.110730 2.110730
    File::Path               2.09     2.16
    File::ReadBackwards      1.05     1.05
    Hash::Merge             0.200    0.300
    JSON::MaybeXS           1.003 1.004000
    Module::Pluggable         5.1      5.2
    Module::Runtime         0.014    0.016
    Moo                  2.000001 2.003004
    Sub::Install            0.928    0.928
    Subclass::Of            0.003    0.008
    Try::Tiny                0.22     0.30
    Type::Tiny           1.000002 1.004004
    Unexpected            v0.39.0    1.0.1
    boolean                  0.45     0.46
    namespace::autoclean     0.26     0.28
    namespace::clean         0.25     0.27

t/00report-metadata.t .. ok
t/02pod.t .............. skipped: POD test only for developers
t/03podcoverage.t ...... skipped: POD coverage test only for developers
t/05kwalitee.t ......... skipped: Kwalitee test only for developers
t/06yaml.t ............. skipped: YAML test only for developers
t/07podspelling.t ...... skipped: POD spelling test only for developers
t/10exception.t ........ ok
t/12types.t ............ ok
t/13functions.t ........ ok
t/15io.t ............... ok
t/17constraints.t ...... ok
t/20data-class.t ....... ok
t/21hash-merge.t ....... ok
t/50json.t ............. ok
All tests successful.
Files=14, Tests=198,  4 wallclock secs ( 0.07 usr  0.02 sys +  3.49 cusr  0.56 csys =  4.14 CPU)
Result: PASS

------------------------------
PREREQUISITES
------------------------------

Prerequisite modules loaded:

requires:

    Module               Need     Have    
    -------------------- -------- --------
    boolean              0.45     0.46    
    Cache::FastMmap      1.40     1.48    
    Class::Null          2.110730 2.110730
    File::Path           2.09     2.16    
    File::ReadBackwards  1.05     1.05    
    Hash::Merge          0.200    0.300   
    JSON::MaybeXS        1.003    1.004000
    Module::Pluggable    5.1      5.2     
    Module::Runtime      0.014    0.016   
    Moo                  2.000001 2.003004
    namespace::autoclean 0.26     0.28    
    namespace::clean     0.25     0.27    
    perl                 5.010001 5.030000
    Sub::Install         0.928    0.928   
    Subclass::Of         0.003    0.008   
    Try::Tiny            0.22     0.30    
    Type::Tiny           1.000002 1.004004
    Unexpected           v0.39.0  1.0.1   

build_requires:

    Module               Need     Have    
    -------------------- -------- --------
    Capture::Tiny        0.30     0.48    
    File::pushd          1.00     1.016   
    File::Spec           0        3.78    
    Module::Build        0.4004   0.4229  
    Module::Metadata     0        1.000036
    Path::Tiny           0.013    0.108   
    Sys::Hostname        0        1.22    
    Test::Deep           0.117    1.128   
    Test::Requires       0.06     0.10    
    Text::Diff           1.37     1.45    
    version              0.88     0.9924  

configure_requires:

    Module               Need     Have    
    -------------------- -------- --------
    Module::Build        0.4004   0.4229  
    version              0.88     0.9924  


------------------------------
ENVIRONMENT AND OTHER CONTEXT
------------------------------

Environment variables:

    LANG = en_US.UTF-8
    LC_ALL = de_DE.UTF-8
    PATH = /usr/local/bin:/usr/bin:/bin:/usr/local/sbin:/usr/sbin:/sbin:/home/cpansand/bin/linux-gnu:/home/cpansand/bin/sh:/home/cpansand/bin:/usr/games:/home/cpansand/devel:/home/eserte/src/srezic-misc/scripts
    PERL5LIB = 
    PERL5OPT = 
    PERL5_CPANPLUS_IS_RUNNING = 12348
    PERL5_CPAN_IS_RUNNING = 12348
    PERL5_CPAN_IS_RUNNING_IN_RECURSION = 12008,12348
    PERLDOC = -MPod::Perldoc::ToTextOverstrike
    PERL_BATCH = yes
    PERL_CANARY_STABILITY_NOPROMPT = 1
    PERL_CPAN_REPORTER_CONFIG = /var/tmp/cpansmoker-1023/2019051322/cpanreporter_000_config.ini
    PERL_EXTUTILS_AUTOINSTALL = --defaultdeps
    PERL_PARALLEL_SMOKER = yes
    PERL_USE_UNSAFE_INC = 1
    SHELL = /usr/bin/zsh
    TERM = screen
    TMPDIR = /var/tmp/cpansmoker-1023/2019051322

Perl special variables (and OS-specific diagnostics, for MSWin32):

    $^X = /opt/perl-5.30.0-RC1/bin/perl
    $UID/$EUID = 1023 / 1023
    $GID = 1023 1023
    $EGID = 1023 1023

Perl module toolchain versions installed:

    Module              Have    
    ------------------- --------
    CPAN                2.26    
    CPAN::Meta          2.150010
    Cwd                 3.78    
    ExtUtils::CBuilder  0.280231
    ExtUtils::Command   7.36    
    ExtUtils::Install   2.14    
    ExtUtils::MakeMaker 7.36    
    ExtUtils::Manifest  1.72    
    ExtUtils::ParseXS   3.40    
    File::Spec          3.78    
    JSON                4.02    
    JSON::PP            4.02    
    Module::Build       0.4229  
    Module::Signature   0.83    
    Parse::CPAN::Meta   2.150010
    Test::Harness       3.42    
    Test::More          1.302164
    YAML                1.29    
    YAML::Syck          1.31    
    version             0.9924  


--

Summary of my perl5 (revision 5 version 30 subversion 0) configuration:
   
  Platform:
    osname=linux
    osvers=5.0.13-100.fc28.x86_64
    archname=x86_64-linux
    uname='linux fedora-4gb-hel1-1 5.0.13-100.fc28.x86_64 #1 smp mon may 6 01:54:55 utc 2019 x86_64 x86_64 x86_64 gnulinux '
    config_args='-ds -e -Dprefix=/opt/perl-5.30.0-RC1 -Dcf_email=srezic@cpan.org'
    hint=recommended
    useposix=true
    d_sigaction=define
    useithreads=undef
    usemultiplicity=undef
    use64bitint=define
    use64bitall=define
    uselongdouble=undef
    usemymalloc=n
    default_inc_excludes_dot=define
    bincompat5005=undef
  Compiler:
    cc='cc'
    ccflags ='-fwrapv -fno-strict-aliasing -pipe -fstack-protector-strong -I/usr/local/include -D_LARGEFILE_SOURCE -D_FILE_OFFSET_BITS=64 -D_FORTIFY_SOURCE=2'
    optimize='-O2'
    cppflags='-fwrapv -fno-strict-aliasing -pipe -fstack-protector-strong -I/usr/local/include'
    ccversion=''
    gccversion='8.3.1 20190223 (Red Hat 8.3.1-2)'
    gccosandvers=''
    intsize=4
    longsize=8
    ptrsize=8
    doublesize=8
    byteorder=12345678
    doublekind=3
    d_longlong=define
    longlongsize=8
    d_longdbl=define
    longdblsize=16
    longdblkind=3
    ivtype='long'
    ivsize=8
    nvtype='double'
    nvsize=8
    Off_t='off_t'
    lseeksize=8
    alignbytes=8
    prototype=define
  Linker and Libraries:
    ld='cc'
    ldflags =' -fstack-protector-strong -L/usr/local/lib'
    libpth=/usr/local/lib /usr/lib /lib/../lib64 /usr/lib/../lib64 /lib /lib64 /usr/lib64 /usr/local/lib64
    libs=-lpthread -ldb -ldl -lm -lcrypt -lutil -lc
    perllibs=-lpthread -ldl -lm -lcrypt -lutil -lc
    libc=libc-2.27.so
    so=so
    useshrplib=false
    libperl=libperl.a
    gnulibc_version='2.27'
  Dynamic Linking:
    dlsrc=dl_dlopen.xs
    dlext=so
    d_dlsymun=undef
    ccdlflags='-Wl,-E'
    cccdlflags='-fPIC'
    lddlflags='-shared -O2 -L/usr/local/lib -fstack-protector-strong'


Characteristics of this binary (from libperl): 
  Compile-time options:
    HAS_TIMES
    PERLIO_LAYERS
    PERL_COPY_ON_WRITE
    PERL_DONT_CREATE_GVSV
    PERL_MALLOC_WRAP
    PERL_OP_PARENT
    PERL_PRESERVE_IVUV
    USE_64_BIT_ALL
    USE_64_BIT_INT
    USE_LARGE_FILES
    USE_LOCALE
    USE_LOCALE_COLLATE
    USE_LOCALE_CTYPE
    USE_LOCALE_NUMERIC
    USE_LOCALE_TIME
    USE_PERLIO
    USE_PERL_ATOF
  Locally applied patches:
    RC1
  Built under linux
  Compiled at May 12 2019 18:14:20
  %ENV:
    PERL5LIB=""
    PERL5OPT=""
    PERL5_CPANPLUS_IS_RUNNING="12348"
    PERL5_CPAN_IS_RUNNING="12348"
    PERL5_CPAN_IS_RUNNING_IN_RECURSION="12008,12348"
    PERLDOC="-MPod::Perldoc::ToTextOverstrike"
    PERL_BATCH="yes"
    PERL_CANARY_STABILITY_NOPROMPT="1"
    PERL_CPAN_REPORTER_CONFIG="/var/tmp/cpansmoker-1023/2019051322/cpanreporter_000_config.ini"
    PERL_EXTUTILS_AUTOINSTALL="--defaultdeps"
    PERL_PARALLEL_SMOKER="yes"
    PERL_USE_UNSAFE_INC="1"
  @INC:
    /opt/perl-5.30.0-RC1/lib/site_perl/5.30.0/x86_64-linux
    /opt/perl-5.30.0-RC1/lib/site_perl/5.30.0
    /opt/perl-5.30.0-RC1/lib/5.30.0/x86_64-linux
    /opt/perl-5.30.0-RC1/lib/5.30.0
    .