Struct-Diff v0.96 Perl 5 v5.24.4 x86_64-linux-thread-multi-ld

Status
Pass
From
Nigel Horne
Dist
Struct-Diff v0.96
Platform
Perl 5 v5.24.4 x86_64-linux-thread-multi-ld
Date
2018-05-08 22:44:56
ID
6e2d2dfc-5311-11e8-9da6-f703c768dc7a
This distribution has been tested as part of the CPAN Testers
project, supporting the Perl programming language.  See
http://wiki.cpantesters.org/ for more information or email
questions to cpan-testers-discuss@perl.org


--
Dear Michael Samoglyadov,

This is a computer-generated report for Struct-Diff-0.96
on perl 5.24.4, created by CPAN-Reporter-1.2018.

Thank you for uploading your work to CPAN.  Congratulations!
All tests were successful.

Sections of this report:

    * Tester comments
    * Program output
    * Prerequisites
    * Environment and other context

------------------------------
TESTER COMMENTS
------------------------------

Additional comments from tester:

this report is from an automated smoke testing program
and was not reviewed by a human for accuracy

------------------------------
PROGRAM OUTPUT
------------------------------

Output from '/usr/bin/make test':

PERL_DL_NONLAZY=1 "/home/njh/perl5/perlbrew/perls/perl-5.24.4-thread-multi-ld-64all/bin/perl5.24.4" "-MExtUtils::Command::MM" "-MTest::Harness" "-e" "undef *Test::Harness::Switches; test_harness(0, 'blib/lib', 'blib/arch')" t/*.t
# Testing Struct::Diff 0.96, Perl 5.024004, /home/njh/perl5/perlbrew/perls/perl-5.24.4-thread-multi-ld-64all/bin/perl5.24.4
t/_load.t ......... ok
t/manifest.t ...... skipped: Author tests not required for installation
t/pod-coverage.t .. skipped: Test::Pod::Coverage 1.08 required for testing POD coverage
t/pod.t ........... skipped: Test::Pod 1.22 required for testing POD
t/list_diff.t ..... ok
t/mixed.t ......... ok
t/blessed.t ....... ok
t/split_diff.t .... ok
t/coderefs.t ...... ok
t/numbers.t ....... ok
t/strings.t ....... ok
t/references.t .... ok
t/valid_diff.t .... ok
t/undefs.t ........ ok
t/regexps.t ....... ok
t/hashes.t ........ ok
t/arrays.t ........ ok
All tests successful.
Files=17, Tests=425,  0 wallclock secs ( 0.12 usr  0.01 sys +  0.68 cusr  0.11 csys =  0.92 CPU)
Result: PASS

------------------------------
PREREQUISITES
------------------------------

Prerequisite modules loaded:

requires:

    Module              Need  Have    
    ------------------- ----- --------
    Algorithm::Diff     1.19  1.1903  
    Exporter            0     5.72    
    parent              0     0.234   
    perl                5.008 5.024004
    Scalar::Util        0     1.42_02 
    Storable            2.05  2.56_01 
    strict              0     1.11    
    warnings            0     1.36    

build_requires:

    Module              Need  Have    
    ------------------- ----- --------
    Clone               0     0.39    
    Data::Dumper        0     2.160   
    Test::More          0     1.001014

configure_requires:

    Module              Need  Have    
    ------------------- ----- --------
    ExtUtils::MakeMaker 0     7.10_02 


------------------------------
ENVIRONMENT AND OTHER CONTEXT
------------------------------

Environment variables:

    AUTOMATED_TESTING = 1
    HARNESS_OPTIONS = j10
    LANG = en_GB.UTF-8
    PATH = /home/njh/perl5/perlbrew/bin:/home/njh/perl5/perlbrew/perls/perl-5.24.4-thread-multi-ld-64all/bin:src/njh/smoker/bin:/usr/bin:/bin
    PERL5LIB = /tmp/build/Clone-0.39-GJCkG1/blib/arch:/tmp/build/Clone-0.39-GJCkG1/blib/lib:/tmp/build/Log-Log4Cli-0.21-9zKMNy/blib/arch:/tmp/build/Log-Log4Cli-0.21-9zKMNy/blib/lib:/tmp/build/YAML-LibYAML-0.69-H6s_mS/blib/arch:/tmp/build/YAML-LibYAML-0.69-H6s_mS/blib/lib:/tmp/build/Test-File-Contents-0.23-pyU_hl/blib/arch:/tmp/build/Test-File-Contents-0.23-pyU_hl/blib/lib:/tmp/build/Hash-Merge-Extra-0.06-69o6Lh/blib/arch:/tmp/build/Hash-Merge-Extra-0.06-69o6Lh/blib/lib:/tmp/build/Hash-Merge-0.300-NCX9oR/blib/arch:/tmp/build/Hash-Merge-0.300-NCX9oR/blib/lib:/tmp/build/Clone-Choose-0.010-uxZTR7/blib/arch:/tmp/build/Clone-Choose-0.010-uxZTR7/blib/lib:/tmp/build/Test-Without-Module-0.20-Hln5rz/blib/arch:/tmp/build/Test-Without-Module-0.20-Hln5rz/blib/lib:/tmp/build/UNIVERSAL-require-0.18-DauklY/blib/arch:/tmp/build/UNIVERSAL-require-0.18-DauklY/blib/lib:/tmp/build/File-Slurp-9999.19-xFi3x0/blib/arch:/tmp/build/File-Slurp-9999.19-xFi3x0/blib/lib:/tmp/build/JSON-2.97001-xMSBxI/blib/arch:/tmp/build/JSON-2.97001-xMSBxI/blib/lib:/tmp/build/Device-SerialPort-1.04-Ay33AE/blib/arch:/tmp/build/Device-SerialPort-1.04-Ay33AE/blib/lib:/tmp/build/Module-Build-0.4224-vvNxcP/blib/arch:/tmp/build/Module-Build-0.4224-vvNxcP/blib/lib
    PERL5OPT = 
    PERL5_CPANPLUS_IS_RUNNING = 28089
    PERL5_CPAN_IS_RUNNING = 28089
    PERLBREW_HOME = /home/njh/.perlbrew
    PERLBREW_MANPATH = /home/njh/perl5/perlbrew/perls/perl-5.24.4-thread-multi-ld-64all/man
    PERLBREW_PATH = /home/njh/perl5/perlbrew/bin:/home/njh/perl5/perlbrew/perls/perl-5.24.4-thread-multi-ld-64all/bin
    PERLBREW_PERL = perl-5.24.4-thread-multi-ld-64all
    PERLBREW_ROOT = /home/njh/perl5/perlbrew
    PERLBREW_SHELLRC_VERSION = 0.82
    PERLBREW_VERSION = 0.82
    SHELL = /bin/sh
    TMPDIR = /tmp/testwrapper.28079

Perl special variables (and OS-specific diagnostics, for MSWin32):

    $^X = /home/njh/perl5/perlbrew/perls/perl-5.24.4-thread-multi-ld-64all/bin/perl5.24.4
    $UID/$EUID = 1000 / 1000
    $GID = 1000 4 24 25 29 30 44 46 107 112 118 1000
    $EGID = 1000 4 24 25 29 30 44 46 107 112 118 1000

Perl module toolchain versions installed:

    Module              Have      
    ------------------- ----------
    CPAN                2.11_01   
    CPAN::Meta          2.150005  
    Cwd                 3.63_01   
    ExtUtils::CBuilder  0.280225  
    ExtUtils::Command   7.10_02   
    ExtUtils::Install   2.04      
    ExtUtils::MakeMaker 7.10_02   
    ExtUtils::Manifest  1.70      
    ExtUtils::ParseXS   3.31      
    File::Spec          3.63_01   
    JSON                2.97001   
    JSON::PP            2.27300_01
    Module::Build       0.4224    
    Module::Signature   n/a       
    Parse::CPAN::Meta   1.4417_001
    Test::Harness       3.36_01   
    Test::More          1.001014  
    YAML                1.24      
    YAML::Syck          n/a       
    version             0.9916    


--

Summary of my perl5 (revision 5 version 24 subversion 4) configuration:
   
  Platform:
    osname=linux, osvers=4.15.0-3-amd64, archname=x86_64-linux-thread-multi-ld
    uname='linux microcenter 4.15.0-3-amd64 #1 smp debian 4.15.17-1 (2018-04-19) x86_64 gnulinux '
    config_args='-de -Dprefix=/home/njh/perl5/perlbrew/perls/perl-5.24.4-thread-multi-ld-64all -Dusedevel -Duselongdouble -Duse64bitall -Dusethreads -Dusemultiplicity -Accflags= -Aeval:scriptdir=/home/njh/perl5/perlbrew/perls/perl-5.24.4-thread-multi-ld-64all/bin'
    hint=recommended, useposix=true, d_sigaction=define
    useithreads=define, usemultiplicity=define
    use64bitint=define, use64bitall=define, uselongdouble=define
    usemymalloc=n, bincompat5005=undef
  Compiler:
    cc='cc', ccflags ='-D_REENTRANT -D_GNU_SOURCE -fwrapv -fno-strict-aliasing -pipe -fstack-protector-strong -I/usr/local/include -D_LARGEFILE_SOURCE -D_FILE_OFFSET_BITS=64 -D_FORTIFY_SOURCE=2',
    optimize='-O2',
    cppflags='-D_REENTRANT -D_GNU_SOURCE -fwrapv -fno-strict-aliasing -pipe -fstack-protector-strong -I/usr/local/include'
    ccversion='', gccversion='7.3.0', gccosandvers=''
    intsize=4, longsize=8, ptrsize=8, doublesize=8, byteorder=12345678, doublekind=3
    d_longlong=define, longlongsize=8, d_longdbl=define, longdblsize=16, longdblkind=3
    ivtype='long', ivsize=8, nvtype='long double', nvsize=16, Off_t='off_t', lseeksize=8
    alignbytes=16, prototype=define
  Linker and Libraries:
    ld='cc', ldflags =' -fstack-protector-strong -L/usr/local/lib'
    libpth=/usr/local/lib /usr/lib/gcc/x86_64-linux-gnu/7/include-fixed /usr/include/x86_64-linux-gnu /usr/lib /lib/x86_64-linux-gnu /lib/../lib /usr/lib/x86_64-linux-gnu /usr/lib/../lib /lib
    libs=-lpthread -lnsl -lgdbm -ldb -ldl -lm -lcrypt -lutil -lc
    perllibs=-lpthread -lnsl -ldl -lm -lcrypt -lutil -lc
    libc=libc-2.27.so, so=so, useshrplib=false, libperl=libperl.a
    gnulibc_version='2.27'
  Dynamic Linking:
    dlsrc=dl_dlopen.xs, dlext=so, d_dlsymun=undef, ccdlflags='-Wl,-E'
    cccdlflags='-fPIC', lddlflags='-shared -O2 -L/usr/local/lib -fstack-protector-strong'


Characteristics of this binary (from libperl): 
  Compile-time options: HAS_TIMES MULTIPLICITY PERLIO_LAYERS
                        PERL_COPY_ON_WRITE PERL_DONT_CREATE_GVSV
                        PERL_HASH_FUNC_ONE_AT_A_TIME_HARD
                        PERL_IMPLICIT_CONTEXT PERL_MALLOC_WRAP
                        PERL_PRESERVE_IVUV PERL_USE_DEVEL USE_64_BIT_ALL
                        USE_64_BIT_INT USE_ITHREADS USE_LARGE_FILES
                        USE_LOCALE USE_LOCALE_COLLATE USE_LOCALE_CTYPE
                        USE_LOCALE_NUMERIC USE_LOCALE_TIME USE_LONG_DOUBLE
                        USE_PERLIO USE_PERL_ATOF USE_REENTRANT_API
  Built under linux
  Compiled at May  4 2018 03:09:13
  %ENV:
    PERL5LIB="/tmp/build/Clone-0.39-GJCkG1/blib/arch:/tmp/build/Clone-0.39-GJCkG1/blib/lib:/tmp/build/Log-Log4Cli-0.21-9zKMNy/blib/arch:/tmp/build/Log-Log4Cli-0.21-9zKMNy/blib/lib:/tmp/build/YAML-LibYAML-0.69-H6s_mS/blib/arch:/tmp/build/YAML-LibYAML-0.69-H6s_mS/blib/lib:/tmp/build/Test-File-Contents-0.23-pyU_hl/blib/arch:/tmp/build/Test-File-Contents-0.23-pyU_hl/blib/lib:/tmp/build/Hash-Merge-Extra-0.06-69o6Lh/blib/arch:/tmp/build/Hash-Merge-Extra-0.06-69o6Lh/blib/lib:/tmp/build/Hash-Merge-0.300-NCX9oR/blib/arch:/tmp/build/Hash-Merge-0.300-NCX9oR/blib/lib:/tmp/build/Clone-Choose-0.010-uxZTR7/blib/arch:/tmp/build/Clone-Choose-0.010-uxZTR7/blib/lib:/tmp/build/Test-Without-Module-0.20-Hln5rz/blib/arch:/tmp/build/Test-Without-Module-0.20-Hln5rz/blib/lib:/tmp/build/UNIVERSAL-require-0.18-DauklY/blib/arch:/tmp/build/UNIVERSAL-require-0.18-DauklY/blib/lib:/tmp/build/File-Slurp-9999.19-xFi3x0/blib/arch:/tmp/build/File-Slurp-9999.19-xFi3x0/blib/lib:/tmp/build/JSON-2.97001-xMSBxI/blib/arch:/tmp/build/JSON-2.97001-xMSBxI/blib/lib:/tmp/build/Device-SerialPort-1.04-Ay33AE/blib/arch:/tmp/build/Device-SerialPort-1.04-Ay33AE/blib/lib:/tmp/build/Module-Build-0.4224-vvNxcP/blib/arch:/tmp/build/Module-Build-0.4224-vvNxcP/blib/lib"
    PERL5OPT=""
    PERL5_CPANPLUS_IS_RUNNING="28089"
    PERL5_CPAN_IS_RUNNING="28089"
    PERLBREW_HOME="/home/njh/.perlbrew"
    PERLBREW_MANPATH="/home/njh/perl5/perlbrew/perls/perl-5.24.4-thread-multi-ld-64all/man"
    PERLBREW_PATH="/home/njh/perl5/perlbrew/bin:/home/njh/perl5/perlbrew/perls/perl-5.24.4-thread-multi-ld-64all/bin"
    PERLBREW_PERL="perl-5.24.4-thread-multi-ld-64all"
    PERLBREW_ROOT="/home/njh/perl5/perlbrew"
    PERLBREW_SHELLRC_VERSION="0.82"
    PERLBREW_VERSION="0.82"
  @INC:
    /tmp/build/Clone-0.39-GJCkG1/blib/arch
    /tmp/build/Clone-0.39-GJCkG1/blib/lib
    /tmp/build/Log-Log4Cli-0.21-9zKMNy/blib/arch
    /tmp/build/Log-Log4Cli-0.21-9zKMNy/blib/lib
    /tmp/build/YAML-LibYAML-0.69-H6s_mS/blib/arch
    /tmp/build/YAML-LibYAML-0.69-H6s_mS/blib/lib
    /tmp/build/Test-File-Contents-0.23-pyU_hl/blib/arch
    /tmp/build/Test-File-Contents-0.23-pyU_hl/blib/lib
    /tmp/build/Hash-Merge-Extra-0.06-69o6Lh/blib/arch
    /tmp/build/Hash-Merge-Extra-0.06-69o6Lh/blib/lib
    /tmp/build/Hash-Merge-0.300-NCX9oR/blib/arch
    /tmp/build/Hash-Merge-0.300-NCX9oR/blib/lib
    /tmp/build/Clone-Choose-0.010-uxZTR7/blib/arch
    /tmp/build/Clone-Choose-0.010-uxZTR7/blib/lib
    /tmp/build/Test-Without-Module-0.20-Hln5rz/blib/arch
    /tmp/build/Test-Without-Module-0.20-Hln5rz/blib/lib
    /tmp/build/UNIVERSAL-require-0.18-DauklY/blib/arch
    /tmp/build/UNIVERSAL-require-0.18-DauklY/blib/lib
    /tmp/build/File-Slurp-9999.19-xFi3x0/blib/arch
    /tmp/build/File-Slurp-9999.19-xFi3x0/blib/lib
    /tmp/build/JSON-2.97001-xMSBxI/blib/arch
    /tmp/build/JSON-2.97001-xMSBxI/blib/lib
    /tmp/build/Device-SerialPort-1.04-Ay33AE/blib/arch
    /tmp/build/Device-SerialPort-1.04-Ay33AE/blib/lib
    /tmp/build/Module-Build-0.4224-vvNxcP/blib/arch
    /tmp/build/Module-Build-0.4224-vvNxcP/blib/lib
    /home/njh/perl5/perlbrew/perls/perl-5.24.4-thread-multi-ld-64all/lib/site_perl/5.24.4/x86_64-linux-thread-multi-ld
    /home/njh/perl5/perlbrew/perls/perl-5.24.4-thread-multi-ld-64all/lib/site_perl/5.24.4
    /home/njh/perl5/perlbrew/perls/perl-5.24.4-thread-multi-ld-64all/lib/5.24.4/x86_64-linux-thread-multi-ld
    /home/njh/perl5/perlbrew/perls/perl-5.24.4-thread-multi-ld-64all/lib/5.24.4
    .