Back
From: metabase:user:314402c4-2aae-11df-837a-5e0a49663a4f
Subject: PASS XML-RSS-1.56 v5.22.1 RC2 GNU/Linux
Date: 2015-12-04T22:14:47Z
This distribution has been tested as part of the CPAN Testers
project, supporting the Perl programming language. See
http://wiki.cpantesters.org/ for more information or email
questions to cpan-testers-discuss@perl.org
--
Dear Shlomi Fish,
This is a computer-generated report for XML-RSS-1.56
on perl 5.22.1, created by CPAN-Reporter-1.2015.
Thank you for uploading your work to CPAN. Congratulations!
All tests were successful.
Sections of this report:
* Tester comments
* Program output
* Prerequisites
* Environment and other context
------------------------------
TESTER COMMENTS
------------------------------
Additional comments from tester:
none provided
------------------------------
PROGRAM OUTPUT
------------------------------
Output from './Build test':
t/load.t .............................. ok
t/pod.t ............................... ok
t/cpan-changes.t ...................... ok
t/style-trailing-space.t .............. skipped: Test::TrailingSpace required for trailing space test.
t/version.t ........................... ok
t/render-upon-init.t .................. ok
t/encoding.t .......................... ok
t/0.9-generate.t ...................... ok
t/0.9-parse.t ......................... ok
t/0.9-strict.t ........................ ok
t/0.91-parse.t ........................ ok
t/1.0-generate.t ...................... ok
t/1.0-gen-errors-on-missing-fields.t .. ok
t/1.0-parse.t ......................... ok
t/1.0-parse-2.t ....................... ok
t/1.0-parse-exotic.t .................. ok
t/2.0-generate.t ...................... ok
t/2.0-modules.t ....................... ok
t/2.0-permalink.t ..................... ok
t/2.0-parse.t ......................... ok
t/2.0-parse-cloud.t ................... ok
t/2.0-parse-2.t ....................... ok
t/2.0-parse-self.t .................... ok
t/2.0-wo-title.t ...................... ok
t/1.0-to-2.0.t ........................ ok
t/auto_add_modules.t .................. ok
t/enclosures.t ........................ ok
t/enclosures2.t ....................... ok
t/enclosures-multi.t .................. ok
t/encode-output.t ..................... ok
t/test-generated-items.t .............. ok
t/pod-coverage.t ...................... ok
t/rss2-gt-encoding.t .................. ok
t/charset1.t .......................... ok
t/xml-header.t ........................ ok
t/add-item-insert-vs-append.t ......... ok
t/guid.t .............................. ok
t/xml-base.t .......................... ok
t/save-while-in-taint-mode.t .......... ok
All tests successful.
Files=39, Tests=458, 76 wallclock secs ( 0.56 usr 0.09 sys + 20.81 cusr 1.28 csys = 22.74 CPU)
Result: PASS
------------------------------
PREREQUISITES
------------------------------
Prerequisite modules loaded:
requires:
Module Need Have
------------------------ ----- --------
DateTime 0 1.21
DateTime::Format::Mail 0 0.402
DateTime::Format::W3CDTF 0 0.06
HTML::Entities 0 3.69
perl 5.008 5.022001
XML::Parser 2.23 2.44
build_requires:
Module Need Have
------------------------ ----- --------
Test::Manifest 0.9 2.02
Test::More 0 1.001014
configure_requires:
Module Need Have
------------------------ ----- --------
Module::Build 0.36 0.4214
------------------------------
ENVIRONMENT AND OTHER CONTEXT
------------------------------
Environment variables:
LANG = en_US.UTF-8
LANGUAGE = en_US:en
PATH = /usr/local/bin:/usr/bin:/bin:/usr/local/sbin:/usr/sbin:/sbin:/home/cpansand/bin/linux-gnu:/home/cpansand/bin/sh:/home/cpansand/bin:/usr/games:/home/cpansand/devel:/home/eserte/src/srezic-misc/scripts
PERL5LIB = /home/cpansand/.cpan/build/2015120421/DateTime-Format-Mail-0.402-KubbVL/blib/arch:/home/cpansand/.cpan/build/2015120421/DateTime-Format-Mail-0.402-KubbVL/blib/lib:/home/cpansand/.cpan/build/2015120421/Test-Manifest-2.02-vixIbM/blib/arch:/home/cpansand/.cpan/build/2015120421/Test-Manifest-2.02-vixIbM/blib/lib:/home/cpansand/.cpan/build/2015120421/XML-LibXSLT-1.94-KcFa_S/blib/arch:/home/cpansand/.cpan/build/2015120421/XML-LibXSLT-1.94-KcFa_S/blib/lib:/home/cpansand/.cpan/build/2015120421/HTTP-Lite-2.44-_uj0SR/blib/arch:/home/cpansand/.cpan/build/2015120421/HTTP-Lite-2.44-_uj0SR/blib/lib
PERL5OPT =
PERL5_CPANPLUS_IS_RUNNING = 11487
PERL5_CPAN_IS_RUNNING = 11487
PERL5_CPAN_IS_RUNNING_IN_RECURSION = 8987,11487
PERLDOC = -MPod::Perldoc::ToTextOverstrike
PERL_BATCH = yes
PERL_CANARY_STABILITY_NOPROMPT = 1
PERL_CPAN_REPORTER_CONFIG = /run/user/1023/cpansmoker/2015120421/cpanreporter_002_config.ini
PERL_EXTUTILS_AUTOINSTALL = --defaultdeps
SHELL = /bin/zsh
TERM = screen
TMPDIR = /run/user/1023/cpansmoker/2015120421
Perl special variables (and OS-specific diagnostics, for MSWin32):
$^X = /opt/perl-5.22.1-RC2/bin/perl
$UID/$EUID = 1023 / 1023
$GID = 1023 1023
$EGID = 1023 1023
Perl module toolchain versions installed:
Module Have
------------------- --------
CPAN 2.11
CPAN::Meta 2.150005
Cwd 3.56
ExtUtils::CBuilder 0.280221
ExtUtils::Command 1.20
ExtUtils::Install 2.04
ExtUtils::MakeMaker 7.04_01
ExtUtils::Manifest 1.70
ExtUtils::ParseXS 3.28
File::Spec 3.56
JSON 2.90
JSON::PP 2.27300
Module::Build 0.4214
Module::Signature n/a
Parse::CPAN::Meta 1.4414
Test::Harness 3.35
Test::More 1.001014
YAML 1.15
YAML::Syck 1.29
version 0.9909
--
Summary of my perl5 (revision 5 version 22 subversion 1) configuration:
Platform:
osname=linux, osvers=3.16.0-4-amd64, archname=x86_64-linux
uname='linux cvrsnica-jessie 3.16.0-4-amd64 #1 smp debian 3.16.7-ckt9-3~deb8u1 (2015-04-24) x86_64 gnulinux '
config_args='-ds -e -Dprefix=/opt/perl-5.22.1-RC2 -Dcf_email=srezic@cpan.org'
hint=recommended, useposix=true, d_sigaction=define
useithreads=undef, usemultiplicity=undef
use64bitint=define, use64bitall=define, uselongdouble=undef
usemymalloc=n, bincompat5005=undef
Compiler:
cc='cc', ccflags ='-fwrapv -fno-strict-aliasing -pipe -fstack-protector-strong -I/usr/local/include -D_LARGEFILE_SOURCE -D_FILE_OFFSET_BITS=64 -D_FORTIFY_SOURCE=2',
optimize='-O2',
cppflags='-fwrapv -fno-strict-aliasing -pipe -fstack-protector-strong -I/usr/local/include'
ccversion='', gccversion='4.9.2', gccosandvers=''
intsize=4, longsize=8, ptrsize=8, doublesize=8, byteorder=12345678, doublekind=3
d_longlong=define, longlongsize=8, d_longdbl=define, longdblsize=16, longdblkind=3
ivtype='long', ivsize=8, nvtype='double', nvsize=8, Off_t='off_t', lseeksize=8
alignbytes=8, prototype=define
Linker and Libraries:
ld='cc', ldflags =' -fstack-protector-strong -L/usr/local/lib'
libpth=/usr/local/lib /usr/lib/gcc/x86_64-linux-gnu/4.9/include-fixed /usr/include/x86_64-linux-gnu /usr/lib /lib/x86_64-linux-gnu /lib/../lib /usr/lib/x86_64-linux-gnu /usr/lib/../lib /lib
libs=-lpthread -lnsl -lgdbm -ldb -ldl -lm -lcrypt -lutil -lc -lgdbm_compat
perllibs=-lpthread -lnsl -ldl -lm -lcrypt -lutil -lc
libc=libc-2.19.so, so=so, useshrplib=false, libperl=libperl.a
gnulibc_version='2.19'
Dynamic Linking:
dlsrc=dl_dlopen.xs, dlext=so, d_dlsymun=undef, ccdlflags='-Wl,-E'
cccdlflags='-fPIC', lddlflags='-shared -O2 -L/usr/local/lib -fstack-protector-strong'
Characteristics of this binary (from libperl):
Compile-time options: HAS_TIMES PERLIO_LAYERS PERL_DONT_CREATE_GVSV
PERL_HASH_FUNC_ONE_AT_A_TIME_HARD PERL_MALLOC_WRAP
PERL_NEW_COPY_ON_WRITE PERL_PRESERVE_IVUV
USE_64_BIT_ALL USE_64_BIT_INT USE_LARGE_FILES
USE_LOCALE USE_LOCALE_COLLATE USE_LOCALE_CTYPE
USE_LOCALE_NUMERIC USE_LOCALE_TIME USE_PERLIO
USE_PERL_ATOF
Locally applied patches:
RC2
Built under linux
Compiled at Nov 30 2015 08:59:22
%ENV:
PERL5LIB="/home/cpansand/.cpan/build/2015120421/DateTime-Format-Mail-0.402-KubbVL/blib/arch:/home/cpansand/.cpan/build/2015120421/DateTime-Format-Mail-0.402-KubbVL/blib/lib:/home/cpansand/.cpan/build/2015120421/Test-Manifest-2.02-vixIbM/blib/arch:/home/cpansand/.cpan/build/2015120421/Test-Manifest-2.02-vixIbM/blib/lib:/home/cpansand/.cpan/build/2015120421/XML-LibXSLT-1.94-KcFa_S/blib/arch:/home/cpansand/.cpan/build/2015120421/XML-LibXSLT-1.94-KcFa_S/blib/lib:/home/cpansand/.cpan/build/2015120421/HTTP-Lite-2.44-_uj0SR/blib/arch:/home/cpansand/.cpan/build/2015120421/HTTP-Lite-2.44-_uj0SR/blib/lib"
PERL5OPT=""
PERL5_CPANPLUS_IS_RUNNING="11487"
PERL5_CPAN_IS_RUNNING="11487"
PERL5_CPAN_IS_RUNNING_IN_RECURSION="8987,11487"
PERLDOC="-MPod::Perldoc::ToTextOverstrike"
PERL_BATCH="yes"
PERL_CANARY_STABILITY_NOPROMPT="1"
PERL_CPAN_REPORTER_CONFIG="/run/user/1023/cpansmoker/2015120421/cpanreporter_002_config.ini"
PERL_EXTUTILS_AUTOINSTALL="--defaultdeps"
@INC:
/home/cpansand/.cpan/build/2015120421/DateTime-Format-Mail-0.402-KubbVL/blib/arch
/home/cpansand/.cpan/build/2015120421/DateTime-Format-Mail-0.402-KubbVL/blib/lib
/home/cpansand/.cpan/build/2015120421/Test-Manifest-2.02-vixIbM/blib/arch
/home/cpansand/.cpan/build/2015120421/Test-Manifest-2.02-vixIbM/blib/lib
/home/cpansand/.cpan/build/2015120421/XML-LibXSLT-1.94-KcFa_S/blib/arch
/home/cpansand/.cpan/build/2015120421/XML-LibXSLT-1.94-KcFa_S/blib/lib
/home/cpansand/.cpan/build/2015120421/HTTP-Lite-2.44-_uj0SR/blib/arch
/home/cpansand/.cpan/build/2015120421/HTTP-Lite-2.44-_uj0SR/blib/lib
/opt/perl-5.22.1-RC2/lib/site_perl/5.22.1/x86_64-linux
/opt/perl-5.22.1-RC2/lib/site_perl/5.22.1
/opt/perl-5.22.1-RC2/lib/5.22.1/x86_64-linux
/opt/perl-5.22.1-RC2/lib/5.22.1
.