Dependencies-Searcher v0.066_005 Perl 5 v5.27.6 x86_64-linux
- Status
- Pass
- From
- Andreas J. König (ANDK)
- Dist
-
Dependencies-Searcher v0.066_005
- Platform
- Perl 5 v5.27.6 x86_64-linux
- Date
- 2017-12-21 21:03:44
- ID
- 6e00f64c-e692-11e7-9c83-c78c39f474c2
This distribution has been tested as part of the CPAN Testers
project, supporting the Perl programming language. See
http://wiki.cpantesters.org/ for more information or email
questions to cpan-testers-discuss@perl.org
--
Dear Sebastien Feugere,
This is a computer-generated report for Dependencies-Searcher-0.066_005
on perl 5.27.6, created by CPAN-Reporter-1.2018.
Thank you for uploading your work to CPAN. Congratulations!
All tests were successful.
Sections of this report:
* Tester comments
* Program output
* Prerequisites
* Environment and other context
------------------------------
TESTER COMMENTS
------------------------------
Additional comments from tester:
this report is from an automated smoke testing program
and was not reviewed by a human for accuracy
------------------------------
PROGRAM OUTPUT
------------------------------
Output from '/usr/bin/make test':
PERL_DL_NONLAZY=1 "/home/sand/src/perl/repoperls/installed-perls/host/k93msid/v5.27.6/89ad/bin/perl" "-MExtUtils::Command::MM" "-MTest::Harness" "-e" "undef *Test::Harness::Switches; test_harness(0, 'blib/lib', 'blib/arch')" t/*.t
# Testing Dependencies::Searcher 0.066_005, Perl 5.027006, /home/sand/src/perl/repoperls/installed-perls/host/k93msid/v5.27.6/89ad/bin/perl
t/00-load.t ............... ok
t/01_corelist.t ........... ok
t/02_get_files.t .......... ok
[
[0] "use 5.010;",
[1] "use Data::Printer;",
[2] "use feature qw(say);",
[3] "use Module::CoreList;",
[4] "use Module::Version 'get_version';",
[5] "use autodie;",
[6] "use Moose;",
[7] "use IO::File; ",
[8] "use File::HomeDir;",
[9] "use Version::Compare;",
[10] "use Path::Class;",
[11] "use ExtUtils::Installed;",
[12] "use File::Next;",
[13] "use PPI;",
[14] "use Term::ANSIColor;",
[15] "use \s",
[16] "use 5.010;",
[17] "use strict;",
[18] "use warnings FATAL => 'all';",
[19] "use ExtUtils::MakeMaker;"
]
t/03-get_modules.t ........ ok
t/04-avoid-superfluous.t .. ok
t/05-regex-cleaner.t ...... ok
[
[0] "use 5.010;",
[1] "use Data::Printer;",
[2] "use feature qw(say);",
[3] "use Module::CoreList;",
[4] "use Module::Version 'get_version';",
[5] "use autodie;",
[6] "use Moose;",
[7] "use IO::File; ",
[8] "use File::HomeDir;",
[9] "use Version::Compare;",
[10] "use Path::Class;",
[11] "use ExtUtils::Installed;",
[12] "use File::Next;",
[13] "use PPI;",
[14] "use Term::ANSIColor;",
[15] "use \s",
[16] "use 5.010;",
[17] "use strict;",
[18] "use warnings FATAL => 'all';",
[19] "use ExtUtils::MakeMaker;"
]
[]
t/06-regex-pattern.t ...... ok
t/10-cpanfile.t ........... ok
t/manifest.t .............. skipped: Author tests not required for installation
t/pod-coverage.t .......... ok
t/pod.t ................... ok
All tests successful.
Files=11, Tests=372, 16 wallclock secs ( 0.08 usr 0.05 sys + 4.83 cusr 0.77 csys = 5.73 CPU)
Result: PASS
------------------------------
PREREQUISITES
------------------------------
Prerequisite modules loaded:
requires:
Module Need Have
------------------- ---------- ----------
Data::Printer 0.35 0.40
File::HomeDir 1 1.002
File::Next 1.12 1.16
Module::CoreList 5.20160429 5.20171120
Module::Version 0.12 0.12
Moose 2.0602 2.2007
Path::Class 0.32 0.37
perl 5.010 5.027006
PPI 1.22 1.236
Version::Compare 0.14 0.14
build_requires:
Module Need Have
------------------- ---------- ----------
IO::File 0 1.16
Module::Version 0.12 0.12
Test::More 0 1.302120
Test::Pod 1.48 1.51
Test::Pod::Coverage 1.08 1.10
configure_requires:
Module Need Have
------------------- ---------- ----------
ExtUtils::MakeMaker 6.74 7.30
------------------------------
ENVIRONMENT AND OTHER CONTEXT
------------------------------
Environment variables:
AUTOMATED_TESTING = 1
LANG = en_US.UTF-8
PATH = /home/sand/bin:/usr/local/bin:/usr/bin:/bin:/usr/games:/usr/local/perl/bin:/usr/X11/bin:/sbin:/usr/sbin
PERL5LIB = /tmp/loop_over_bdir-10181-ZeGyzo/Version-Compare-0.14-0/blib/arch:/tmp/loop_over_bdir-10181-ZeGyzo/Version-Compare-0.14-0/blib/lib:/tmp/loop_over_bdir-10181-ZeGyzo/Module-Version-0.12-0/blib/arch:/tmp/loop_over_bdir-10181-ZeGyzo/Module-Version-0.12-0/blib/lib
PERL5OPT =
PERL5_CPANPLUS_IS_RUNNING = 10184
PERL5_CPAN_IS_RUNNING = 10184
PERL5_CPAN_IS_RUNNING_IN_RECURSION = 5733,10184
PERL_CANARY_STABILITY_NOPROMPT = 1
PERL_MM_USE_DEFAULT = 1
PERL_USE_UNSAFE_INC = 1
SHELL = /usr/bin/zsh
TERM = screen
Perl special variables (and OS-specific diagnostics, for MSWin32):
$^X = /home/sand/src/perl/repoperls/installed-perls/host/k93msid/v5.27.6/89ad/bin/perl
$UID/$EUID = 1005 / 1005
$GID = 1005 1005
$EGID = 1005 1005
Perl module toolchain versions installed:
Module Have
------------------- --------
CPAN 2.19
CPAN::Meta 2.150010
Cwd 3.70
ExtUtils::CBuilder 0.280229
ExtUtils::Command 7.30
ExtUtils::Install 2.14
ExtUtils::MakeMaker 7.30
ExtUtils::Manifest 1.70
ExtUtils::ParseXS 3.36_03
File::Spec 3.69
JSON 2.97000
JSON::PP 2.94
Module::Build 0.4224
Module::Signature 0.81
Parse::CPAN::Meta 2.150010
Test::Harness 3.39
Test::More 1.302120
YAML 1.24
YAML::Syck 1.30
version 0.9918
--
Summary of my perl5 (revision 5 version 27 subversion 6) configuration:
Commit id: a3072a5a89c335e0c594906b9be767ce80e3121b
Platform:
osname=linux
osvers=4.12.0-2-amd64
archname=x86_64-linux
uname='linux k93msid 4.12.0-2-amd64 #1 smp debian 4.12.13-1 (2017-09-19) x86_64 gnulinux '
config_args='-Dprefix=/home/sand/src/perl/repoperls/installed-perls/host/k93msid/v5.27.6/89ad -Dmyhostname=k93msid -Dinstallusrbinperl=n -Uversiononly -Dusedevel -des -Ui_db -Dlibswanted=cl pthread socket inet nsl gdbm dbm malloc dl ld sun m crypt sec util c cposix posix ucb BSD gdbm_compat -Uuseithreads -Uuselongdouble -DDEBUGGING=-g'
hint=recommended
useposix=true
d_sigaction=define
useithreads=undef
usemultiplicity=undef
use64bitint=define
use64bitall=define
uselongdouble=undef
usemymalloc=n
default_inc_excludes_dot=define
bincompat5005=undef
Compiler:
cc='cc'
ccflags ='-fwrapv -fno-strict-aliasing -pipe -fstack-protector-strong -I/usr/local/include -D_LARGEFILE_SOURCE -D_FILE_OFFSET_BITS=64 -D_FORTIFY_SOURCE=2'
optimize='-O2 -g'
cppflags='-fwrapv -fno-strict-aliasing -pipe -fstack-protector-strong -I/usr/local/include'
ccversion=''
gccversion='7.2.0'
gccosandvers=''
intsize=4
longsize=8
ptrsize=8
doublesize=8
byteorder=12345678
doublekind=3
d_longlong=define
longlongsize=8
d_longdbl=define
longdblsize=16
longdblkind=3
ivtype='long'
ivsize=8
nvtype='double'
nvsize=8
Off_t='off_t'
lseeksize=8
alignbytes=8
prototype=define
Linker and Libraries:
ld='cc'
ldflags =' -fstack-protector-strong -L/usr/local/lib'
libpth=/usr/local/lib /usr/lib/gcc/x86_64-linux-gnu/7/include-fixed /usr/include/x86_64-linux-gnu /usr/lib /lib/x86_64-linux-gnu /lib/../lib /usr/lib/x86_64-linux-gnu /usr/lib/../lib /lib
libs=-lpthread -lnsl -ldl -lm -lcrypt -lutil -lc
perllibs=-lpthread -lnsl -ldl -lm -lcrypt -lutil -lc
libc=libc-2.24.so
so=so
useshrplib=false
libperl=libperl.a
gnulibc_version='2.24'
Dynamic Linking:
dlsrc=dl_dlopen.xs
dlext=so
d_dlsymun=undef
ccdlflags='-Wl,-E'
cccdlflags='-fPIC'
lddlflags='-shared -O2 -g -L/usr/local/lib -fstack-protector-strong'
Characteristics of this binary (from libperl):
Compile-time options:
HAS_TIMES
PERLIO_LAYERS
PERL_COPY_ON_WRITE
PERL_DONT_CREATE_GVSV
PERL_MALLOC_WRAP
PERL_OP_PARENT
PERL_PRESERVE_IVUV
PERL_USE_DEVEL
USE_64_BIT_ALL
USE_64_BIT_INT
USE_LARGE_FILES
USE_LOCALE
USE_LOCALE_COLLATE
USE_LOCALE_CTYPE
USE_LOCALE_NUMERIC
USE_LOCALE_TIME
USE_PERLIO
USE_PERL_ATOF
Built under linux
Compiled at Nov 21 2017 07:05:44
%ENV:
PERL5LIB="/tmp/loop_over_bdir-10181-ZeGyzo/Version-Compare-0.14-0/blib/arch:/tmp/loop_over_bdir-10181-ZeGyzo/Version-Compare-0.14-0/blib/lib:/tmp/loop_over_bdir-10181-ZeGyzo/Module-Version-0.12-0/blib/arch:/tmp/loop_over_bdir-10181-ZeGyzo/Module-Version-0.12-0/blib/lib"
PERL5OPT=""
PERL5_CPANPLUS_IS_RUNNING="10184"
PERL5_CPAN_IS_RUNNING="10184"
PERL5_CPAN_IS_RUNNING_IN_RECURSION="5733,10184"
PERL_CANARY_STABILITY_NOPROMPT="1"
PERL_MM_USE_DEFAULT="1"
PERL_USE_UNSAFE_INC="1"
@INC:
/tmp/loop_over_bdir-10181-ZeGyzo/Version-Compare-0.14-0/blib/arch
/tmp/loop_over_bdir-10181-ZeGyzo/Version-Compare-0.14-0/blib/lib
/tmp/loop_over_bdir-10181-ZeGyzo/Module-Version-0.12-0/blib/arch
/tmp/loop_over_bdir-10181-ZeGyzo/Module-Version-0.12-0/blib/lib
/home/sand/src/perl/repoperls/installed-perls/host/k93msid/v5.27.6/89ad/lib/site_perl/5.27.6/x86_64-linux
/home/sand/src/perl/repoperls/installed-perls/host/k93msid/v5.27.6/89ad/lib/site_perl/5.27.6
/home/sand/src/perl/repoperls/installed-perls/host/k93msid/v5.27.6/89ad/lib/5.27.6/x86_64-linux
/home/sand/src/perl/repoperls/installed-perls/host/k93msid/v5.27.6/89ad/lib/5.27.6
.