Report for MozRepl-0.06

Back
From: metabase:user:30f4dfbe-2aae-11df-837a-5e0a49663a4f
Subject: PASS MozRepl-0.06 v5.8.9 GNU/Linux
Date: 2011-07-02T15:39:10Z

This distribution has been tested as part of the CPAN Testers
project, supporting the Perl programming language.  See
http://wiki.cpantesters.org/ for more information or email
questions to cpan-testers-discuss@perl.org


--
Dear Toru Yamaguchi,

This is a computer-generated report for MozRepl-0.06
on perl 5.8.9 patch 35104, created by CPAN-Reporter-1.1902.

Thank you for uploading your work to CPAN.  Congratulations!
All tests were successful.

Sections of this report:

    * Tester comments
    * Program output
    * Prerequisites
    * Environment and other context

------------------------------
TESTER COMMENTS
------------------------------

Additional comments from tester:

this report is from an automated smoke testing program
and was not reviewed by a human for accuracy

------------------------------
PROGRAM OUTPUT
------------------------------

Output from '/usr/bin/make test':

/usr/local/bin/perl5.8.9 "-Iinc" Makefile.PL --config= --installdeps=Data::JavaScript::Anon,0,Module::Pluggable::Fast,0,Template::Provider::FromDATA,0,Text::SimpleTable,0
PERL_DL_NONLAZY=1 /usr/local/bin/perl5.8.9 "-MExtUtils::Command::MM" "-e" "test_harness(0, 'inc', 'blib/lib', 'blib/arch')" t/00-load.t t/10-plugin-repl-enter.t t/11-plugin-repl-search.t t/12-plugin-repl-inspect.t t/13-plugin-repl-load.t t/14-plugin-repl-rename.t t/15-plugin-repl-print.t t/16-plugin-repl-home.t t/17-plugin-repl-back.t t/18-plugin-repl-util-help_url_for.t t/19-plugin-repl-util-doc_for.t t/20-plugin-json.t t/pod-coverage.t t/pod.t
# Testing MozRepl 0.06
t/00-load.t ........................... ok
[DEBUG] MozRepl logging enabled
[DEBUG] 
---- Client arguments ----
.----------------------+------------------------------------------.
| client_arg_name      | client_arg_value                         |
+----------------------+------------------------------------------+
| host                 | localhost                                |
| port                 | 4242                                     |
| timeout              | 10                                       |
| extra_client_args    | {}                                       |
'----------------------+------------------------------------------'
t/10-plugin-repl-enter.t .............. ok
[DEBUG] MozRepl logging enabled
[DEBUG] 
---- Client arguments ----
.----------------------+------------------------------------------.
| client_arg_name      | client_arg_value                         |
+----------------------+------------------------------------------+
| host                 | localhost                                |
| port                 | 4242                                     |
| timeout              | 10                                       |
| extra_client_args    | {}                                       |
'----------------------+------------------------------------------'
t/11-plugin-repl-search.t ............. ok
[DEBUG] MozRepl logging enabled
[DEBUG] 
---- Client arguments ----
.----------------------+------------------------------------------.
| client_arg_name      | client_arg_value                         |
+----------------------+------------------------------------------+
| host                 | localhost                                |
| port                 | 4242                                     |
| timeout              | 10                                       |
| extra_client_args    | {}                                       |
'----------------------+------------------------------------------'
t/12-plugin-repl-inspect.t ............ ok
[DEBUG] MozRepl logging enabled
[DEBUG] 
---- Client arguments ----
.----------------------+------------------------------------------.
| client_arg_name      | client_arg_value                         |
+----------------------+------------------------------------------+
| host                 | localhost                                |
| port                 | 4242                                     |
| timeout              | 10                                       |
| extra_client_args    | {}                                       |
'----------------------+------------------------------------------'
t/13-plugin-repl-load.t ............... ok
[DEBUG] MozRepl logging enabled
[DEBUG] 
---- Client arguments ----
.----------------------+------------------------------------------.
| client_arg_name      | client_arg_value                         |
+----------------------+------------------------------------------+
| host                 | localhost                                |
| port                 | 4242                                     |
| timeout              | 10                                       |
| extra_client_args    | {}                                       |
'----------------------+------------------------------------------'
t/14-plugin-repl-rename.t ............. ok
[DEBUG] MozRepl logging enabled
[DEBUG] 
---- Client arguments ----
.----------------------+------------------------------------------.
| client_arg_name      | client_arg_value                         |
+----------------------+------------------------------------------+
| host                 | localhost                                |
| port                 | 4242                                     |
| timeout              | 10                                       |
| extra_client_args    | {}                                       |
'----------------------+------------------------------------------'
t/15-plugin-repl-print.t .............. ok
[DEBUG] MozRepl logging enabled
[DEBUG] 
---- Client arguments ----
.----------------------+------------------------------------------.
| client_arg_name      | client_arg_value                         |
+----------------------+------------------------------------------+
| host                 | localhost                                |
| port                 | 4242                                     |
| timeout              | 10                                       |
| extra_client_args    | {}                                       |
'----------------------+------------------------------------------'
t/16-plugin-repl-home.t ............... ok
[DEBUG] MozRepl logging enabled
[DEBUG] 
---- Client arguments ----
.----------------------+------------------------------------------.
| client_arg_name      | client_arg_value                         |
+----------------------+------------------------------------------+
| host                 | localhost                                |
| port                 | 4242                                     |
| timeout              | 10                                       |
| extra_client_args    | {}                                       |
'----------------------+------------------------------------------'
t/17-plugin-repl-back.t ............... ok
[DEBUG] MozRepl logging enabled
[DEBUG] 
---- Client arguments ----
.----------------------+------------------------------------------.
| client_arg_name      | client_arg_value                         |
+----------------------+------------------------------------------+
| host                 | localhost                                |
| port                 | 4242                                     |
| timeout              | 10                                       |
| extra_client_args    | {}                                       |
'----------------------+------------------------------------------'
t/18-plugin-repl-util-help_url_for.t .. ok
[DEBUG] MozRepl logging enabled
[DEBUG] 
---- Client arguments ----
.----------------------+------------------------------------------.
| client_arg_name      | client_arg_value                         |
+----------------------+------------------------------------------+
| host                 | localhost                                |
| port                 | 4242                                     |
| timeout              | 10                                       |
| extra_client_args    | {}                                       |
'----------------------+------------------------------------------'
t/19-plugin-repl-util-doc_for.t ....... ok
[DEBUG] MozRepl logging enabled
[DEBUG] 
---- Client arguments ----
.----------------------+------------------------------------------.
| client_arg_name      | client_arg_value                         |
+----------------------+------------------------------------------+
| host                 | localhost                                |
| port                 | 4242                                     |
| timeout              | 10                                       |
| extra_client_args    | {}                                       |
'----------------------+------------------------------------------'
t/20-plugin-json.t .................... ok
t/pod-coverage.t ...................... ok
t/pod.t ............................... ok
All tests successful.
Files=14, Tests=74,  2 wallclock secs ( 0.09 usr  0.04 sys +  1.50 cusr  0.30 csys =  1.93 CPU)
Result: PASS

------------------------------
PREREQUISITES
------------------------------

Prerequisite modules loaded:

requires:

    Module                       Need Have
    ---------------------------- ---- ----
    Carp::Clan                   0    6.04
    Class::Accessor::Fast        0    0.34
    Class::Data::Inheritable     0    0.08
    Data::Dump                   0    1.19
    Data::JavaScript::Anon       0    1.03
    File::Spec                   0    3.33
    Module::Pluggable::Fast      0    0.19
    Net::Telnet                  0    3.03
    Template                     0    2.22
    Template::Provider::FromDATA 0    0.11
    Text::SimpleTable            0    2.03
    UNIVERSAL::require           0    0.13
    URI                          0    1.58


------------------------------
ENVIRONMENT AND OTHER CONTEXT
------------------------------

Environment variables:

    AUTOMATED_TESTING = 1
    LANG = en_US.UTF-8
    PATH = /usr/bin:/bin
    PERL5LIB = /home/njh/.local/share/.cpan/build/Data-JavaScript-Anon-1.03-zrsDeC/blib/arch:/home/njh/.local/share/.cpan/build/Data-JavaScript-Anon-1.03-zrsDeC/blib/lib:/home/njh/.local/share/.cpan/build/Class-Default-1.51-_L0d4V/blib/arch:/home/njh/.local/share/.cpan/build/Class-Default-1.51-_L0d4V/blib/lib:/home/njh/.local/share/.cpan/build/Text-SimpleTable-2.03-Vx2V68/blib/arch:/home/njh/.local/share/.cpan/build/Text-SimpleTable-2.03-Vx2V68/blib/lib:/home/njh/.local/share/.cpan/build/Template-Provider-FromDATA-0.11-_8jmnf/blib/arch:/home/njh/.local/share/.cpan/build/Template-Provider-FromDATA-0.11-_8jmnf/blib/lib:/home/njh/.local/share/.cpan/build/Module-Pluggable-Fast-0.19-Bfwi7G/blib/arch:/home/njh/.local/share/.cpan/build/Module-Pluggable-Fast-0.19-Bfwi7G/blib/lib:/home/njh/.local/share/.cpan/build/Shell-Command-0.06-dEoSSK/blib/arch:/home/njh/.local/share/.cpan/build/Shell-Command-0.06-dEoSSK/blib/lib:/home/njh/.local/share/.cpan/build/Object-Import-1.002-oWmE9Y/blib/arch:/home/njh/.local/share/.cpan/build/Object-Import-1.002-oWmE9Y/blib/lib:/home/njh/.local/share/.cpan/build/WWW-Mechanize-1.68-07_nrX/blib/arch:/home/njh/.local/share/.cpan/build/WWW-Mechanize-1.68-07_nrX/blib/lib
    PERL5OPT = 
    PERL5_CPANPLUS_IS_RUNNING = 29048
    PERL5_CPAN_IS_RUNNING = 29048
    PERL5_MINISMOKEBOX = 0.44
    PERL_EXTUTILS_AUTOINSTALL = --defaultdeps
    PERL_MM_USE_DEFAULT = 1
    SHELL = /bin/sh

Perl special variables (and OS-specific diagnostics, for MSWin32):

    $^X = /usr/local/bin/perl5.8.9
    $UID/$EUID = 1000 / 1000
    $GID = 1000 20 24 25 29 44 46 104 112 1000
    $EGID = 1000 20 24 25 29 44 46 104 112 1000

Perl module toolchain versions installed:

    Module              Have    
    ------------------- --------
    CPAN                1.9600  
    Cwd                 3.33    
    ExtUtils::CBuilder  0.280202
    ExtUtils::Command   1.16    
    ExtUtils::Install   1.54    
    ExtUtils::MakeMaker 6.56    
    ExtUtils::Manifest  1.58    
    ExtUtils::ParseXS   2.2206  
    File::Spec          3.33    
    Module::Build       0.3800  
    Module::Signature   0.66    
    Test::Harness       3.23    
    Test::More          0.98    
    YAML                0.72    
    YAML::Syck          1.17    
    version             0.88    


--

Summary of my perl5 (revision 5 version 8 subversion 9 patch 35104) configuration:
  Platform:
    osname=linux, osvers=2.6.32-5-amd64, archname=x86_64-linux-thread-multi-ld
    uname='linux compaq 2.6.32-5-amd64 #1 smp fri sep 17 21:50:19 utc 2010 x86_64 gnulinux '
    config_args='-des -Dusedevel -Duseithreads -Dusemorebits -DDEBUGGING'
    hint=recommended, useposix=true, d_sigaction=define
    usethreads=define use5005threads=undef useithreads=define usemultiplicity=define
    useperlio=define d_sfio=undef uselargefiles=define usesocks=undef
    use64bitint=define use64bitall=define uselongdouble=define
    usemymalloc=n, bincompat5005=undef
  Compiler:
    cc='cc', ccflags ='-D_REENTRANT -D_GNU_SOURCE -DTHREADS_HAVE_PIDS -DDEBUGGING -DDEBUGGING -fno-strict-aliasing -pipe -I/usr/local/include -D_LARGEFILE_SOURCE -D_FILE_OFFSET_BITS=64',
    optimize='-O2 -g',
    cppflags='-D_REENTRANT -D_GNU_SOURCE -DTHREADS_HAVE_PIDS -DDEBUGGING -DDEBUGGING -fno-strict-aliasing -pipe -I/usr/local/include'
    ccversion='', gccversion='4.4.5 20100728 (prerelease)', gccosandvers=''
    intsize=4, longsize=8, ptrsize=8, doublesize=8, byteorder=12345678
    d_longlong=define, longlongsize=8, d_longdbl=define, longdblsize=16
    ivtype='long', ivsize=8, nvtype='long double', nvsize=16, Off_t='off_t', lseeksize=8
    alignbytes=16, prototype=define
  Linker and Libraries:
    ld='cc', ldflags =' -L/usr/local/lib'
    libpth=/usr/local/lib /lib /usr/lib /lib64 /usr/lib64
    libs=-lnsl -ldb -ldl -lm -lcrypt -lutil -lpthread -lc
    perllibs=-lnsl -ldl -lm -lcrypt -lutil -lpthread -lc
    libc=/lib/libc-2.11.2.so, so=so, useshrplib=false, libperl=libperl.a
    gnulibc_version='2.11.2'
  Dynamic Linking:
    dlsrc=dl_dlopen.xs, dlext=so, d_dlsymun=undef, ccdlflags='-Wl,-E'
    cccdlflags='-fPIC', lddlflags='-shared -O2 -g -L/usr/local/lib'


Characteristics of this binary (from libperl): 
  Compile-time options: DEBUGGING MULTIPLICITY PERL_IMPLICIT_CONTEXT
                        PERL_MALLOC_WRAP THREADS_HAVE_PIDS USE_64_BIT_ALL
                        USE_64_BIT_INT USE_FAST_STDIO USE_ITHREADS
                        USE_LARGE_FILES USE_LONG_DOUBLE USE_PERLIO
                        USE_REENTRANT_API
  Locally applied patches:
	MAINT35104
	SMOKE7d6ecb1f6c7eabec011b66526161fcf678919c99
  Built under linux
  Compiled at Sep 23 2010 18:37:37
  %ENV:
    PERL5LIB="/home/njh/.local/share/.cpan/build/Data-JavaScript-Anon-1.03-zrsDeC/blib/arch:/home/njh/.local/share/.cpan/build/Data-JavaScript-Anon-1.03-zrsDeC/blib/lib:/home/njh/.local/share/.cpan/build/Class-Default-1.51-_L0d4V/blib/arch:/home/njh/.local/share/.cpan/build/Class-Default-1.51-_L0d4V/blib/lib:/home/njh/.local/share/.cpan/build/Text-SimpleTable-2.03-Vx2V68/blib/arch:/home/njh/.local/share/.cpan/build/Text-SimpleTable-2.03-Vx2V68/blib/lib:/home/njh/.local/share/.cpan/build/Template-Provider-FromDATA-0.11-_8jmnf/blib/arch:/home/njh/.local/share/.cpan/build/Template-Provider-FromDATA-0.11-_8jmnf/blib/lib:/home/njh/.local/share/.cpan/build/Module-Pluggable-Fast-0.19-Bfwi7G/blib/arch:/home/njh/.local/share/.cpan/build/Module-Pluggable-Fast-0.19-Bfwi7G/blib/lib:/home/njh/.local/share/.cpan/build/Shell-Command-0.06-dEoSSK/blib/arch:/home/njh/.local/share/.cpan/build/Shell-Command-0.06-dEoSSK/blib/lib:/home/njh/.local/share/.cpan/build/Object-Import-1.002-oWmE9Y/blib/arch:/home/njh/.local/share/.cpan/build/Object-Import-1.002-oWmE9Y/blib/lib:/home/njh/.local/share/.cpan/build/WWW-Mechanize-1.68-07_nrX/blib/arch:/home/njh/.local/share/.cpan/build/WWW-Mechanize-1.68-07_nrX/blib/lib"
    PERL5OPT=""
    PERL5_CPANPLUS_IS_RUNNING="29048"
    PERL5_CPAN_IS_RUNNING="29048"
    PERL5_MINISMOKEBOX="0.44"
    PERL_EXTUTILS_AUTOINSTALL="--defaultdeps"
    PERL_MM_USE_DEFAULT="1"
  @INC:
    /home/njh/.local/share/.cpan/build/Data-JavaScript-Anon-1.03-zrsDeC/blib/arch
    /home/njh/.local/share/.cpan/build/Data-JavaScript-Anon-1.03-zrsDeC/blib/lib
    /home/njh/.local/share/.cpan/build/Class-Default-1.51-_L0d4V/blib/arch
    /home/njh/.local/share/.cpan/build/Class-Default-1.51-_L0d4V/blib/lib
    /home/njh/.local/share/.cpan/build/Text-SimpleTable-2.03-Vx2V68/blib/arch
    /home/njh/.local/share/.cpan/build/Text-SimpleTable-2.03-Vx2V68/blib/lib
    /home/njh/.local/share/.cpan/build/Template-Provider-FromDATA-0.11-_8jmnf/blib/arch
    /home/njh/.local/share/.cpan/build/Template-Provider-FromDATA-0.11-_8jmnf/blib/lib
    /home/njh/.local/share/.cpan/build/Module-Pluggable-Fast-0.19-Bfwi7G/blib/arch
    /home/njh/.local/share/.cpan/build/Module-Pluggable-Fast-0.19-Bfwi7G/blib/lib
    /home/njh/.local/share/.cpan/build/Shell-Command-0.06-dEoSSK/blib/arch
    /home/njh/.local/share/.cpan/build/Shell-Command-0.06-dEoSSK/blib/lib
    /home/njh/.local/share/.cpan/build/Object-Import-1.002-oWmE9Y/blib/arch
    /home/njh/.local/share/.cpan/build/Object-Import-1.002-oWmE9Y/blib/lib
    /home/njh/.local/share/.cpan/build/WWW-Mechanize-1.68-07_nrX/blib/arch
    /home/njh/.local/share/.cpan/build/WWW-Mechanize-1.68-07_nrX/blib/lib
    /usr/local/lib/perl5/5.8.9/x86_64-linux-thread-multi-ld
    /usr/local/lib/perl5/5.8.9
    /usr/local/lib/perl5/site_perl/5.8.9/x86_64-linux-thread-multi-ld
    /usr/local/lib/perl5/site_perl/5.8.9
    .